BEGIN:VCALENDAR
VERSION:2.0
PRODID:-//Thee Office Pub - ECPv6.7.1//NONSGML v1.0//EN
CALSCALE:GREGORIAN
METHOD:PUBLISH
X-WR-CALNAME:Thee Office Pub
X-ORIGINAL-URL:https://theeofficepub.com
X-WR-CALDESC:Events for Thee Office Pub
REFRESH-INTERVAL;VALUE=DURATION:PT1H
X-Robots-Tag:noindex
X-PUBLISHED-TTL:PT1H
BEGIN:VTIMEZONE
TZID:America/Detroit
BEGIN:DAYLIGHT
TZOFFSETFROM:-0500
TZOFFSETTO:-0400
TZNAME:EDT
DTSTART:20260308T070000
END:DAYLIGHT
BEGIN:STANDARD
TZOFFSETFROM:-0400
TZOFFSETTO:-0500
TZNAME:EST
DTSTART:20261101T060000
END:STANDARD
END:VTIMEZONE
BEGIN:VEVENT
DTSTART;VALUE=DATE:20260421
DTEND;VALUE=DATE:20260422
DTSTAMP:20260419T151440
CREATED:20150419T232045Z
LAST-MODIFIED:20150419T232045Z
UID:10096-1776729600-1776815999@theeofficepub.com
SUMMARY:Burger & Brew
DESCRIPTION:1/2 lb. Burger\, Fries and Cold Pint or Fountain Pop for $9
URL:https://theeofficepub.com/event/burger-brew/2026-04-21/
LOCATION:Thee Office Pub\, 128 South Main Street\, Romeo\, MI\, 48065\, United States
GEO:42.801722;-83.013685
X-APPLE-STRUCTURED-LOCATION;VALUE=URI;X-ADDRESS=Thee Office Pub 128 South Main Street Romeo MI 48065 United States;X-APPLE-RADIUS=500;X-TITLE=128 South Main Street:geo:-83.013685,42.801722
END:VEVENT
BEGIN:VEVENT
DTSTART;VALUE=DATE:20260428
DTEND;VALUE=DATE:20260429
DTSTAMP:20260419T151440
CREATED:20150419T232045Z
LAST-MODIFIED:20150419T232045Z
UID:10097-1777334400-1777420799@theeofficepub.com
SUMMARY:Burger & Brew
DESCRIPTION:1/2 lb. Burger\, Fries and Cold Pint or Fountain Pop for $9
URL:https://theeofficepub.com/event/burger-brew/2026-04-28/
LOCATION:Thee Office Pub\, 128 South Main Street\, Romeo\, MI\, 48065\, United States
GEO:42.801722;-83.013685
X-APPLE-STRUCTURED-LOCATION;VALUE=URI;X-ADDRESS=Thee Office Pub 128 South Main Street Romeo MI 48065 United States;X-APPLE-RADIUS=500;X-TITLE=128 South Main Street:geo:-83.013685,42.801722
END:VEVENT
BEGIN:VEVENT
DTSTART;VALUE=DATE:20260505
DTEND;VALUE=DATE:20260506
DTSTAMP:20260419T151440
CREATED:20150419T232045Z
LAST-MODIFIED:20150419T232045Z
UID:10098-1777939200-1778025599@theeofficepub.com
SUMMARY:Burger & Brew
DESCRIPTION:1/2 lb. Burger\, Fries and Cold Pint or Fountain Pop for $9
URL:https://theeofficepub.com/event/burger-brew/2026-05-05/
LOCATION:Thee Office Pub\, 128 South Main Street\, Romeo\, MI\, 48065\, United States
GEO:42.801722;-83.013685
X-APPLE-STRUCTURED-LOCATION;VALUE=URI;X-ADDRESS=Thee Office Pub 128 South Main Street Romeo MI 48065 United States;X-APPLE-RADIUS=500;X-TITLE=128 South Main Street:geo:-83.013685,42.801722
END:VEVENT
BEGIN:VEVENT
DTSTART;VALUE=DATE:20260512
DTEND;VALUE=DATE:20260513
DTSTAMP:20260419T151440
CREATED:20150419T232045Z
LAST-MODIFIED:20150419T232045Z
UID:10099-1778544000-1778630399@theeofficepub.com
SUMMARY:Burger & Brew
DESCRIPTION:1/2 lb. Burger\, Fries and Cold Pint or Fountain Pop for $9
URL:https://theeofficepub.com/event/burger-brew/2026-05-12/
LOCATION:Thee Office Pub\, 128 South Main Street\, Romeo\, MI\, 48065\, United States
GEO:42.801722;-83.013685
X-APPLE-STRUCTURED-LOCATION;VALUE=URI;X-ADDRESS=Thee Office Pub 128 South Main Street Romeo MI 48065 United States;X-APPLE-RADIUS=500;X-TITLE=128 South Main Street:geo:-83.013685,42.801722
END:VEVENT
BEGIN:VEVENT
DTSTART;VALUE=DATE:20260519
DTEND;VALUE=DATE:20260520
DTSTAMP:20260419T151440
CREATED:20150419T232045Z
LAST-MODIFIED:20150419T232045Z
UID:10100-1779148800-1779235199@theeofficepub.com
SUMMARY:Burger & Brew
DESCRIPTION:1/2 lb. Burger\, Fries and Cold Pint or Fountain Pop for $9
URL:https://theeofficepub.com/event/burger-brew/2026-05-19/
LOCATION:Thee Office Pub\, 128 South Main Street\, Romeo\, MI\, 48065\, United States
GEO:42.801722;-83.013685
X-APPLE-STRUCTURED-LOCATION;VALUE=URI;X-ADDRESS=Thee Office Pub 128 South Main Street Romeo MI 48065 United States;X-APPLE-RADIUS=500;X-TITLE=128 South Main Street:geo:-83.013685,42.801722
END:VEVENT
BEGIN:VEVENT
DTSTART;VALUE=DATE:20260526
DTEND;VALUE=DATE:20260527
DTSTAMP:20260419T151440
CREATED:20150419T232045Z
LAST-MODIFIED:20150419T232045Z
UID:10101-1779753600-1779839999@theeofficepub.com
SUMMARY:Burger & Brew
DESCRIPTION:1/2 lb. Burger\, Fries and Cold Pint or Fountain Pop for $9
URL:https://theeofficepub.com/event/burger-brew/2026-05-26/
LOCATION:Thee Office Pub\, 128 South Main Street\, Romeo\, MI\, 48065\, United States
GEO:42.801722;-83.013685
X-APPLE-STRUCTURED-LOCATION;VALUE=URI;X-ADDRESS=Thee Office Pub 128 South Main Street Romeo MI 48065 United States;X-APPLE-RADIUS=500;X-TITLE=128 South Main Street:geo:-83.013685,42.801722
END:VEVENT
BEGIN:VEVENT
DTSTART;VALUE=DATE:20260602
DTEND;VALUE=DATE:20260603
DTSTAMP:20260419T151440
CREATED:20150419T232045Z
LAST-MODIFIED:20150419T232045Z
UID:10102-1780358400-1780444799@theeofficepub.com
SUMMARY:Burger & Brew
DESCRIPTION:1/2 lb. Burger\, Fries and Cold Pint or Fountain Pop for $9
URL:https://theeofficepub.com/event/burger-brew/2026-06-02/
LOCATION:Thee Office Pub\, 128 South Main Street\, Romeo\, MI\, 48065\, United States
GEO:42.801722;-83.013685
X-APPLE-STRUCTURED-LOCATION;VALUE=URI;X-ADDRESS=Thee Office Pub 128 South Main Street Romeo MI 48065 United States;X-APPLE-RADIUS=500;X-TITLE=128 South Main Street:geo:-83.013685,42.801722
END:VEVENT
BEGIN:VEVENT
DTSTART;VALUE=DATE:20260609
DTEND;VALUE=DATE:20260610
DTSTAMP:20260419T151440
CREATED:20150419T232045Z
LAST-MODIFIED:20150419T232045Z
UID:10103-1780963200-1781049599@theeofficepub.com
SUMMARY:Burger & Brew
DESCRIPTION:1/2 lb. Burger\, Fries and Cold Pint or Fountain Pop for $9
URL:https://theeofficepub.com/event/burger-brew/2026-06-09/
LOCATION:Thee Office Pub\, 128 South Main Street\, Romeo\, MI\, 48065\, United States
GEO:42.801722;-83.013685
X-APPLE-STRUCTURED-LOCATION;VALUE=URI;X-ADDRESS=Thee Office Pub 128 South Main Street Romeo MI 48065 United States;X-APPLE-RADIUS=500;X-TITLE=128 South Main Street:geo:-83.013685,42.801722
END:VEVENT
BEGIN:VEVENT
DTSTART;VALUE=DATE:20260616
DTEND;VALUE=DATE:20260617
DTSTAMP:20260419T151440
CREATED:20150419T232045Z
LAST-MODIFIED:20150419T232045Z
UID:10104-1781568000-1781654399@theeofficepub.com
SUMMARY:Burger & Brew
DESCRIPTION:1/2 lb. Burger\, Fries and Cold Pint or Fountain Pop for $9
URL:https://theeofficepub.com/event/burger-brew/2026-06-16/
LOCATION:Thee Office Pub\, 128 South Main Street\, Romeo\, MI\, 48065\, United States
GEO:42.801722;-83.013685
X-APPLE-STRUCTURED-LOCATION;VALUE=URI;X-ADDRESS=Thee Office Pub 128 South Main Street Romeo MI 48065 United States;X-APPLE-RADIUS=500;X-TITLE=128 South Main Street:geo:-83.013685,42.801722
END:VEVENT
BEGIN:VEVENT
DTSTART;VALUE=DATE:20260623
DTEND;VALUE=DATE:20260624
DTSTAMP:20260419T151440
CREATED:20150419T232045Z
LAST-MODIFIED:20150419T232045Z
UID:10105-1782172800-1782259199@theeofficepub.com
SUMMARY:Burger & Brew
DESCRIPTION:1/2 lb. Burger\, Fries and Cold Pint or Fountain Pop for $9
URL:https://theeofficepub.com/event/burger-brew/2026-06-23/
LOCATION:Thee Office Pub\, 128 South Main Street\, Romeo\, MI\, 48065\, United States
GEO:42.801722;-83.013685
X-APPLE-STRUCTURED-LOCATION;VALUE=URI;X-ADDRESS=Thee Office Pub 128 South Main Street Romeo MI 48065 United States;X-APPLE-RADIUS=500;X-TITLE=128 South Main Street:geo:-83.013685,42.801722
END:VEVENT
BEGIN:VEVENT
DTSTART;VALUE=DATE:20260630
DTEND;VALUE=DATE:20260701
DTSTAMP:20260419T151440
CREATED:20150419T232045Z
LAST-MODIFIED:20150419T232045Z
UID:10106-1782777600-1782863999@theeofficepub.com
SUMMARY:Burger & Brew
DESCRIPTION:1/2 lb. Burger\, Fries and Cold Pint or Fountain Pop for $9
URL:https://theeofficepub.com/event/burger-brew/2026-06-30/
LOCATION:Thee Office Pub\, 128 South Main Street\, Romeo\, MI\, 48065\, United States
GEO:42.801722;-83.013685
X-APPLE-STRUCTURED-LOCATION;VALUE=URI;X-ADDRESS=Thee Office Pub 128 South Main Street Romeo MI 48065 United States;X-APPLE-RADIUS=500;X-TITLE=128 South Main Street:geo:-83.013685,42.801722
END:VEVENT
BEGIN:VEVENT
DTSTART;VALUE=DATE:20260707
DTEND;VALUE=DATE:20260708
DTSTAMP:20260419T151440
CREATED:20150419T232045Z
LAST-MODIFIED:20150419T232045Z
UID:10107-1783382400-1783468799@theeofficepub.com
SUMMARY:Burger & Brew
DESCRIPTION:1/2 lb. Burger\, Fries and Cold Pint or Fountain Pop for $9
URL:https://theeofficepub.com/event/burger-brew/2026-07-07/
LOCATION:Thee Office Pub\, 128 South Main Street\, Romeo\, MI\, 48065\, United States
GEO:42.801722;-83.013685
X-APPLE-STRUCTURED-LOCATION;VALUE=URI;X-ADDRESS=Thee Office Pub 128 South Main Street Romeo MI 48065 United States;X-APPLE-RADIUS=500;X-TITLE=128 South Main Street:geo:-83.013685,42.801722
END:VEVENT
BEGIN:VEVENT
DTSTART;VALUE=DATE:20260714
DTEND;VALUE=DATE:20260715
DTSTAMP:20260419T151440
CREATED:20150419T232045Z
LAST-MODIFIED:20150419T232045Z
UID:10108-1783987200-1784073599@theeofficepub.com
SUMMARY:Burger & Brew
DESCRIPTION:1/2 lb. Burger\, Fries and Cold Pint or Fountain Pop for $9
URL:https://theeofficepub.com/event/burger-brew/2026-07-14/
LOCATION:Thee Office Pub\, 128 South Main Street\, Romeo\, MI\, 48065\, United States
GEO:42.801722;-83.013685
X-APPLE-STRUCTURED-LOCATION;VALUE=URI;X-ADDRESS=Thee Office Pub 128 South Main Street Romeo MI 48065 United States;X-APPLE-RADIUS=500;X-TITLE=128 South Main Street:geo:-83.013685,42.801722
END:VEVENT
BEGIN:VEVENT
DTSTART;VALUE=DATE:20260721
DTEND;VALUE=DATE:20260722
DTSTAMP:20260419T151440
CREATED:20150419T232045Z
LAST-MODIFIED:20150419T232045Z
UID:10109-1784592000-1784678399@theeofficepub.com
SUMMARY:Burger & Brew
DESCRIPTION:1/2 lb. Burger\, Fries and Cold Pint or Fountain Pop for $9
URL:https://theeofficepub.com/event/burger-brew/2026-07-21/
LOCATION:Thee Office Pub\, 128 South Main Street\, Romeo\, MI\, 48065\, United States
GEO:42.801722;-83.013685
X-APPLE-STRUCTURED-LOCATION;VALUE=URI;X-ADDRESS=Thee Office Pub 128 South Main Street Romeo MI 48065 United States;X-APPLE-RADIUS=500;X-TITLE=128 South Main Street:geo:-83.013685,42.801722
END:VEVENT
BEGIN:VEVENT
DTSTART;VALUE=DATE:20260728
DTEND;VALUE=DATE:20260729
DTSTAMP:20260419T151440
CREATED:20150419T232045Z
LAST-MODIFIED:20150419T232045Z
UID:10110-1785196800-1785283199@theeofficepub.com
SUMMARY:Burger & Brew
DESCRIPTION:1/2 lb. Burger\, Fries and Cold Pint or Fountain Pop for $9
URL:https://theeofficepub.com/event/burger-brew/2026-07-28/
LOCATION:Thee Office Pub\, 128 South Main Street\, Romeo\, MI\, 48065\, United States
GEO:42.801722;-83.013685
X-APPLE-STRUCTURED-LOCATION;VALUE=URI;X-ADDRESS=Thee Office Pub 128 South Main Street Romeo MI 48065 United States;X-APPLE-RADIUS=500;X-TITLE=128 South Main Street:geo:-83.013685,42.801722
END:VEVENT
BEGIN:VEVENT
DTSTART;VALUE=DATE:20260804
DTEND;VALUE=DATE:20260805
DTSTAMP:20260419T151440
CREATED:20150419T232045Z
LAST-MODIFIED:20150419T232045Z
UID:10111-1785801600-1785887999@theeofficepub.com
SUMMARY:Burger & Brew
DESCRIPTION:1/2 lb. Burger\, Fries and Cold Pint or Fountain Pop for $9
URL:https://theeofficepub.com/event/burger-brew/2026-08-04/
LOCATION:Thee Office Pub\, 128 South Main Street\, Romeo\, MI\, 48065\, United States
GEO:42.801722;-83.013685
X-APPLE-STRUCTURED-LOCATION;VALUE=URI;X-ADDRESS=Thee Office Pub 128 South Main Street Romeo MI 48065 United States;X-APPLE-RADIUS=500;X-TITLE=128 South Main Street:geo:-83.013685,42.801722
END:VEVENT
BEGIN:VEVENT
DTSTART;VALUE=DATE:20260811
DTEND;VALUE=DATE:20260812
DTSTAMP:20260419T151440
CREATED:20150419T232045Z
LAST-MODIFIED:20150419T232045Z
UID:10112-1786406400-1786492799@theeofficepub.com
SUMMARY:Burger & Brew
DESCRIPTION:1/2 lb. Burger\, Fries and Cold Pint or Fountain Pop for $9
URL:https://theeofficepub.com/event/burger-brew/2026-08-11/
LOCATION:Thee Office Pub\, 128 South Main Street\, Romeo\, MI\, 48065\, United States
GEO:42.801722;-83.013685
X-APPLE-STRUCTURED-LOCATION;VALUE=URI;X-ADDRESS=Thee Office Pub 128 South Main Street Romeo MI 48065 United States;X-APPLE-RADIUS=500;X-TITLE=128 South Main Street:geo:-83.013685,42.801722
END:VEVENT
BEGIN:VEVENT
DTSTART;VALUE=DATE:20260818
DTEND;VALUE=DATE:20260819
DTSTAMP:20260419T151440
CREATED:20150419T232045Z
LAST-MODIFIED:20150419T232045Z
UID:10113-1787011200-1787097599@theeofficepub.com
SUMMARY:Burger & Brew
DESCRIPTION:1/2 lb. Burger\, Fries and Cold Pint or Fountain Pop for $9
URL:https://theeofficepub.com/event/burger-brew/2026-08-18/
LOCATION:Thee Office Pub\, 128 South Main Street\, Romeo\, MI\, 48065\, United States
GEO:42.801722;-83.013685
X-APPLE-STRUCTURED-LOCATION;VALUE=URI;X-ADDRESS=Thee Office Pub 128 South Main Street Romeo MI 48065 United States;X-APPLE-RADIUS=500;X-TITLE=128 South Main Street:geo:-83.013685,42.801722
END:VEVENT
BEGIN:VEVENT
DTSTART;VALUE=DATE:20260825
DTEND;VALUE=DATE:20260826
DTSTAMP:20260419T151440
CREATED:20150419T232045Z
LAST-MODIFIED:20150419T232045Z
UID:10114-1787616000-1787702399@theeofficepub.com
SUMMARY:Burger & Brew
DESCRIPTION:1/2 lb. Burger\, Fries and Cold Pint or Fountain Pop for $9
URL:https://theeofficepub.com/event/burger-brew/2026-08-25/
LOCATION:Thee Office Pub\, 128 South Main Street\, Romeo\, MI\, 48065\, United States
GEO:42.801722;-83.013685
X-APPLE-STRUCTURED-LOCATION;VALUE=URI;X-ADDRESS=Thee Office Pub 128 South Main Street Romeo MI 48065 United States;X-APPLE-RADIUS=500;X-TITLE=128 South Main Street:geo:-83.013685,42.801722
END:VEVENT
BEGIN:VEVENT
DTSTART;VALUE=DATE:20260901
DTEND;VALUE=DATE:20260902
DTSTAMP:20260419T151440
CREATED:20150419T232045Z
LAST-MODIFIED:20150419T232045Z
UID:10115-1788220800-1788307199@theeofficepub.com
SUMMARY:Burger & Brew
DESCRIPTION:1/2 lb. Burger\, Fries and Cold Pint or Fountain Pop for $9
URL:https://theeofficepub.com/event/burger-brew/2026-09-01/
LOCATION:Thee Office Pub\, 128 South Main Street\, Romeo\, MI\, 48065\, United States
GEO:42.801722;-83.013685
X-APPLE-STRUCTURED-LOCATION;VALUE=URI;X-ADDRESS=Thee Office Pub 128 South Main Street Romeo MI 48065 United States;X-APPLE-RADIUS=500;X-TITLE=128 South Main Street:geo:-83.013685,42.801722
END:VEVENT
BEGIN:VEVENT
DTSTART;VALUE=DATE:20260908
DTEND;VALUE=DATE:20260909
DTSTAMP:20260419T151440
CREATED:20150419T232045Z
LAST-MODIFIED:20150419T232045Z
UID:10116-1788825600-1788911999@theeofficepub.com
SUMMARY:Burger & Brew
DESCRIPTION:1/2 lb. Burger\, Fries and Cold Pint or Fountain Pop for $9
URL:https://theeofficepub.com/event/burger-brew/2026-09-08/
LOCATION:Thee Office Pub\, 128 South Main Street\, Romeo\, MI\, 48065\, United States
GEO:42.801722;-83.013685
X-APPLE-STRUCTURED-LOCATION;VALUE=URI;X-ADDRESS=Thee Office Pub 128 South Main Street Romeo MI 48065 United States;X-APPLE-RADIUS=500;X-TITLE=128 South Main Street:geo:-83.013685,42.801722
END:VEVENT
BEGIN:VEVENT
DTSTART;VALUE=DATE:20260915
DTEND;VALUE=DATE:20260916
DTSTAMP:20260419T151440
CREATED:20150419T232045Z
LAST-MODIFIED:20150419T232045Z
UID:10117-1789430400-1789516799@theeofficepub.com
SUMMARY:Burger & Brew
DESCRIPTION:1/2 lb. Burger\, Fries and Cold Pint or Fountain Pop for $9
URL:https://theeofficepub.com/event/burger-brew/2026-09-15/
LOCATION:Thee Office Pub\, 128 South Main Street\, Romeo\, MI\, 48065\, United States
GEO:42.801722;-83.013685
X-APPLE-STRUCTURED-LOCATION;VALUE=URI;X-ADDRESS=Thee Office Pub 128 South Main Street Romeo MI 48065 United States;X-APPLE-RADIUS=500;X-TITLE=128 South Main Street:geo:-83.013685,42.801722
END:VEVENT
BEGIN:VEVENT
DTSTART;VALUE=DATE:20260922
DTEND;VALUE=DATE:20260923
DTSTAMP:20260419T151440
CREATED:20150419T232045Z
LAST-MODIFIED:20150419T232045Z
UID:10118-1790035200-1790121599@theeofficepub.com
SUMMARY:Burger & Brew
DESCRIPTION:1/2 lb. Burger\, Fries and Cold Pint or Fountain Pop for $9
URL:https://theeofficepub.com/event/burger-brew/2026-09-22/
LOCATION:Thee Office Pub\, 128 South Main Street\, Romeo\, MI\, 48065\, United States
GEO:42.801722;-83.013685
X-APPLE-STRUCTURED-LOCATION;VALUE=URI;X-ADDRESS=Thee Office Pub 128 South Main Street Romeo MI 48065 United States;X-APPLE-RADIUS=500;X-TITLE=128 South Main Street:geo:-83.013685,42.801722
END:VEVENT
BEGIN:VEVENT
DTSTART;VALUE=DATE:20260929
DTEND;VALUE=DATE:20260930
DTSTAMP:20260419T151440
CREATED:20150419T232045Z
LAST-MODIFIED:20150419T232045Z
UID:10170-1790640000-1790726399@theeofficepub.com
SUMMARY:Burger & Brew
DESCRIPTION:1/2 lb. Burger\, Fries and Cold Pint or Fountain Pop for $9
URL:https://theeofficepub.com/event/burger-brew/2026-09-29/
LOCATION:Thee Office Pub\, 128 South Main Street\, Romeo\, MI\, 48065\, United States
GEO:42.801722;-83.013685
X-APPLE-STRUCTURED-LOCATION;VALUE=URI;X-ADDRESS=Thee Office Pub 128 South Main Street Romeo MI 48065 United States;X-APPLE-RADIUS=500;X-TITLE=128 South Main Street:geo:-83.013685,42.801722
END:VEVENT
BEGIN:VEVENT
DTSTART;VALUE=DATE:20261006
DTEND;VALUE=DATE:20261007
DTSTAMP:20260419T151440
CREATED:20150419T232045Z
LAST-MODIFIED:20150419T232045Z
UID:10174-1791244800-1791331199@theeofficepub.com
SUMMARY:Burger & Brew
DESCRIPTION:1/2 lb. Burger\, Fries and Cold Pint or Fountain Pop for $9
URL:https://theeofficepub.com/event/burger-brew/2026-10-06/
LOCATION:Thee Office Pub\, 128 South Main Street\, Romeo\, MI\, 48065\, United States
GEO:42.801722;-83.013685
X-APPLE-STRUCTURED-LOCATION;VALUE=URI;X-ADDRESS=Thee Office Pub 128 South Main Street Romeo MI 48065 United States;X-APPLE-RADIUS=500;X-TITLE=128 South Main Street:geo:-83.013685,42.801722
END:VEVENT
BEGIN:VEVENT
DTSTART;VALUE=DATE:20261013
DTEND;VALUE=DATE:20261014
DTSTAMP:20260419T151440
CREATED:20150419T232045Z
LAST-MODIFIED:20150419T232045Z
UID:10178-1791849600-1791935999@theeofficepub.com
SUMMARY:Burger & Brew
DESCRIPTION:1/2 lb. Burger\, Fries and Cold Pint or Fountain Pop for $9
URL:https://theeofficepub.com/event/burger-brew/2026-10-13/
LOCATION:Thee Office Pub\, 128 South Main Street\, Romeo\, MI\, 48065\, United States
GEO:42.801722;-83.013685
X-APPLE-STRUCTURED-LOCATION;VALUE=URI;X-ADDRESS=Thee Office Pub 128 South Main Street Romeo MI 48065 United States;X-APPLE-RADIUS=500;X-TITLE=128 South Main Street:geo:-83.013685,42.801722
END:VEVENT
BEGIN:VEVENT
DTSTART;VALUE=DATE:20261020
DTEND;VALUE=DATE:20261021
DTSTAMP:20260419T151440
CREATED:20150419T232045Z
LAST-MODIFIED:20150419T232045Z
UID:10182-1792454400-1792540799@theeofficepub.com
SUMMARY:Burger & Brew
DESCRIPTION:1/2 lb. Burger\, Fries and Cold Pint or Fountain Pop for $9
URL:https://theeofficepub.com/event/burger-brew/2026-10-20/
LOCATION:Thee Office Pub\, 128 South Main Street\, Romeo\, MI\, 48065\, United States
GEO:42.801722;-83.013685
X-APPLE-STRUCTURED-LOCATION;VALUE=URI;X-ADDRESS=Thee Office Pub 128 South Main Street Romeo MI 48065 United States;X-APPLE-RADIUS=500;X-TITLE=128 South Main Street:geo:-83.013685,42.801722
END:VEVENT
BEGIN:VEVENT
DTSTART;VALUE=DATE:20261027
DTEND;VALUE=DATE:20261028
DTSTAMP:20260419T151440
CREATED:20150419T232045Z
LAST-MODIFIED:20150419T232045Z
UID:10186-1793059200-1793145599@theeofficepub.com
SUMMARY:Burger & Brew
DESCRIPTION:1/2 lb. Burger\, Fries and Cold Pint or Fountain Pop for $9
URL:https://theeofficepub.com/event/burger-brew/2026-10-27/
LOCATION:Thee Office Pub\, 128 South Main Street\, Romeo\, MI\, 48065\, United States
GEO:42.801722;-83.013685
X-APPLE-STRUCTURED-LOCATION;VALUE=URI;X-ADDRESS=Thee Office Pub 128 South Main Street Romeo MI 48065 United States;X-APPLE-RADIUS=500;X-TITLE=128 South Main Street:geo:-83.013685,42.801722
END:VEVENT
BEGIN:VEVENT
DTSTART;VALUE=DATE:20261103
DTEND;VALUE=DATE:20261104
DTSTAMP:20260419T151440
CREATED:20150419T232045Z
LAST-MODIFIED:20150419T232045Z
UID:10190-1793664000-1793750399@theeofficepub.com
SUMMARY:Burger & Brew
DESCRIPTION:1/2 lb. Burger\, Fries and Cold Pint or Fountain Pop for $9
URL:https://theeofficepub.com/event/burger-brew/2026-11-03/
LOCATION:Thee Office Pub\, 128 South Main Street\, Romeo\, MI\, 48065\, United States
GEO:42.801722;-83.013685
X-APPLE-STRUCTURED-LOCATION;VALUE=URI;X-ADDRESS=Thee Office Pub 128 South Main Street Romeo MI 48065 United States;X-APPLE-RADIUS=500;X-TITLE=128 South Main Street:geo:-83.013685,42.801722
END:VEVENT
BEGIN:VEVENT
DTSTART;VALUE=DATE:20261110
DTEND;VALUE=DATE:20261111
DTSTAMP:20260419T151440
CREATED:20150419T232045Z
LAST-MODIFIED:20150419T232045Z
UID:10194-1794268800-1794355199@theeofficepub.com
SUMMARY:Burger & Brew
DESCRIPTION:1/2 lb. Burger\, Fries and Cold Pint or Fountain Pop for $9
URL:https://theeofficepub.com/event/burger-brew/2026-11-10/
LOCATION:Thee Office Pub\, 128 South Main Street\, Romeo\, MI\, 48065\, United States
GEO:42.801722;-83.013685
X-APPLE-STRUCTURED-LOCATION;VALUE=URI;X-ADDRESS=Thee Office Pub 128 South Main Street Romeo MI 48065 United States;X-APPLE-RADIUS=500;X-TITLE=128 South Main Street:geo:-83.013685,42.801722
END:VEVENT
END:VCALENDAR