BEGIN:VCALENDAR
VERSION:2.0
PRODID:-//Thee Office Pub - ECPv6.7.1//NONSGML v1.0//EN
CALSCALE:GREGORIAN
METHOD:PUBLISH
X-WR-CALNAME:Thee Office Pub
X-ORIGINAL-URL:https://theeofficepub.com
X-WR-CALDESC:Events for Thee Office Pub
REFRESH-INTERVAL;VALUE=DURATION:PT1H
X-Robots-Tag:noindex
X-PUBLISHED-TTL:PT1H
BEGIN:VTIMEZONE
TZID:America/Detroit
BEGIN:DAYLIGHT
TZOFFSETFROM:-0500
TZOFFSETTO:-0400
TZNAME:EDT
DTSTART:20180311T070000
END:DAYLIGHT
BEGIN:STANDARD
TZOFFSETFROM:-0400
TZOFFSETTO:-0500
TZNAME:EST
DTSTART:20181104T060000
END:STANDARD
END:VTIMEZONE
BEGIN:VEVENT
DTSTART;TZID=America/Detroit:20181215T210000
DTEND;TZID=America/Detroit:20181215T210000
DTSTAMP:20260422T125042
CREATED:20180730T175300Z
LAST-MODIFIED:20180730T175300Z
UID:6267-1544907600-1544907600@theeofficepub.com
SUMMARY:Live Music ~ Jukebox Junkies
DESCRIPTION:
URL:https://theeofficepub.com/event/live-music-jukebox-junkies-18/
LOCATION:Thee Office Pub\, 128 South Main Street\, Romeo\, MI\, 48065\, United States
GEO:42.801722;-83.013685
X-APPLE-STRUCTURED-LOCATION;VALUE=URI;X-ADDRESS=Thee Office Pub 128 South Main Street Romeo MI 48065 United States;X-APPLE-RADIUS=500;X-TITLE=128 South Main Street:geo:-83.013685,42.801722
END:VEVENT
BEGIN:VEVENT
DTSTART;TZID=America/Detroit:20181208T210000
DTEND;TZID=America/Detroit:20181208T210000
DTSTAMP:20260422T125042
CREATED:20180730T175120Z
LAST-MODIFIED:20180730T175120Z
UID:6265-1544302800-1544302800@theeofficepub.com
SUMMARY:Live Music ~ Al Howard
DESCRIPTION:
URL:https://theeofficepub.com/event/live-music-al-howard-21/
LOCATION:Thee Office Pub\, 128 South Main Street\, Romeo\, MI\, 48065\, United States
GEO:42.801722;-83.013685
X-APPLE-STRUCTURED-LOCATION;VALUE=URI;X-ADDRESS=Thee Office Pub 128 South Main Street Romeo MI 48065 United States;X-APPLE-RADIUS=500;X-TITLE=128 South Main Street:geo:-83.013685,42.801722
END:VEVENT
BEGIN:VEVENT
DTSTART;TZID=America/Detroit:20181201T210000
DTEND;TZID=America/Detroit:20181201T210000
DTSTAMP:20260422T125042
CREATED:20180730T174933Z
LAST-MODIFIED:20180730T174933Z
UID:6263-1543698000-1543698000@theeofficepub.com
SUMMARY:Live Music ~ Ron Alcini
DESCRIPTION:
URL:https://theeofficepub.com/event/live-music-ron-alcini-20/
LOCATION:Thee Office Pub\, 128 South Main Street\, Romeo\, MI\, 48065\, United States
GEO:42.801722;-83.013685
X-APPLE-STRUCTURED-LOCATION;VALUE=URI;X-ADDRESS=Thee Office Pub 128 South Main Street Romeo MI 48065 United States;X-APPLE-RADIUS=500;X-TITLE=128 South Main Street:geo:-83.013685,42.801722
END:VEVENT
BEGIN:VEVENT
DTSTART;TZID=America/Detroit:20181124T210000
DTEND;TZID=America/Detroit:20181124T210000
DTSTAMP:20260422T125042
CREATED:20180730T174850Z
LAST-MODIFIED:20180730T174850Z
UID:6261-1543093200-1543093200@theeofficepub.com
SUMMARY:Live Music ~ Leather & Lace
DESCRIPTION:
URL:https://theeofficepub.com/event/live-music-leather-lace-3/
LOCATION:Thee Office Pub\, 128 South Main Street\, Romeo\, MI\, 48065\, United States
GEO:42.801722;-83.013685
X-APPLE-STRUCTURED-LOCATION;VALUE=URI;X-ADDRESS=Thee Office Pub 128 South Main Street Romeo MI 48065 United States;X-APPLE-RADIUS=500;X-TITLE=128 South Main Street:geo:-83.013685,42.801722
END:VEVENT
BEGIN:VEVENT
DTSTART;TZID=America/Detroit:20181117T210000
DTEND;TZID=America/Detroit:20181117T210000
DTSTAMP:20260422T125042
CREATED:20180730T174800Z
LAST-MODIFIED:20180730T174800Z
UID:6259-1542488400-1542488400@theeofficepub.com
SUMMARY:Live Music ~ Jason Charles Band
DESCRIPTION:
URL:https://theeofficepub.com/event/live-music-jason-charles-band-3/
LOCATION:Thee Office Pub\, 128 South Main Street\, Romeo\, MI\, 48065\, United States
GEO:42.801722;-83.013685
X-APPLE-STRUCTURED-LOCATION;VALUE=URI;X-ADDRESS=Thee Office Pub 128 South Main Street Romeo MI 48065 United States;X-APPLE-RADIUS=500;X-TITLE=128 South Main Street:geo:-83.013685,42.801722
END:VEVENT
BEGIN:VEVENT
DTSTART;TZID=America/Detroit:20181110T210000
DTEND;TZID=America/Detroit:20181110T210000
DTSTAMP:20260422T125042
CREATED:20180730T174703Z
LAST-MODIFIED:20180730T174703Z
UID:6257-1541883600-1541883600@theeofficepub.com
SUMMARY:Live Music ~ Momford & Son
DESCRIPTION:
URL:https://theeofficepub.com/event/live-music-momford-son-4/
LOCATION:Thee Office Pub\, 128 South Main Street\, Romeo\, MI\, 48065\, United States
GEO:42.801722;-83.013685
X-APPLE-STRUCTURED-LOCATION;VALUE=URI;X-ADDRESS=Thee Office Pub 128 South Main Street Romeo MI 48065 United States;X-APPLE-RADIUS=500;X-TITLE=128 South Main Street:geo:-83.013685,42.801722
END:VEVENT
BEGIN:VEVENT
DTSTART;TZID=America/Detroit:20181103T210000
DTEND;TZID=America/Detroit:20181103T210000
DTSTAMP:20260422T125042
CREATED:20180730T174601Z
LAST-MODIFIED:20180730T174601Z
UID:6255-1541278800-1541278800@theeofficepub.com
SUMMARY:Live Music ~ Brothers Mogan
DESCRIPTION:
URL:https://theeofficepub.com/event/live-music-brothers-mogan-5/
LOCATION:Thee Office Pub\, 128 South Main Street\, Romeo\, MI\, 48065\, United States
GEO:42.801722;-83.013685
X-APPLE-STRUCTURED-LOCATION;VALUE=URI;X-ADDRESS=Thee Office Pub 128 South Main Street Romeo MI 48065 United States;X-APPLE-RADIUS=500;X-TITLE=128 South Main Street:geo:-83.013685,42.801722
END:VEVENT
BEGIN:VEVENT
DTSTART;TZID=America/Detroit:20181027T210000
DTEND;TZID=America/Detroit:20181027T210000
DTSTAMP:20260422T125042
CREATED:20180730T174508Z
LAST-MODIFIED:20180730T174508Z
UID:6253-1540674000-1540674000@theeofficepub.com
SUMMARY:Live Music ~ Jason Charles Band
DESCRIPTION:
URL:https://theeofficepub.com/event/live-music-jason-charles-band-2/
LOCATION:Thee Office Pub\, 128 South Main Street\, Romeo\, MI\, 48065\, United States
GEO:42.801722;-83.013685
X-APPLE-STRUCTURED-LOCATION;VALUE=URI;X-ADDRESS=Thee Office Pub 128 South Main Street Romeo MI 48065 United States;X-APPLE-RADIUS=500;X-TITLE=128 South Main Street:geo:-83.013685,42.801722
END:VEVENT
BEGIN:VEVENT
DTSTART;TZID=America/Detroit:20181020T210000
DTEND;TZID=America/Detroit:20181020T210000
DTSTAMP:20260422T125042
CREATED:20180730T174421Z
LAST-MODIFIED:20180730T174421Z
UID:6251-1540069200-1540069200@theeofficepub.com
SUMMARY:Live Music ~ Leather & Lace
DESCRIPTION:
URL:https://theeofficepub.com/event/live-music-leather-lace-2/
LOCATION:Thee Office Pub\, 128 South Main Street\, Romeo\, MI\, 48065\, United States
GEO:42.801722;-83.013685
X-APPLE-STRUCTURED-LOCATION;VALUE=URI;X-ADDRESS=Thee Office Pub 128 South Main Street Romeo MI 48065 United States;X-APPLE-RADIUS=500;X-TITLE=128 South Main Street:geo:-83.013685,42.801722
END:VEVENT
BEGIN:VEVENT
DTSTART;TZID=America/Detroit:20181013T210000
DTEND;TZID=America/Detroit:20181013T210000
DTSTAMP:20260422T125042
CREATED:20180730T174223Z
LAST-MODIFIED:20180730T174223Z
UID:6249-1539464400-1539464400@theeofficepub.com
SUMMARY:Live Music ~ Al Howard
DESCRIPTION:
URL:https://theeofficepub.com/event/live-music-al-howard-20/
LOCATION:Thee Office Pub\, 128 South Main Street\, Romeo\, MI\, 48065\, United States
GEO:42.801722;-83.013685
X-APPLE-STRUCTURED-LOCATION;VALUE=URI;X-ADDRESS=Thee Office Pub 128 South Main Street Romeo MI 48065 United States;X-APPLE-RADIUS=500;X-TITLE=128 South Main Street:geo:-83.013685,42.801722
END:VEVENT
BEGIN:VEVENT
DTSTART;TZID=America/Detroit:20181006T210000
DTEND;TZID=America/Detroit:20181006T210000
DTSTAMP:20260422T125042
CREATED:20180730T174107Z
LAST-MODIFIED:20180730T174107Z
UID:6247-1538859600-1538859600@theeofficepub.com
SUMMARY:Live Music ~ Momford & Son
DESCRIPTION:
URL:https://theeofficepub.com/event/live-music-momford-son-3/
LOCATION:Thee Office Pub\, 128 South Main Street\, Romeo\, MI\, 48065\, United States
GEO:42.801722;-83.013685
X-APPLE-STRUCTURED-LOCATION;VALUE=URI;X-ADDRESS=Thee Office Pub 128 South Main Street Romeo MI 48065 United States;X-APPLE-RADIUS=500;X-TITLE=128 South Main Street:geo:-83.013685,42.801722
END:VEVENT
BEGIN:VEVENT
DTSTART;TZID=America/Detroit:20180929T210000
DTEND;TZID=America/Detroit:20180929T210000
DTSTAMP:20260422T125042
CREATED:20180730T174001Z
LAST-MODIFIED:20180924T153213Z
UID:6245-1538254800-1538254800@theeofficepub.com
SUMMARY:Live Music ~ The Rob & Dave Duo
DESCRIPTION:
URL:https://theeofficepub.com/event/live-music-rob-dave-duo/
LOCATION:Thee Office Pub\, 128 South Main Street\, Romeo\, MI\, 48065\, United States
GEO:42.801722;-83.013685
X-APPLE-STRUCTURED-LOCATION;VALUE=URI;X-ADDRESS=Thee Office Pub 128 South Main Street Romeo MI 48065 United States;X-APPLE-RADIUS=500;X-TITLE=128 South Main Street:geo:-83.013685,42.801722
END:VEVENT
BEGIN:VEVENT
DTSTART;TZID=America/Detroit:20180922T210000
DTEND;TZID=America/Detroit:20180922T210000
DTSTAMP:20260422T125042
CREATED:20180730T173845Z
LAST-MODIFIED:20180730T173845Z
UID:6243-1537650000-1537650000@theeofficepub.com
SUMMARY:Live Music ~ F Hole Wreckers
DESCRIPTION:
URL:https://theeofficepub.com/event/live-music-f-hole-wreckers/
LOCATION:Thee Office Pub\, 128 South Main Street\, Romeo\, MI\, 48065\, United States
GEO:42.801722;-83.013685
X-APPLE-STRUCTURED-LOCATION;VALUE=URI;X-ADDRESS=Thee Office Pub 128 South Main Street Romeo MI 48065 United States;X-APPLE-RADIUS=500;X-TITLE=128 South Main Street:geo:-83.013685,42.801722
END:VEVENT
BEGIN:VEVENT
DTSTART;TZID=America/Detroit:20180915T210000
DTEND;TZID=America/Detroit:20180915T210000
DTSTAMP:20260422T125042
CREATED:20180730T173749Z
LAST-MODIFIED:20180730T173749Z
UID:6241-1537045200-1537045200@theeofficepub.com
SUMMARY:Live Music ~ Ron Alcini
DESCRIPTION:
URL:https://theeofficepub.com/event/live-music-ron-alcini-19/
LOCATION:Thee Office Pub\, 128 South Main Street\, Romeo\, MI\, 48065\, United States
GEO:42.801722;-83.013685
X-APPLE-STRUCTURED-LOCATION;VALUE=URI;X-ADDRESS=Thee Office Pub 128 South Main Street Romeo MI 48065 United States;X-APPLE-RADIUS=500;X-TITLE=128 South Main Street:geo:-83.013685,42.801722
END:VEVENT
BEGIN:VEVENT
DTSTART;TZID=America/Detroit:20180908T210000
DTEND;TZID=America/Detroit:20180908T210000
DTSTAMP:20260422T125042
CREATED:20180730T173630Z
LAST-MODIFIED:20180730T173704Z
UID:6238-1536440400-1536440400@theeofficepub.com
SUMMARY:Live Music ~ Leather & Lace
DESCRIPTION:
URL:https://theeofficepub.com/event/leather-lace/
LOCATION:Thee Office Pub\, 128 South Main Street\, Romeo\, MI\, 48065\, United States
GEO:42.801722;-83.013685
X-APPLE-STRUCTURED-LOCATION;VALUE=URI;X-ADDRESS=Thee Office Pub 128 South Main Street Romeo MI 48065 United States;X-APPLE-RADIUS=500;X-TITLE=128 South Main Street:geo:-83.013685,42.801722
END:VEVENT
BEGIN:VEVENT
DTSTART;TZID=America/Detroit:20180825T210000
DTEND;TZID=America/Detroit:20180825T210000
DTSTAMP:20260422T125042
CREATED:20180416T113248Z
LAST-MODIFIED:20180416T113248Z
UID:4762-1535230800-1535230800@theeofficepub.com
SUMMARY:Live Music ~ Momford & Son
DESCRIPTION:
URL:https://theeofficepub.com/event/live-music-momford-son-2/
LOCATION:Thee Office Pub\, 128 South Main Street\, Romeo\, MI\, 48065\, United States
GEO:42.801722;-83.013685
X-APPLE-STRUCTURED-LOCATION;VALUE=URI;X-ADDRESS=Thee Office Pub 128 South Main Street Romeo MI 48065 United States;X-APPLE-RADIUS=500;X-TITLE=128 South Main Street:geo:-83.013685,42.801722
END:VEVENT
BEGIN:VEVENT
DTSTART;TZID=America/Detroit:20180811T210000
DTEND;TZID=America/Detroit:20180811T210000
DTSTAMP:20260422T125042
CREATED:20180416T113137Z
LAST-MODIFIED:20180416T113137Z
UID:4760-1534021200-1534021200@theeofficepub.com
SUMMARY:Live Music ~ Jukebox Junkies
DESCRIPTION:
URL:https://theeofficepub.com/event/live-music-jukebox-junkies-19/
LOCATION:Thee Office Pub\, 128 South Main Street\, Romeo\, MI\, 48065\, United States
GEO:42.801722;-83.013685
X-APPLE-STRUCTURED-LOCATION;VALUE=URI;X-ADDRESS=Thee Office Pub 128 South Main Street Romeo MI 48065 United States;X-APPLE-RADIUS=500;X-TITLE=128 South Main Street:geo:-83.013685,42.801722
END:VEVENT
BEGIN:VEVENT
DTSTART;TZID=America/Detroit:20180728T210000
DTEND;TZID=America/Detroit:20180728T210000
DTSTAMP:20260422T125042
CREATED:20180416T112930Z
LAST-MODIFIED:20180416T112930Z
UID:4758-1532811600-1532811600@theeofficepub.com
SUMMARY:Live Music ~ Momford & Son
DESCRIPTION:
URL:https://theeofficepub.com/event/live-music-momford-son/
LOCATION:Thee Office Pub\, 128 South Main Street\, Romeo\, MI\, 48065\, United States
GEO:42.801722;-83.013685
X-APPLE-STRUCTURED-LOCATION;VALUE=URI;X-ADDRESS=Thee Office Pub 128 South Main Street Romeo MI 48065 United States;X-APPLE-RADIUS=500;X-TITLE=128 South Main Street:geo:-83.013685,42.801722
END:VEVENT
BEGIN:VEVENT
DTSTART;TZID=America/Detroit:20180714T210000
DTEND;TZID=America/Detroit:20180714T210000
DTSTAMP:20260422T125042
CREATED:20180416T112835Z
LAST-MODIFIED:20180416T112835Z
UID:4756-1531602000-1531602000@theeofficepub.com
SUMMARY:Live Music ~ Leather & Lace
DESCRIPTION:
URL:https://theeofficepub.com/event/live-music-leather-lace/
LOCATION:Thee Office Pub\, 128 South Main Street\, Romeo\, MI\, 48065\, United States
GEO:42.801722;-83.013685
X-APPLE-STRUCTURED-LOCATION;VALUE=URI;X-ADDRESS=Thee Office Pub 128 South Main Street Romeo MI 48065 United States;X-APPLE-RADIUS=500;X-TITLE=128 South Main Street:geo:-83.013685,42.801722
END:VEVENT
BEGIN:VEVENT
DTSTART;TZID=America/Detroit:20180623T210000
DTEND;TZID=America/Detroit:20180623T210000
DTSTAMP:20260422T125042
CREATED:20180611T144811Z
LAST-MODIFIED:20180611T144849Z
UID:5977-1529787600-1529787600@theeofficepub.com
SUMMARY:Live Music ~ F Hole Wreckers
DESCRIPTION:
URL:https://theeofficepub.com/event/f-hole-wreckers/
LOCATION:Thee Office Pub\, 128 South Main Street\, Romeo\, MI\, 48065\, United States
GEO:42.801722;-83.013685
X-APPLE-STRUCTURED-LOCATION;VALUE=URI;X-ADDRESS=Thee Office Pub 128 South Main Street Romeo MI 48065 United States;X-APPLE-RADIUS=500;X-TITLE=128 South Main Street:geo:-83.013685,42.801722
END:VEVENT
BEGIN:VEVENT
DTSTART;TZID=America/Detroit:20180609T210000
DTEND;TZID=America/Detroit:20180609T210000
DTSTAMP:20260422T125042
CREATED:20180416T112226Z
LAST-MODIFIED:20180425T235514Z
UID:4752-1528578000-1528578000@theeofficepub.com
SUMMARY:Live Music ~ Jukebox Junkies
DESCRIPTION:
URL:https://theeofficepub.com/event/live-music-roy-caldwell-16/
LOCATION:Thee Office Pub\, 128 South Main Street\, Romeo\, MI\, 48065\, United States
GEO:42.801722;-83.013685
X-APPLE-STRUCTURED-LOCATION;VALUE=URI;X-ADDRESS=Thee Office Pub 128 South Main Street Romeo MI 48065 United States;X-APPLE-RADIUS=500;X-TITLE=128 South Main Street:geo:-83.013685,42.801722
END:VEVENT
BEGIN:VEVENT
DTSTART;TZID=America/Detroit:20180526T210000
DTEND;TZID=America/Detroit:20180526T210000
DTSTAMP:20260422T125042
CREATED:20180513T151043Z
LAST-MODIFIED:20180513T151043Z
UID:5922-1527368400-1527368400@theeofficepub.com
SUMMARY:Live Music ~ The Russians
DESCRIPTION:
URL:https://theeofficepub.com/event/live-music-russians/
LOCATION:Thee Office Pub\, 128 South Main Street\, Romeo\, MI\, 48065\, United States
GEO:42.801722;-83.013685
X-APPLE-STRUCTURED-LOCATION;VALUE=URI;X-ADDRESS=Thee Office Pub 128 South Main Street Romeo MI 48065 United States;X-APPLE-RADIUS=500;X-TITLE=128 South Main Street:geo:-83.013685,42.801722
END:VEVENT
BEGIN:VEVENT
DTSTART;TZID=America/Detroit:20180519T210000
DTEND;TZID=America/Detroit:20180519T210000
DTSTAMP:20260422T125042
CREATED:20180131T130402Z
LAST-MODIFIED:20180425T235350Z
UID:4719-1526763600-1526763600@theeofficepub.com
SUMMARY:Live Music ~ Roy Caldwell
DESCRIPTION:
URL:https://theeofficepub.com/event/live-music-ron-alcini-18/
LOCATION:Thee Office Pub\, 128 South Main Street\, Romeo\, MI\, 48065\, United States
GEO:42.801722;-83.013685
X-APPLE-STRUCTURED-LOCATION;VALUE=URI;X-ADDRESS=Thee Office Pub 128 South Main Street Romeo MI 48065 United States;X-APPLE-RADIUS=500;X-TITLE=128 South Main Street:geo:-83.013685,42.801722
END:VEVENT
BEGIN:VEVENT
DTSTART;TZID=America/Detroit:20180512T210000
DTEND;TZID=America/Detroit:20180512T210000
DTSTAMP:20260422T125042
CREATED:20180131T130149Z
LAST-MODIFIED:20180131T130149Z
UID:4717-1526158800-1526158800@theeofficepub.com
SUMMARY:Live Music ~ The Brothers Mogan
DESCRIPTION:
URL:https://theeofficepub.com/event/live-music-brothers-mogan-4/
LOCATION:Thee Office Pub\, 128 South Main Street\, Romeo\, MI\, 48065\, United States
GEO:42.801722;-83.013685
X-APPLE-STRUCTURED-LOCATION;VALUE=URI;X-ADDRESS=Thee Office Pub 128 South Main Street Romeo MI 48065 United States;X-APPLE-RADIUS=500;X-TITLE=128 South Main Street:geo:-83.013685,42.801722
END:VEVENT
BEGIN:VEVENT
DTSTART;TZID=America/Detroit:20180505T210000
DTEND;TZID=America/Detroit:20180505T210000
DTSTAMP:20260422T125042
CREATED:20180131T130104Z
LAST-MODIFIED:20180131T130104Z
UID:4715-1525554000-1525554000@theeofficepub.com
SUMMARY:Live Music ~ Al Howard
DESCRIPTION:
URL:https://theeofficepub.com/event/live-music-al-howard-19/
LOCATION:Thee Office Pub\, 128 South Main Street\, Romeo\, MI\, 48065\, United States
GEO:42.801722;-83.013685
X-APPLE-STRUCTURED-LOCATION;VALUE=URI;X-ADDRESS=Thee Office Pub 128 South Main Street Romeo MI 48065 United States;X-APPLE-RADIUS=500;X-TITLE=128 South Main Street:geo:-83.013685,42.801722
END:VEVENT
BEGIN:VEVENT
DTSTART;TZID=America/Detroit:20180503T190000
DTEND;TZID=America/Detroit:20180503T190000
DTSTAMP:20260422T125042
CREATED:20180416T114857Z
LAST-MODIFIED:20180416T114857Z
UID:5192-1525374000-1525374000@theeofficepub.com
SUMMARY:Bike Night
DESCRIPTION:Parking on Main\n2 Outdoor Patios
URL:https://theeofficepub.com/event/bike-night/2018-05-03/
LOCATION:Thee Office Pub\, 128 South Main Street\, Romeo\, MI\, 48065\, United States
GEO:42.801722;-83.013685
X-APPLE-STRUCTURED-LOCATION;VALUE=URI;X-ADDRESS=Thee Office Pub 128 South Main Street Romeo MI 48065 United States;X-APPLE-RADIUS=500;X-TITLE=128 South Main Street:geo:-83.013685,42.801722
END:VEVENT
BEGIN:VEVENT
DTSTART;TZID=America/Detroit:20180428T210000
DTEND;TZID=America/Detroit:20180428T210000
DTSTAMP:20260422T125042
CREATED:20180131T130001Z
LAST-MODIFIED:20180131T130001Z
UID:4713-1524949200-1524949200@theeofficepub.com
SUMMARY:Live Music ~ The Arrogant Richards
DESCRIPTION:
URL:https://theeofficepub.com/event/live-music-arrogant-richards/
LOCATION:Thee Office Pub\, 128 South Main Street\, Romeo\, MI\, 48065\, United States
GEO:42.801722;-83.013685
X-APPLE-STRUCTURED-LOCATION;VALUE=URI;X-ADDRESS=Thee Office Pub 128 South Main Street Romeo MI 48065 United States;X-APPLE-RADIUS=500;X-TITLE=128 South Main Street:geo:-83.013685,42.801722
END:VEVENT
BEGIN:VEVENT
DTSTART;TZID=America/Detroit:20180421T210000
DTEND;TZID=America/Detroit:20180421T210000
DTSTAMP:20260422T125042
CREATED:20180108T190337Z
LAST-MODIFIED:20180108T190337Z
UID:4665-1524344400-1524344400@theeofficepub.com
SUMMARY:Live Music ~ Jukebox Junkies
DESCRIPTION:
URL:https://theeofficepub.com/event/live-music-jukebox-junkies-17/
LOCATION:Thee Office Pub\, 128 South Main Street\, Romeo\, MI\, 48065\, United States
GEO:42.801722;-83.013685
X-APPLE-STRUCTURED-LOCATION;VALUE=URI;X-ADDRESS=Thee Office Pub 128 South Main Street Romeo MI 48065 United States;X-APPLE-RADIUS=500;X-TITLE=128 South Main Street:geo:-83.013685,42.801722
END:VEVENT
BEGIN:VEVENT
DTSTART;TZID=America/Detroit:20180414T210000
DTEND;TZID=America/Detroit:20180414T210000
DTSTAMP:20260422T125042
CREATED:20180131T125905Z
LAST-MODIFIED:20180131T125905Z
UID:4711-1523739600-1523739600@theeofficepub.com
SUMMARY:Live Music ~ The Hackwells
DESCRIPTION:
URL:https://theeofficepub.com/event/live-music-hackwells-2/
LOCATION:Thee Office Pub\, 128 South Main Street\, Romeo\, MI\, 48065\, United States
GEO:42.801722;-83.013685
X-APPLE-STRUCTURED-LOCATION;VALUE=URI;X-ADDRESS=Thee Office Pub 128 South Main Street Romeo MI 48065 United States;X-APPLE-RADIUS=500;X-TITLE=128 South Main Street:geo:-83.013685,42.801722
END:VEVENT
BEGIN:VEVENT
DTSTART;TZID=America/Detroit:20180407T210000
DTEND;TZID=America/Detroit:20180407T210000
DTSTAMP:20260422T125042
CREATED:20180108T190219Z
LAST-MODIFIED:20180108T190219Z
UID:4663-1523134800-1523134800@theeofficepub.com
SUMMARY:Live Music ~ Al Howard
DESCRIPTION:
URL:https://theeofficepub.com/event/live-music-al-howard-18/
LOCATION:Thee Office Pub\, 128 South Main Street\, Romeo\, MI\, 48065\, United States
GEO:42.801722;-83.013685
X-APPLE-STRUCTURED-LOCATION;VALUE=URI;X-ADDRESS=Thee Office Pub 128 South Main Street Romeo MI 48065 United States;X-APPLE-RADIUS=500;X-TITLE=128 South Main Street:geo:-83.013685,42.801722
END:VEVENT
END:VCALENDAR