BEGIN:VCALENDAR
VERSION:2.0
PRODID:-//Thee Office Pub - ECPv6.7.1//NONSGML v1.0//EN
CALSCALE:GREGORIAN
METHOD:PUBLISH
X-WR-CALNAME:Thee Office Pub
X-ORIGINAL-URL:https://theeofficepub.com
X-WR-CALDESC:Events for Thee Office Pub
REFRESH-INTERVAL;VALUE=DURATION:PT1H
X-Robots-Tag:noindex
X-PUBLISHED-TTL:PT1H
BEGIN:VTIMEZONE
TZID:America/Detroit
BEGIN:DAYLIGHT
TZOFFSETFROM:-0500
TZOFFSETTO:-0400
TZNAME:EDT
DTSTART:20170312T070000
END:DAYLIGHT
BEGIN:STANDARD
TZOFFSETFROM:-0400
TZOFFSETTO:-0500
TZNAME:EST
DTSTART:20171105T060000
END:STANDARD
BEGIN:DAYLIGHT
TZOFFSETFROM:-0500
TZOFFSETTO:-0400
TZNAME:EDT
DTSTART:20180311T070000
END:DAYLIGHT
BEGIN:STANDARD
TZOFFSETFROM:-0400
TZOFFSETTO:-0500
TZNAME:EST
DTSTART:20181104T060000
END:STANDARD
END:VTIMEZONE
BEGIN:VEVENT
DTSTART;TZID=America/Detroit:20180331T210000
DTEND;TZID=America/Detroit:20180331T210000
DTSTAMP:20260422T172014
CREATED:20180108T190052Z
LAST-MODIFIED:20180108T190052Z
UID:4661-1522530000-1522530000@theeofficepub.com
SUMMARY:Live Music ~ Roy Caldwell
DESCRIPTION:
URL:https://theeofficepub.com/event/live-music-roy-caldwell-15/
LOCATION:Thee Office Pub\, 128 South Main Street\, Romeo\, MI\, 48065\, United States
GEO:42.801722;-83.013685
X-APPLE-STRUCTURED-LOCATION;VALUE=URI;X-ADDRESS=Thee Office Pub 128 South Main Street Romeo MI 48065 United States;X-APPLE-RADIUS=500;X-TITLE=128 South Main Street:geo:-83.013685,42.801722
END:VEVENT
BEGIN:VEVENT
DTSTART;TZID=America/Detroit:20180324T210000
DTEND;TZID=America/Detroit:20180324T210000
DTSTAMP:20260422T172014
CREATED:20180108T185952Z
LAST-MODIFIED:20180108T185952Z
UID:4659-1521925200-1521925200@theeofficepub.com
SUMMARY:Live Music ~ Al Howard
DESCRIPTION:
URL:https://theeofficepub.com/event/live-music-al-howard-17/
LOCATION:Thee Office Pub\, 128 South Main Street\, Romeo\, MI\, 48065\, United States
GEO:42.801722;-83.013685
X-APPLE-STRUCTURED-LOCATION;VALUE=URI;X-ADDRESS=Thee Office Pub 128 South Main Street Romeo MI 48065 United States;X-APPLE-RADIUS=500;X-TITLE=128 South Main Street:geo:-83.013685,42.801722
END:VEVENT
BEGIN:VEVENT
DTSTART;TZID=America/Detroit:20180317T210000
DTEND;TZID=America/Detroit:20180317T210000
DTSTAMP:20260422T172014
CREATED:20180131T125748Z
LAST-MODIFIED:20180131T125748Z
UID:4709-1521320400-1521320400@theeofficepub.com
SUMMARY:Live Music ~ Momford & Sons
DESCRIPTION:
URL:https://theeofficepub.com/event/live-music-momford-sons-2/
LOCATION:Thee Office Pub\, 128 South Main Street\, Romeo\, MI\, 48065\, United States
GEO:42.801722;-83.013685
X-APPLE-STRUCTURED-LOCATION;VALUE=URI;X-ADDRESS=Thee Office Pub 128 South Main Street Romeo MI 48065 United States;X-APPLE-RADIUS=500;X-TITLE=128 South Main Street:geo:-83.013685,42.801722
END:VEVENT
BEGIN:VEVENT
DTSTART;TZID=America/Detroit:20180310T210000
DTEND;TZID=America/Detroit:20180310T210000
DTSTAMP:20260422T172014
CREATED:20180108T185703Z
LAST-MODIFIED:20180108T185743Z
UID:4654-1520715600-1520715600@theeofficepub.com
SUMMARY:Live Music ~ Jukebox Junkies
DESCRIPTION:
URL:https://theeofficepub.com/event/live-music-clear-eyes-full-hearts-2/
LOCATION:Thee Office Pub\, 128 South Main Street\, Romeo\, MI\, 48065\, United States
GEO:42.801722;-83.013685
X-APPLE-STRUCTURED-LOCATION;VALUE=URI;X-ADDRESS=Thee Office Pub 128 South Main Street Romeo MI 48065 United States;X-APPLE-RADIUS=500;X-TITLE=128 South Main Street:geo:-83.013685,42.801722
END:VEVENT
BEGIN:VEVENT
DTSTART;TZID=America/Detroit:20180303T210000
DTEND;TZID=America/Detroit:20180303T210000
DTSTAMP:20260422T172014
CREATED:20180108T185857Z
LAST-MODIFIED:20180108T185857Z
UID:4657-1520110800-1520110800@theeofficepub.com
SUMMARY:Live Music ~ Clear Eyes\, Full Hearts
DESCRIPTION:
URL:https://theeofficepub.com/event/live-music-clear-eyes-full-hearts-3/
LOCATION:Thee Office Pub\, 128 South Main Street\, Romeo\, MI\, 48065\, United States
GEO:42.801722;-83.013685
X-APPLE-STRUCTURED-LOCATION;VALUE=URI;X-ADDRESS=Thee Office Pub 128 South Main Street Romeo MI 48065 United States;X-APPLE-RADIUS=500;X-TITLE=128 South Main Street:geo:-83.013685,42.801722
END:VEVENT
BEGIN:VEVENT
DTSTART;TZID=America/Detroit:20180224T210000
DTEND;TZID=America/Detroit:20180224T210000
DTSTAMP:20260422T172014
CREATED:20180108T155642Z
LAST-MODIFIED:20180108T185512Z
UID:4652-1519506000-1519506000@theeofficepub.com
SUMMARY:Live Music ~ Ron Alcini
DESCRIPTION:
URL:https://theeofficepub.com/event/live-music-ron-alcini-17/
LOCATION:Thee Office Pub\, 128 South Main Street\, Romeo\, MI\, 48065\, United States
GEO:42.801722;-83.013685
X-APPLE-STRUCTURED-LOCATION;VALUE=URI;X-ADDRESS=Thee Office Pub 128 South Main Street Romeo MI 48065 United States;X-APPLE-RADIUS=500;X-TITLE=128 South Main Street:geo:-83.013685,42.801722
END:VEVENT
BEGIN:VEVENT
DTSTART;TZID=America/Detroit:20180217T210000
DTEND;TZID=America/Detroit:20180217T210000
DTSTAMP:20260422T172014
CREATED:20180108T155529Z
LAST-MODIFIED:20180108T155529Z
UID:4650-1518901200-1518901200@theeofficepub.com
SUMMARY:Live Music ~ Momford & Sons
DESCRIPTION:
URL:https://theeofficepub.com/event/live-music-momford-sons/
LOCATION:Thee Office Pub\, 128 South Main Street\, Romeo\, MI\, 48065\, United States
GEO:42.801722;-83.013685
X-APPLE-STRUCTURED-LOCATION;VALUE=URI;X-ADDRESS=Thee Office Pub 128 South Main Street Romeo MI 48065 United States;X-APPLE-RADIUS=500;X-TITLE=128 South Main Street:geo:-83.013685,42.801722
END:VEVENT
BEGIN:VEVENT
DTSTART;TZID=America/Detroit:20180210T210000
DTEND;TZID=America/Detroit:20180210T210000
DTSTAMP:20260422T172014
CREATED:20180108T155432Z
LAST-MODIFIED:20180108T155432Z
UID:4648-1518296400-1518296400@theeofficepub.com
SUMMARY:Live Music ~ Roy Caldwell
DESCRIPTION:
URL:https://theeofficepub.com/event/live-music-roy-caldwell-14/
LOCATION:Thee Office Pub\, 128 South Main Street\, Romeo\, MI\, 48065\, United States
GEO:42.801722;-83.013685
X-APPLE-STRUCTURED-LOCATION;VALUE=URI;X-ADDRESS=Thee Office Pub 128 South Main Street Romeo MI 48065 United States;X-APPLE-RADIUS=500;X-TITLE=128 South Main Street:geo:-83.013685,42.801722
END:VEVENT
BEGIN:VEVENT
DTSTART;TZID=America/Detroit:20180203T210000
DTEND;TZID=America/Detroit:20180203T210000
DTSTAMP:20260422T172014
CREATED:20180131T125659Z
LAST-MODIFIED:20180131T125659Z
UID:4707-1517691600-1517691600@theeofficepub.com
SUMMARY:Live Music ~ The Brothers Mogan
DESCRIPTION:
URL:https://theeofficepub.com/event/live-music-brothers-mogan-3/
LOCATION:Thee Office Pub\, 128 South Main Street\, Romeo\, MI\, 48065\, United States
GEO:42.801722;-83.013685
X-APPLE-STRUCTURED-LOCATION;VALUE=URI;X-ADDRESS=Thee Office Pub 128 South Main Street Romeo MI 48065 United States;X-APPLE-RADIUS=500;X-TITLE=128 South Main Street:geo:-83.013685,42.801722
END:VEVENT
BEGIN:VEVENT
DTSTART;TZID=America/Detroit:20180127T210000
DTEND;TZID=America/Detroit:20180127T210000
DTSTAMP:20260422T172014
CREATED:20180108T155321Z
LAST-MODIFIED:20180108T155321Z
UID:4646-1517086800-1517086800@theeofficepub.com
SUMMARY:Clear Eyes\, Full Hearts
DESCRIPTION:
URL:https://theeofficepub.com/event/clear-eyes-full-hearts-2/
LOCATION:Thee Office Pub\, 128 South Main Street\, Romeo\, MI\, 48065\, United States
GEO:42.801722;-83.013685
X-APPLE-STRUCTURED-LOCATION;VALUE=URI;X-ADDRESS=Thee Office Pub 128 South Main Street Romeo MI 48065 United States;X-APPLE-RADIUS=500;X-TITLE=128 South Main Street:geo:-83.013685,42.801722
END:VEVENT
BEGIN:VEVENT
DTSTART;TZID=America/Detroit:20180120T210000
DTEND;TZID=America/Detroit:20180120T210000
DTSTAMP:20260422T172014
CREATED:20171212T181309Z
LAST-MODIFIED:20171212T181309Z
UID:4628-1516482000-1516482000@theeofficepub.com
SUMMARY:Jukebox Junkies
DESCRIPTION:
URL:https://theeofficepub.com/event/jukebox-junkies-5/
LOCATION:Thee Office Pub\, 128 South Main Street\, Romeo\, MI\, 48065\, United States
GEO:42.801722;-83.013685
X-APPLE-STRUCTURED-LOCATION;VALUE=URI;X-ADDRESS=Thee Office Pub 128 South Main Street Romeo MI 48065 United States;X-APPLE-RADIUS=500;X-TITLE=128 South Main Street:geo:-83.013685,42.801722
END:VEVENT
BEGIN:VEVENT
DTSTART;TZID=America/Detroit:20180113T210000
DTEND;TZID=America/Detroit:20180113T210000
DTSTAMP:20260422T172014
CREATED:20171212T181211Z
LAST-MODIFIED:20171218T140106Z
UID:4626-1515877200-1515877200@theeofficepub.com
SUMMARY:Ron Alcini
DESCRIPTION:
URL:https://theeofficepub.com/event/ron-alcini-3/
LOCATION:Thee Office Pub\, 128 South Main Street\, Romeo\, MI\, 48065\, United States
GEO:42.801722;-83.013685
X-APPLE-STRUCTURED-LOCATION;VALUE=URI;X-ADDRESS=Thee Office Pub 128 South Main Street Romeo MI 48065 United States;X-APPLE-RADIUS=500;X-TITLE=128 South Main Street:geo:-83.013685,42.801722
END:VEVENT
BEGIN:VEVENT
DTSTART;TZID=America/Detroit:20180106T210000
DTEND;TZID=America/Detroit:20180106T210000
DTSTAMP:20260422T172014
CREATED:20171212T180610Z
LAST-MODIFIED:20171212T180610Z
UID:4624-1515272400-1515272400@theeofficepub.com
SUMMARY:The Arrogant Richards
DESCRIPTION:
URL:https://theeofficepub.com/event/the-arrogant-richards/
LOCATION:Thee Office Pub\, 128 South Main Street\, Romeo\, MI\, 48065\, United States
GEO:42.801722;-83.013685
X-APPLE-STRUCTURED-LOCATION;VALUE=URI;X-ADDRESS=Thee Office Pub 128 South Main Street Romeo MI 48065 United States;X-APPLE-RADIUS=500;X-TITLE=128 South Main Street:geo:-83.013685,42.801722
END:VEVENT
BEGIN:VEVENT
DTSTART;TZID=America/Detroit:20171230T210000
DTEND;TZID=America/Detroit:20171230T210000
DTSTAMP:20260422T172014
CREATED:20171120T143035Z
LAST-MODIFIED:20171120T143035Z
UID:4610-1514667600-1514667600@theeofficepub.com
SUMMARY:Live Music - Roy Caldwell
DESCRIPTION:
URL:https://theeofficepub.com/event/live-music-roy-caldwell-13/
LOCATION:Thee Office Pub\, 128 South Main Street\, Romeo\, MI\, 48065\, United States
GEO:42.801722;-83.013685
X-APPLE-STRUCTURED-LOCATION;VALUE=URI;X-ADDRESS=Thee Office Pub 128 South Main Street Romeo MI 48065 United States;X-APPLE-RADIUS=500;X-TITLE=128 South Main Street:geo:-83.013685,42.801722
END:VEVENT
BEGIN:VEVENT
DTSTART;TZID=America/Detroit:20171216T210000
DTEND;TZID=America/Detroit:20171217T010000
DTSTAMP:20260422T172014
CREATED:20170712T154948Z
LAST-MODIFIED:20170712T154948Z
UID:4548-1513458000-1513472400@theeofficepub.com
SUMMARY:Al Howard
DESCRIPTION:
URL:https://theeofficepub.com/event/al-howard-3/
LOCATION:Thee Office Pub\, 128 South Main Street\, Romeo\, MI\, 48065\, United States
GEO:42.801722;-83.013685
X-APPLE-STRUCTURED-LOCATION;VALUE=URI;X-ADDRESS=Thee Office Pub 128 South Main Street Romeo MI 48065 United States;X-APPLE-RADIUS=500;X-TITLE=128 South Main Street:geo:-83.013685,42.801722
END:VEVENT
BEGIN:VEVENT
DTSTART;TZID=America/Detroit:20171209T210000
DTEND;TZID=America/Detroit:20171210T010000
DTSTAMP:20260422T172014
CREATED:20170712T154906Z
LAST-MODIFIED:20170712T154906Z
UID:4546-1512853200-1512867600@theeofficepub.com
SUMMARY:The Brothers Mogan
DESCRIPTION:
URL:https://theeofficepub.com/event/the-brothers-mogan-2/
LOCATION:Thee Office Pub\, 128 South Main Street\, Romeo\, MI\, 48065\, United States
GEO:42.801722;-83.013685
X-APPLE-STRUCTURED-LOCATION;VALUE=URI;X-ADDRESS=Thee Office Pub 128 South Main Street Romeo MI 48065 United States;X-APPLE-RADIUS=500;X-TITLE=128 South Main Street:geo:-83.013685,42.801722
END:VEVENT
BEGIN:VEVENT
DTSTART;TZID=America/Detroit:20171202T210000
DTEND;TZID=America/Detroit:20171203T010000
DTSTAMP:20260422T172014
CREATED:20170712T154826Z
LAST-MODIFIED:20170712T154826Z
UID:4544-1512248400-1512262800@theeofficepub.com
SUMMARY:Jukebox Junkies
DESCRIPTION:
URL:https://theeofficepub.com/event/jukebox-junkies-4/
LOCATION:Thee Office Pub\, 128 South Main Street\, Romeo\, MI\, 48065\, United States
GEO:42.801722;-83.013685
X-APPLE-STRUCTURED-LOCATION;VALUE=URI;X-ADDRESS=Thee Office Pub 128 South Main Street Romeo MI 48065 United States;X-APPLE-RADIUS=500;X-TITLE=128 South Main Street:geo:-83.013685,42.801722
END:VEVENT
BEGIN:VEVENT
DTSTART;TZID=America/Detroit:20171125T210000
DTEND;TZID=America/Detroit:20171125T210000
DTSTAMP:20260422T172014
CREATED:20171120T142853Z
LAST-MODIFIED:20171120T142853Z
UID:4606-1511643600-1511643600@theeofficepub.com
SUMMARY:Clear Eyes\, Full Hearts
DESCRIPTION:
URL:https://theeofficepub.com/event/clear-eyes-full-hearts/
LOCATION:Thee Office Pub\, 128 South Main Street\, Romeo\, MI\, 48065\, United States
GEO:42.801722;-83.013685
X-APPLE-STRUCTURED-LOCATION;VALUE=URI;X-ADDRESS=Thee Office Pub 128 South Main Street Romeo MI 48065 United States;X-APPLE-RADIUS=500;X-TITLE=128 South Main Street:geo:-83.013685,42.801722
END:VEVENT
BEGIN:VEVENT
DTSTART;TZID=America/Detroit:20171118T210000
DTEND;TZID=America/Detroit:20171119T010000
DTSTAMP:20260422T172014
CREATED:20170712T154446Z
LAST-MODIFIED:20170712T154446Z
UID:4542-1511038800-1511053200@theeofficepub.com
SUMMARY:Ron Alcini
DESCRIPTION:
URL:https://theeofficepub.com/event/ron-alcini-2/
LOCATION:Thee Office Pub\, 128 South Main Street\, Romeo\, MI\, 48065\, United States
GEO:42.801722;-83.013685
X-APPLE-STRUCTURED-LOCATION;VALUE=URI;X-ADDRESS=Thee Office Pub 128 South Main Street Romeo MI 48065 United States;X-APPLE-RADIUS=500;X-TITLE=128 South Main Street:geo:-83.013685,42.801722
END:VEVENT
BEGIN:VEVENT
DTSTART;TZID=America/Detroit:20171111T210000
DTEND;TZID=America/Detroit:20171112T010000
DTSTAMP:20260422T172014
CREATED:20170712T154404Z
LAST-MODIFIED:20170712T154404Z
UID:4540-1510434000-1510448400@theeofficepub.com
SUMMARY:Al Howard
DESCRIPTION:
URL:https://theeofficepub.com/event/al-howard-2/
LOCATION:Thee Office Pub\, 128 South Main Street\, Romeo\, MI\, 48065\, United States
GEO:42.801722;-83.013685
X-APPLE-STRUCTURED-LOCATION;VALUE=URI;X-ADDRESS=Thee Office Pub 128 South Main Street Romeo MI 48065 United States;X-APPLE-RADIUS=500;X-TITLE=128 South Main Street:geo:-83.013685,42.801722
END:VEVENT
BEGIN:VEVENT
DTSTART;TZID=America/Detroit:20171104T210000
DTEND;TZID=America/Detroit:20171105T010000
DTSTAMP:20260422T172014
CREATED:20170712T151356Z
LAST-MODIFIED:20170712T151356Z
UID:4538-1509829200-1509843600@theeofficepub.com
SUMMARY:Roy Caldwell
DESCRIPTION:
URL:https://theeofficepub.com/event/roy-caldwell-3/
LOCATION:Thee Office Pub\, 128 South Main Street\, Romeo\, MI\, 48065\, United States
GEO:42.801722;-83.013685
X-APPLE-STRUCTURED-LOCATION;VALUE=URI;X-ADDRESS=Thee Office Pub 128 South Main Street Romeo MI 48065 United States;X-APPLE-RADIUS=500;X-TITLE=128 South Main Street:geo:-83.013685,42.801722
END:VEVENT
BEGIN:VEVENT
DTSTART;TZID=America/Detroit:20171028T210000
DTEND;TZID=America/Detroit:20171028T210000
DTSTAMP:20260422T172014
CREATED:20171005T155234Z
LAST-MODIFIED:20171005T155234Z
UID:4589-1509224400-1509224400@theeofficepub.com
SUMMARY:Jason Charles Band
DESCRIPTION:
URL:https://theeofficepub.com/event/jason-charles-band-2/
LOCATION:Thee Office Pub\, 128 South Main Street\, Romeo\, MI\, 48065\, United States
GEO:42.801722;-83.013685
X-APPLE-STRUCTURED-LOCATION;VALUE=URI;X-ADDRESS=Thee Office Pub 128 South Main Street Romeo MI 48065 United States;X-APPLE-RADIUS=500;X-TITLE=128 South Main Street:geo:-83.013685,42.801722
END:VEVENT
BEGIN:VEVENT
DTSTART;TZID=America/Detroit:20171021T210000
DTEND;TZID=America/Detroit:20171022T010000
DTSTAMP:20260422T172014
CREATED:20170712T150832Z
LAST-MODIFIED:20170712T150832Z
UID:4536-1508619600-1508634000@theeofficepub.com
SUMMARY:The Brothers Mogan
DESCRIPTION:
URL:https://theeofficepub.com/event/the-brothers-mogan/
LOCATION:Thee Office Pub\, 128 South Main Street\, Romeo\, MI\, 48065\, United States
GEO:42.801722;-83.013685
X-APPLE-STRUCTURED-LOCATION;VALUE=URI;X-ADDRESS=Thee Office Pub 128 South Main Street Romeo MI 48065 United States;X-APPLE-RADIUS=500;X-TITLE=128 South Main Street:geo:-83.013685,42.801722
END:VEVENT
BEGIN:VEVENT
DTSTART;TZID=America/Detroit:20171014T210000
DTEND;TZID=America/Detroit:20171015T010000
DTSTAMP:20260422T172014
CREATED:20170712T150732Z
LAST-MODIFIED:20170712T150732Z
UID:4534-1508014800-1508029200@theeofficepub.com
SUMMARY:Jukebox Junkies
DESCRIPTION:
URL:https://theeofficepub.com/event/jukebox-junkies-3/
LOCATION:Thee Office Pub\, 128 South Main Street\, Romeo\, MI\, 48065\, United States
GEO:42.801722;-83.013685
X-APPLE-STRUCTURED-LOCATION;VALUE=URI;X-ADDRESS=Thee Office Pub 128 South Main Street Romeo MI 48065 United States;X-APPLE-RADIUS=500;X-TITLE=128 South Main Street:geo:-83.013685,42.801722
END:VEVENT
BEGIN:VEVENT
DTSTART;TZID=America/Detroit:20171007T210000
DTEND;TZID=America/Detroit:20171008T010000
DTSTAMP:20260422T172014
CREATED:20170712T150643Z
LAST-MODIFIED:20170712T150643Z
UID:4532-1507410000-1507424400@theeofficepub.com
SUMMARY:Ron Alcini
DESCRIPTION:
URL:https://theeofficepub.com/event/ron-alcini/
LOCATION:Thee Office Pub\, 128 South Main Street\, Romeo\, MI\, 48065\, United States
GEO:42.801722;-83.013685
X-APPLE-STRUCTURED-LOCATION;VALUE=URI;X-ADDRESS=Thee Office Pub 128 South Main Street Romeo MI 48065 United States;X-APPLE-RADIUS=500;X-TITLE=128 South Main Street:geo:-83.013685,42.801722
END:VEVENT
BEGIN:VEVENT
DTSTART;TZID=America/Detroit:20170930T210000
DTEND;TZID=America/Detroit:20171001T010000
DTSTAMP:20260422T172014
CREATED:20170712T150342Z
LAST-MODIFIED:20170712T150342Z
UID:4530-1506805200-1506819600@theeofficepub.com
SUMMARY:Roy Caldwell
DESCRIPTION:
URL:https://theeofficepub.com/event/roy-caldwell-2/
LOCATION:Thee Office Pub\, 128 South Main Street\, Romeo\, MI\, 48065\, United States
GEO:42.801722;-83.013685
X-APPLE-STRUCTURED-LOCATION;VALUE=URI;X-ADDRESS=Thee Office Pub 128 South Main Street Romeo MI 48065 United States;X-APPLE-RADIUS=500;X-TITLE=128 South Main Street:geo:-83.013685,42.801722
END:VEVENT
BEGIN:VEVENT
DTSTART;TZID=America/Detroit:20170923T210000
DTEND;TZID=America/Detroit:20170923T210000
DTSTAMP:20260422T172014
CREATED:20170911T122637Z
LAST-MODIFIED:20170911T122637Z
UID:4576-1506200400-1506200400@theeofficepub.com
SUMMARY:Live Music~Ozone Pirates
DESCRIPTION:
URL:https://theeofficepub.com/event/live-musicozone-pirates/
LOCATION:Thee Office Pub\, 128 South Main Street\, Romeo\, MI\, 48065\, United States
GEO:42.801722;-83.013685
X-APPLE-STRUCTURED-LOCATION;VALUE=URI;X-ADDRESS=Thee Office Pub 128 South Main Street Romeo MI 48065 United States;X-APPLE-RADIUS=500;X-TITLE=128 South Main Street:geo:-83.013685,42.801722
END:VEVENT
BEGIN:VEVENT
DTSTART;TZID=America/Detroit:20170916T210000
DTEND;TZID=America/Detroit:20170917T010000
DTSTAMP:20260422T172014
CREATED:20170712T145851Z
LAST-MODIFIED:20170712T145851Z
UID:4528-1505595600-1505610000@theeofficepub.com
SUMMARY:Al Howard
DESCRIPTION:
URL:https://theeofficepub.com/event/al-howard/
LOCATION:Thee Office Pub\, 128 South Main Street\, Romeo\, MI\, 48065\, United States
GEO:42.801722;-83.013685
X-APPLE-STRUCTURED-LOCATION;VALUE=URI;X-ADDRESS=Thee Office Pub 128 South Main Street Romeo MI 48065 United States;X-APPLE-RADIUS=500;X-TITLE=128 South Main Street:geo:-83.013685,42.801722
END:VEVENT
BEGIN:VEVENT
DTSTART;TZID=America/Detroit:20170909T210000
DTEND;TZID=America/Detroit:20170910T010000
DTSTAMP:20260422T172014
CREATED:20170712T145230Z
LAST-MODIFIED:20170712T145230Z
UID:4525-1504990800-1505005200@theeofficepub.com
SUMMARY:Jukebox Junkies
DESCRIPTION:
URL:https://theeofficepub.com/event/jukebox-junkies-2/
LOCATION:Thee Office Pub\, 128 South Main Street\, Romeo\, MI\, 48065\, United States
GEO:42.801722;-83.013685
X-APPLE-STRUCTURED-LOCATION;VALUE=URI;X-ADDRESS=Thee Office Pub 128 South Main Street Romeo MI 48065 United States;X-APPLE-RADIUS=500;X-TITLE=128 South Main Street:geo:-83.013685,42.801722
END:VEVENT
BEGIN:VEVENT
DTSTART;TZID=America/Detroit:20170826T210000
DTEND;TZID=America/Detroit:20170827T010000
DTSTAMP:20260422T172014
CREATED:20170712T145113Z
LAST-MODIFIED:20170712T145113Z
UID:4523-1503781200-1503795600@theeofficepub.com
SUMMARY:Jason Charles Band
DESCRIPTION:
URL:https://theeofficepub.com/event/jason-charles-band/
LOCATION:Thee Office Pub\, 128 South Main Street\, Romeo\, MI\, 48065\, United States
GEO:42.801722;-83.013685
X-APPLE-STRUCTURED-LOCATION;VALUE=URI;X-ADDRESS=Thee Office Pub 128 South Main Street Romeo MI 48065 United States;X-APPLE-RADIUS=500;X-TITLE=128 South Main Street:geo:-83.013685,42.801722
END:VEVENT
END:VCALENDAR