BEGIN:VCALENDAR
VERSION:2.0
PRODID:-//Thee Office Pub - ECPv6.7.1//NONSGML v1.0//EN
CALSCALE:GREGORIAN
METHOD:PUBLISH
X-WR-CALNAME:Thee Office Pub
X-ORIGINAL-URL:https://theeofficepub.com
X-WR-CALDESC:Events for Thee Office Pub
REFRESH-INTERVAL;VALUE=DURATION:PT1H
X-Robots-Tag:noindex
X-PUBLISHED-TTL:PT1H
BEGIN:VTIMEZONE
TZID:America/Detroit
BEGIN:DAYLIGHT
TZOFFSETFROM:-0500
TZOFFSETTO:-0400
TZNAME:EDT
DTSTART:20160313T070000
END:DAYLIGHT
BEGIN:STANDARD
TZOFFSETFROM:-0400
TZOFFSETTO:-0500
TZNAME:EST
DTSTART:20161106T060000
END:STANDARD
BEGIN:DAYLIGHT
TZOFFSETFROM:-0500
TZOFFSETTO:-0400
TZNAME:EDT
DTSTART:20170312T070000
END:DAYLIGHT
BEGIN:STANDARD
TZOFFSETFROM:-0400
TZOFFSETTO:-0500
TZNAME:EST
DTSTART:20171105T060000
END:STANDARD
END:VTIMEZONE
BEGIN:VEVENT
DTSTART;TZID=America/Detroit:20170812T210000
DTEND;TZID=America/Detroit:20170813T010000
DTSTAMP:20260423T085715
CREATED:20170712T144932Z
LAST-MODIFIED:20170712T144932Z
UID:4521-1502571600-1502586000@theeofficepub.com
SUMMARY:Austin Scott
DESCRIPTION:
URL:https://theeofficepub.com/event/austin-scott-2/
LOCATION:Thee Office Pub\, 128 South Main Street\, Romeo\, MI\, 48065\, United States
GEO:42.801722;-83.013685
X-APPLE-STRUCTURED-LOCATION;VALUE=URI;X-ADDRESS=Thee Office Pub 128 South Main Street Romeo MI 48065 United States;X-APPLE-RADIUS=500;X-TITLE=128 South Main Street:geo:-83.013685,42.801722
END:VEVENT
BEGIN:VEVENT
DTSTART;TZID=America/Detroit:20170729T210000
DTEND;TZID=America/Detroit:20170730T010000
DTSTAMP:20260423T085715
CREATED:20170712T144613Z
LAST-MODIFIED:20170712T144613Z
UID:4515-1501362000-1501376400@theeofficepub.com
SUMMARY:Roy Caldwell
DESCRIPTION:
URL:https://theeofficepub.com/event/roy-caldwell/
LOCATION:Thee Office Pub\, 128 South Main Street\, Romeo\, MI\, 48065\, United States
GEO:42.801722;-83.013685
X-APPLE-STRUCTURED-LOCATION;VALUE=URI;X-ADDRESS=Thee Office Pub 128 South Main Street Romeo MI 48065 United States;X-APPLE-RADIUS=500;X-TITLE=128 South Main Street:geo:-83.013685,42.801722
END:VEVENT
BEGIN:VEVENT
DTSTART;TZID=America/Detroit:20170715T210000
DTEND;TZID=America/Detroit:20170716T010000
DTSTAMP:20260423T085715
CREATED:20170712T144446Z
LAST-MODIFIED:20170712T144446Z
UID:4513-1500152400-1500166800@theeofficepub.com
SUMMARY:Jukebox Junkies
DESCRIPTION:
URL:https://theeofficepub.com/event/jukebox-junkies/
LOCATION:Thee Office Pub\, 128 South Main Street\, Romeo\, MI\, 48065\, United States
GEO:42.801722;-83.013685
X-APPLE-STRUCTURED-LOCATION;VALUE=URI;X-ADDRESS=Thee Office Pub 128 South Main Street Romeo MI 48065 United States;X-APPLE-RADIUS=500;X-TITLE=128 South Main Street:geo:-83.013685,42.801722
END:VEVENT
BEGIN:VEVENT
DTSTART;TZID=America/Detroit:20170624T210000
DTEND;TZID=America/Detroit:20170625T010000
DTSTAMP:20260423T085715
CREATED:20170712T144845Z
LAST-MODIFIED:20170712T144845Z
UID:4519-1498338000-1498352400@theeofficepub.com
SUMMARY:The Revivors
DESCRIPTION:
URL:https://theeofficepub.com/event/the-revivors/
LOCATION:Thee Office Pub\, 128 South Main Street\, Romeo\, MI\, 48065\, United States
GEO:42.801722;-83.013685
X-APPLE-STRUCTURED-LOCATION;VALUE=URI;X-ADDRESS=Thee Office Pub 128 South Main Street Romeo MI 48065 United States;X-APPLE-RADIUS=500;X-TITLE=128 South Main Street:geo:-83.013685,42.801722
END:VEVENT
BEGIN:VEVENT
DTSTART;TZID=America/Detroit:20170603T210000
DTEND;TZID=America/Detroit:20170604T010000
DTSTAMP:20260423T085715
CREATED:20170712T144743Z
LAST-MODIFIED:20170712T144743Z
UID:4517-1496523600-1496538000@theeofficepub.com
SUMMARY:Austin Scott
DESCRIPTION:
URL:https://theeofficepub.com/event/austin-scott/
LOCATION:Thee Office Pub\, 128 South Main Street\, Romeo\, MI\, 48065\, United States
GEO:42.801722;-83.013685
X-APPLE-STRUCTURED-LOCATION;VALUE=URI;X-ADDRESS=Thee Office Pub 128 South Main Street Romeo MI 48065 United States;X-APPLE-RADIUS=500;X-TITLE=128 South Main Street:geo:-83.013685,42.801722
END:VEVENT
BEGIN:VEVENT
DTSTART;TZID=America/Detroit:20170527T210000
DTEND;TZID=America/Detroit:20170527T210000
DTSTAMP:20260423T085715
CREATED:20170105T041024Z
LAST-MODIFIED:20170105T041024Z
UID:4318-1495918800-1495918800@theeofficepub.com
SUMMARY:Live Music ~ Roy Caldwell
DESCRIPTION:
URL:https://theeofficepub.com/event/live-music-roy-caldwell-12/
LOCATION:Thee Office Pub\, 128 South Main Street\, Romeo\, MI\, 48065\, United States
GEO:42.801722;-83.013685
X-APPLE-STRUCTURED-LOCATION;VALUE=URI;X-ADDRESS=Thee Office Pub 128 South Main Street Romeo MI 48065 United States;X-APPLE-RADIUS=500;X-TITLE=128 South Main Street:geo:-83.013685,42.801722
END:VEVENT
BEGIN:VEVENT
DTSTART;TZID=America/Detroit:20170520T210000
DTEND;TZID=America/Detroit:20170520T210000
DTSTAMP:20260423T085715
CREATED:20170105T040948Z
LAST-MODIFIED:20170105T040948Z
UID:4316-1495314000-1495314000@theeofficepub.com
SUMMARY:Live Music ~ Jukebox Junkies
DESCRIPTION:
URL:https://theeofficepub.com/event/live-music-jukebox-junkies-16/
LOCATION:Thee Office Pub\, 128 South Main Street\, Romeo\, MI\, 48065\, United States
GEO:42.801722;-83.013685
X-APPLE-STRUCTURED-LOCATION;VALUE=URI;X-ADDRESS=Thee Office Pub 128 South Main Street Romeo MI 48065 United States;X-APPLE-RADIUS=500;X-TITLE=128 South Main Street:geo:-83.013685,42.801722
END:VEVENT
BEGIN:VEVENT
DTSTART;TZID=America/Detroit:20170513T210000
DTEND;TZID=America/Detroit:20170513T210000
DTSTAMP:20260423T085715
CREATED:20170105T040848Z
LAST-MODIFIED:20170105T040848Z
UID:4314-1494709200-1494709200@theeofficepub.com
SUMMARY:Live Music ~ Ron Alcini
DESCRIPTION:
URL:https://theeofficepub.com/event/live-music-ron-alcini-16/
LOCATION:Thee Office Pub\, 128 South Main Street\, Romeo\, MI\, 48065\, United States
GEO:42.801722;-83.013685
X-APPLE-STRUCTURED-LOCATION;VALUE=URI;X-ADDRESS=Thee Office Pub 128 South Main Street Romeo MI 48065 United States;X-APPLE-RADIUS=500;X-TITLE=128 South Main Street:geo:-83.013685,42.801722
END:VEVENT
BEGIN:VEVENT
DTSTART;TZID=America/Detroit:20170506T210000
DTEND;TZID=America/Detroit:20170506T210000
DTSTAMP:20260423T085715
CREATED:20170105T040813Z
LAST-MODIFIED:20170105T040813Z
UID:4312-1494104400-1494104400@theeofficepub.com
SUMMARY:Live Music ~ Al Howard
DESCRIPTION:
URL:https://theeofficepub.com/event/live-music-al-howard-16/
LOCATION:Thee Office Pub\, 128 South Main Street\, Romeo\, MI\, 48065\, United States
GEO:42.801722;-83.013685
X-APPLE-STRUCTURED-LOCATION;VALUE=URI;X-ADDRESS=Thee Office Pub 128 South Main Street Romeo MI 48065 United States;X-APPLE-RADIUS=500;X-TITLE=128 South Main Street:geo:-83.013685,42.801722
END:VEVENT
BEGIN:VEVENT
DTSTART;TZID=America/Detroit:20170429T210000
DTEND;TZID=America/Detroit:20170429T210000
DTSTAMP:20260423T085715
CREATED:20170105T040734Z
LAST-MODIFIED:20170105T040734Z
UID:4310-1493499600-1493499600@theeofficepub.com
SUMMARY:Live Music ~ The Brothers Mogan
DESCRIPTION:
URL:https://theeofficepub.com/event/live-music-brothers-mogan-2/
LOCATION:Thee Office Pub\, 128 South Main Street\, Romeo\, MI\, 48065\, United States
GEO:42.801722;-83.013685
X-APPLE-STRUCTURED-LOCATION;VALUE=URI;X-ADDRESS=Thee Office Pub 128 South Main Street Romeo MI 48065 United States;X-APPLE-RADIUS=500;X-TITLE=128 South Main Street:geo:-83.013685,42.801722
END:VEVENT
BEGIN:VEVENT
DTSTART;TZID=America/Detroit:20170422T210000
DTEND;TZID=America/Detroit:20170422T210000
DTSTAMP:20260423T085715
CREATED:20170105T040656Z
LAST-MODIFIED:20170105T040656Z
UID:4308-1492894800-1492894800@theeofficepub.com
SUMMARY:Live Music ~ Jukebox Junkies
DESCRIPTION:
URL:https://theeofficepub.com/event/live-music-jukebox-junkies-15/
LOCATION:Thee Office Pub\, 128 South Main Street\, Romeo\, MI\, 48065\, United States
GEO:42.801722;-83.013685
X-APPLE-STRUCTURED-LOCATION;VALUE=URI;X-ADDRESS=Thee Office Pub 128 South Main Street Romeo MI 48065 United States;X-APPLE-RADIUS=500;X-TITLE=128 South Main Street:geo:-83.013685,42.801722
END:VEVENT
BEGIN:VEVENT
DTSTART;TZID=America/Detroit:20170415T210000
DTEND;TZID=America/Detroit:20170415T210000
DTSTAMP:20260423T085715
CREATED:20170105T040615Z
LAST-MODIFIED:20170105T040615Z
UID:4306-1492290000-1492290000@theeofficepub.com
SUMMARY:Live Music ~ Roy Caldwell
DESCRIPTION:
URL:https://theeofficepub.com/event/live-music-roy-caldwell-11/
LOCATION:Thee Office Pub\, 128 South Main Street\, Romeo\, MI\, 48065\, United States
GEO:42.801722;-83.013685
X-APPLE-STRUCTURED-LOCATION;VALUE=URI;X-ADDRESS=Thee Office Pub 128 South Main Street Romeo MI 48065 United States;X-APPLE-RADIUS=500;X-TITLE=128 South Main Street:geo:-83.013685,42.801722
END:VEVENT
BEGIN:VEVENT
DTSTART;TZID=America/Detroit:20170408T210000
DTEND;TZID=America/Detroit:20170408T210000
DTSTAMP:20260423T085715
CREATED:20170105T040538Z
LAST-MODIFIED:20170105T040538Z
UID:4304-1491685200-1491685200@theeofficepub.com
SUMMARY:Live Music ~ Barelyon
DESCRIPTION:
URL:https://theeofficepub.com/event/live-music-barelyon-4/
LOCATION:Thee Office Pub\, 128 South Main Street\, Romeo\, MI\, 48065\, United States
GEO:42.801722;-83.013685
X-APPLE-STRUCTURED-LOCATION;VALUE=URI;X-ADDRESS=Thee Office Pub 128 South Main Street Romeo MI 48065 United States;X-APPLE-RADIUS=500;X-TITLE=128 South Main Street:geo:-83.013685,42.801722
END:VEVENT
BEGIN:VEVENT
DTSTART;TZID=America/Detroit:20170401T210000
DTEND;TZID=America/Detroit:20170401T210000
DTSTAMP:20260423T085715
CREATED:20170105T040502Z
LAST-MODIFIED:20170105T040502Z
UID:4302-1491080400-1491080400@theeofficepub.com
SUMMARY:Live Music ~ Ron Alcini
DESCRIPTION:
URL:https://theeofficepub.com/event/live-music-ron-alcini-15/
LOCATION:Thee Office Pub\, 128 South Main Street\, Romeo\, MI\, 48065\, United States
GEO:42.801722;-83.013685
X-APPLE-STRUCTURED-LOCATION;VALUE=URI;X-ADDRESS=Thee Office Pub 128 South Main Street Romeo MI 48065 United States;X-APPLE-RADIUS=500;X-TITLE=128 South Main Street:geo:-83.013685,42.801722
END:VEVENT
BEGIN:VEVENT
DTSTART;TZID=America/Detroit:20170325T210000
DTEND;TZID=America/Detroit:20170325T210000
DTSTAMP:20260423T085715
CREATED:20170105T040403Z
LAST-MODIFIED:20170105T040403Z
UID:4300-1490475600-1490475600@theeofficepub.com
SUMMARY:Live Music ~   Al Howard
DESCRIPTION:
URL:https://theeofficepub.com/event/live-music-al-howard-15/
LOCATION:Thee Office Pub\, 128 South Main Street\, Romeo\, MI\, 48065\, United States
GEO:42.801722;-83.013685
X-APPLE-STRUCTURED-LOCATION;VALUE=URI;X-ADDRESS=Thee Office Pub 128 South Main Street Romeo MI 48065 United States;X-APPLE-RADIUS=500;X-TITLE=128 South Main Street:geo:-83.013685,42.801722
END:VEVENT
BEGIN:VEVENT
DTSTART;TZID=America/Detroit:20170318T210000
DTEND;TZID=America/Detroit:20170318T210000
DTSTAMP:20260423T085715
CREATED:20170215T144820Z
LAST-MODIFIED:20170215T144820Z
UID:4361-1489870800-1489870800@theeofficepub.com
SUMMARY:Live Music ~ Austin Scott
DESCRIPTION:
URL:https://theeofficepub.com/event/live-music-austin-scott/
LOCATION:Thee Office Pub\, 128 South Main Street\, Romeo\, MI\, 48065\, United States
GEO:42.801722;-83.013685
X-APPLE-STRUCTURED-LOCATION;VALUE=URI;X-ADDRESS=Thee Office Pub 128 South Main Street Romeo MI 48065 United States;X-APPLE-RADIUS=500;X-TITLE=128 South Main Street:geo:-83.013685,42.801722
END:VEVENT
BEGIN:VEVENT
DTSTART;TZID=America/Detroit:20170311T210000
DTEND;TZID=America/Detroit:20170311T210000
DTSTAMP:20260423T085715
CREATED:20170105T040238Z
LAST-MODIFIED:20170105T040238Z
UID:4298-1489266000-1489266000@theeofficepub.com
SUMMARY:Live Music ~ Jukebox Junkies
DESCRIPTION:
URL:https://theeofficepub.com/event/live-music-jukebox-junkies-14/
LOCATION:Thee Office Pub\, 128 South Main Street\, Romeo\, MI\, 48065\, United States
GEO:42.801722;-83.013685
X-APPLE-STRUCTURED-LOCATION;VALUE=URI;X-ADDRESS=Thee Office Pub 128 South Main Street Romeo MI 48065 United States;X-APPLE-RADIUS=500;X-TITLE=128 South Main Street:geo:-83.013685,42.801722
END:VEVENT
BEGIN:VEVENT
DTSTART;TZID=America/Detroit:20170304T210000
DTEND;TZID=America/Detroit:20170304T210000
DTSTAMP:20260423T085715
CREATED:20170105T040146Z
LAST-MODIFIED:20170105T040146Z
UID:4296-1488661200-1488661200@theeofficepub.com
SUMMARY:Live Music ~ The Brothers Mogan
DESCRIPTION:
URL:https://theeofficepub.com/event/live-music-brothers-mogan/
LOCATION:Thee Office Pub\, 128 South Main Street\, Romeo\, MI\, 48065\, United States
GEO:42.801722;-83.013685
X-APPLE-STRUCTURED-LOCATION;VALUE=URI;X-ADDRESS=Thee Office Pub 128 South Main Street Romeo MI 48065 United States;X-APPLE-RADIUS=500;X-TITLE=128 South Main Street:geo:-83.013685,42.801722
END:VEVENT
BEGIN:VEVENT
DTSTART;TZID=America/Detroit:20170225T210000
DTEND;TZID=America/Detroit:20170225T210000
DTSTAMP:20260423T085715
CREATED:20170105T040044Z
LAST-MODIFIED:20170105T040044Z
UID:4294-1488056400-1488056400@theeofficepub.com
SUMMARY:Live Music ~ Barelyon
DESCRIPTION:
URL:https://theeofficepub.com/event/live-music-barelyon-3/
LOCATION:Thee Office Pub\, 128 South Main Street\, Romeo\, MI\, 48065\, United States
GEO:42.801722;-83.013685
X-APPLE-STRUCTURED-LOCATION;VALUE=URI;X-ADDRESS=Thee Office Pub 128 South Main Street Romeo MI 48065 United States;X-APPLE-RADIUS=500;X-TITLE=128 South Main Street:geo:-83.013685,42.801722
END:VEVENT
BEGIN:VEVENT
DTSTART;TZID=America/Detroit:20170218T210000
DTEND;TZID=America/Detroit:20170218T210000
DTSTAMP:20260423T085715
CREATED:20170105T035858Z
LAST-MODIFIED:20170208T190415Z
UID:4290-1487451600-1487451600@theeofficepub.com
SUMMARY:Live Music ~ Ron Alcini
DESCRIPTION:
URL:https://theeofficepub.com/event/live-music-ron-alcini-14/
LOCATION:Thee Office Pub\, 128 South Main Street\, Romeo\, MI\, 48065\, United States
GEO:42.801722;-83.013685
X-APPLE-STRUCTURED-LOCATION;VALUE=URI;X-ADDRESS=Thee Office Pub 128 South Main Street Romeo MI 48065 United States;X-APPLE-RADIUS=500;X-TITLE=128 South Main Street:geo:-83.013685,42.801722
END:VEVENT
BEGIN:VEVENT
DTSTART;TZID=America/Detroit:20170211T210000
DTEND;TZID=America/Detroit:20170211T210000
DTSTAMP:20260423T085715
CREATED:20170105T040004Z
LAST-MODIFIED:20170208T190524Z
UID:4292-1486846800-1486846800@theeofficepub.com
SUMMARY:Live Music ~ Roy Caldwell
DESCRIPTION:
URL:https://theeofficepub.com/event/live-music-roy-caldwell-10/
LOCATION:Thee Office Pub\, 128 South Main Street\, Romeo\, MI\, 48065\, United States
GEO:42.801722;-83.013685
X-APPLE-STRUCTURED-LOCATION;VALUE=URI;X-ADDRESS=Thee Office Pub 128 South Main Street Romeo MI 48065 United States;X-APPLE-RADIUS=500;X-TITLE=128 South Main Street:geo:-83.013685,42.801722
END:VEVENT
BEGIN:VEVENT
DTSTART;TZID=America/Detroit:20170204T210000
DTEND;TZID=America/Detroit:20170204T210000
DTSTAMP:20260423T085715
CREATED:20170105T035824Z
LAST-MODIFIED:20170105T035824Z
UID:4288-1486242000-1486242000@theeofficepub.com
SUMMARY:Live Music ~ Al Howard
DESCRIPTION:
URL:https://theeofficepub.com/event/live-music-al-howard-14/
LOCATION:Thee Office Pub\, 128 South Main Street\, Romeo\, MI\, 48065\, United States
GEO:42.801722;-83.013685
X-APPLE-STRUCTURED-LOCATION;VALUE=URI;X-ADDRESS=Thee Office Pub 128 South Main Street Romeo MI 48065 United States;X-APPLE-RADIUS=500;X-TITLE=128 South Main Street:geo:-83.013685,42.801722
END:VEVENT
BEGIN:VEVENT
DTSTART;TZID=America/Detroit:20170128T210000
DTEND;TZID=America/Detroit:20170128T210000
DTSTAMP:20260423T085715
CREATED:20170103T152802Z
LAST-MODIFIED:20170103T152802Z
UID:4285-1485637200-1485637200@theeofficepub.com
SUMMARY:Live Music~The Hackwells
DESCRIPTION:
URL:https://theeofficepub.com/event/live-musicthe-hackwells/
LOCATION:Thee Office Pub\, 128 South Main Street\, Romeo\, MI\, 48065\, United States
GEO:42.801722;-83.013685
X-APPLE-STRUCTURED-LOCATION;VALUE=URI;X-ADDRESS=Thee Office Pub 128 South Main Street Romeo MI 48065 United States;X-APPLE-RADIUS=500;X-TITLE=128 South Main Street:geo:-83.013685,42.801722
END:VEVENT
BEGIN:VEVENT
DTSTART;TZID=America/Detroit:20170121T210000
DTEND;TZID=America/Detroit:20170121T210000
DTSTAMP:20260423T085715
CREATED:20170103T152716Z
LAST-MODIFIED:20170103T152716Z
UID:4283-1485032400-1485032400@theeofficepub.com
SUMMARY:Live Music~Jukebox Junkies
DESCRIPTION:
URL:https://theeofficepub.com/event/live-musicjukebox-junkies/
LOCATION:Thee Office Pub\, 128 South Main Street\, Romeo\, MI\, 48065\, United States
GEO:42.801722;-83.013685
X-APPLE-STRUCTURED-LOCATION;VALUE=URI;X-ADDRESS=Thee Office Pub 128 South Main Street Romeo MI 48065 United States;X-APPLE-RADIUS=500;X-TITLE=128 South Main Street:geo:-83.013685,42.801722
END:VEVENT
BEGIN:VEVENT
DTSTART;TZID=America/Detroit:20170114T210000
DTEND;TZID=America/Detroit:20170114T210000
DTSTAMP:20260423T085715
CREATED:20170103T152629Z
LAST-MODIFIED:20170103T152629Z
UID:4281-1484427600-1484427600@theeofficepub.com
SUMMARY:Live Music~Barelyon
DESCRIPTION:
URL:https://theeofficepub.com/event/live-musicbarelyon/
LOCATION:Thee Office Pub\, 128 South Main Street\, Romeo\, MI\, 48065\, United States
GEO:42.801722;-83.013685
X-APPLE-STRUCTURED-LOCATION;VALUE=URI;X-ADDRESS=Thee Office Pub 128 South Main Street Romeo MI 48065 United States;X-APPLE-RADIUS=500;X-TITLE=128 South Main Street:geo:-83.013685,42.801722
END:VEVENT
BEGIN:VEVENT
DTSTART;TZID=America/Detroit:20170107T210000
DTEND;TZID=America/Detroit:20170107T210000
DTSTAMP:20260423T085715
CREATED:20170103T152217Z
LAST-MODIFIED:20170103T152217Z
UID:4279-1483822800-1483822800@theeofficepub.com
SUMMARY:Live Music~Jon Rice & Kedree Young
DESCRIPTION:
URL:https://theeofficepub.com/event/live-musicjon-rice-kedree-young/
LOCATION:Thee Office Pub\, 128 South Main Street\, Romeo\, MI\, 48065\, United States
GEO:42.801722;-83.013685
X-APPLE-STRUCTURED-LOCATION;VALUE=URI;X-ADDRESS=Thee Office Pub 128 South Main Street Romeo MI 48065 United States;X-APPLE-RADIUS=500;X-TITLE=128 South Main Street:geo:-83.013685,42.801722
END:VEVENT
BEGIN:VEVENT
DTSTART;TZID=America/Detroit:20161217T210000
DTEND;TZID=America/Detroit:20161217T210000
DTSTAMP:20260423T085715
CREATED:20160822T180455Z
LAST-MODIFIED:20160822T180455Z
UID:4154-1482008400-1482008400@theeofficepub.com
SUMMARY:Live Music ~ Al Howard
DESCRIPTION:
URL:https://theeofficepub.com/event/live-music-al-howard-13/
LOCATION:Thee Office Pub\, 128 South Main Street\, Romeo\, MI\, 48065\, United States
GEO:42.801722;-83.013685
X-APPLE-STRUCTURED-LOCATION;VALUE=URI;X-ADDRESS=Thee Office Pub 128 South Main Street Romeo MI 48065 United States;X-APPLE-RADIUS=500;X-TITLE=128 South Main Street:geo:-83.013685,42.801722
END:VEVENT
BEGIN:VEVENT
DTSTART;TZID=America/Detroit:20161212T180000
DTEND;TZID=America/Detroit:20161212T200000
DTSTAMP:20260423T085715
CREATED:20161118T161508Z
LAST-MODIFIED:20161118T161508Z
UID:4239-1481565600-1481572800@theeofficepub.com
SUMMARY:Dinner with Santa
DESCRIPTION:We will be offering FREE pictures with Santa as well as our normal Kids Eat Free special. 
URL:https://theeofficepub.com/event/dinner-with-santa/
LOCATION:Thee Office Pub\, 128 South Main Street\, Romeo\, MI\, 48065\, United States
GEO:42.801722;-83.013685
X-APPLE-STRUCTURED-LOCATION;VALUE=URI;X-ADDRESS=Thee Office Pub 128 South Main Street Romeo MI 48065 United States;X-APPLE-RADIUS=500;X-TITLE=128 South Main Street:geo:-83.013685,42.801722
END:VEVENT
BEGIN:VEVENT
DTSTART;TZID=America/Detroit:20161210T210000
DTEND;TZID=America/Detroit:20161210T210000
DTSTAMP:20260423T085715
CREATED:20160822T180419Z
LAST-MODIFIED:20160822T180419Z
UID:4153-1481403600-1481403600@theeofficepub.com
SUMMARY:Live Music ~ Ron Alcini
DESCRIPTION:
URL:https://theeofficepub.com/event/live-music-ron-alcini-13/
LOCATION:Thee Office Pub\, 128 South Main Street\, Romeo\, MI\, 48065\, United States
GEO:42.801722;-83.013685
X-APPLE-STRUCTURED-LOCATION;VALUE=URI;X-ADDRESS=Thee Office Pub 128 South Main Street Romeo MI 48065 United States;X-APPLE-RADIUS=500;X-TITLE=128 South Main Street:geo:-83.013685,42.801722
END:VEVENT
BEGIN:VEVENT
DTSTART;TZID=America/Detroit:20161126T210000
DTEND;TZID=America/Detroit:20161126T210000
DTSTAMP:20260423T085715
CREATED:20160822T180328Z
LAST-MODIFIED:20160822T180328Z
UID:4152-1480194000-1480194000@theeofficepub.com
SUMMARY:Live Music ~ Al Howard
DESCRIPTION:
URL:https://theeofficepub.com/event/live-music-al-howard-12/
LOCATION:Thee Office Pub\, 128 South Main Street\, Romeo\, MI\, 48065\, United States
GEO:42.801722;-83.013685
X-APPLE-STRUCTURED-LOCATION;VALUE=URI;X-ADDRESS=Thee Office Pub 128 South Main Street Romeo MI 48065 United States;X-APPLE-RADIUS=500;X-TITLE=128 South Main Street:geo:-83.013685,42.801722
END:VEVENT
END:VCALENDAR