BEGIN:VCALENDAR
VERSION:2.0
PRODID:-//Thee Office Pub - ECPv6.7.1//NONSGML v1.0//EN
CALSCALE:GREGORIAN
METHOD:PUBLISH
X-WR-CALNAME:Thee Office Pub
X-ORIGINAL-URL:https://theeofficepub.com
X-WR-CALDESC:Events for Thee Office Pub
REFRESH-INTERVAL;VALUE=DURATION:PT1H
X-Robots-Tag:noindex
X-PUBLISHED-TTL:PT1H
BEGIN:VTIMEZONE
TZID:America/Detroit
BEGIN:DAYLIGHT
TZOFFSETFROM:-0500
TZOFFSETTO:-0400
TZNAME:EDT
DTSTART:20160313T070000
END:DAYLIGHT
BEGIN:STANDARD
TZOFFSETFROM:-0400
TZOFFSETTO:-0500
TZNAME:EST
DTSTART:20161106T060000
END:STANDARD
BEGIN:DAYLIGHT
TZOFFSETFROM:-0500
TZOFFSETTO:-0400
TZNAME:EDT
DTSTART:20170312T070000
END:DAYLIGHT
BEGIN:STANDARD
TZOFFSETFROM:-0400
TZOFFSETTO:-0500
TZNAME:EST
DTSTART:20171105T060000
END:STANDARD
END:VTIMEZONE
BEGIN:VEVENT
DTSTART;TZID=America/Detroit:20170211T210000
DTEND;TZID=America/Detroit:20170211T210000
DTSTAMP:20260423T022958
CREATED:20170105T040004Z
LAST-MODIFIED:20170208T190524Z
UID:4292-1486846800-1486846800@theeofficepub.com
SUMMARY:Live Music ~ Roy Caldwell
DESCRIPTION:
URL:https://theeofficepub.com/event/live-music-roy-caldwell-10/
LOCATION:Thee Office Pub\, 128 South Main Street\, Romeo\, MI\, 48065\, United States
GEO:42.801722;-83.013685
X-APPLE-STRUCTURED-LOCATION;VALUE=URI;X-ADDRESS=Thee Office Pub 128 South Main Street Romeo MI 48065 United States;X-APPLE-RADIUS=500;X-TITLE=128 South Main Street:geo:-83.013685,42.801722
END:VEVENT
BEGIN:VEVENT
DTSTART;TZID=America/Detroit:20170204T210000
DTEND;TZID=America/Detroit:20170204T210000
DTSTAMP:20260423T022958
CREATED:20170105T035824Z
LAST-MODIFIED:20170105T035824Z
UID:4288-1486242000-1486242000@theeofficepub.com
SUMMARY:Live Music ~ Al Howard
DESCRIPTION:
URL:https://theeofficepub.com/event/live-music-al-howard-14/
LOCATION:Thee Office Pub\, 128 South Main Street\, Romeo\, MI\, 48065\, United States
GEO:42.801722;-83.013685
X-APPLE-STRUCTURED-LOCATION;VALUE=URI;X-ADDRESS=Thee Office Pub 128 South Main Street Romeo MI 48065 United States;X-APPLE-RADIUS=500;X-TITLE=128 South Main Street:geo:-83.013685,42.801722
END:VEVENT
BEGIN:VEVENT
DTSTART;TZID=America/Detroit:20170128T210000
DTEND;TZID=America/Detroit:20170128T210000
DTSTAMP:20260423T022958
CREATED:20170103T152802Z
LAST-MODIFIED:20170103T152802Z
UID:4285-1485637200-1485637200@theeofficepub.com
SUMMARY:Live Music~The Hackwells
DESCRIPTION:
URL:https://theeofficepub.com/event/live-musicthe-hackwells/
LOCATION:Thee Office Pub\, 128 South Main Street\, Romeo\, MI\, 48065\, United States
GEO:42.801722;-83.013685
X-APPLE-STRUCTURED-LOCATION;VALUE=URI;X-ADDRESS=Thee Office Pub 128 South Main Street Romeo MI 48065 United States;X-APPLE-RADIUS=500;X-TITLE=128 South Main Street:geo:-83.013685,42.801722
END:VEVENT
BEGIN:VEVENT
DTSTART;TZID=America/Detroit:20170121T210000
DTEND;TZID=America/Detroit:20170121T210000
DTSTAMP:20260423T022958
CREATED:20170103T152716Z
LAST-MODIFIED:20170103T152716Z
UID:4283-1485032400-1485032400@theeofficepub.com
SUMMARY:Live Music~Jukebox Junkies
DESCRIPTION:
URL:https://theeofficepub.com/event/live-musicjukebox-junkies/
LOCATION:Thee Office Pub\, 128 South Main Street\, Romeo\, MI\, 48065\, United States
GEO:42.801722;-83.013685
X-APPLE-STRUCTURED-LOCATION;VALUE=URI;X-ADDRESS=Thee Office Pub 128 South Main Street Romeo MI 48065 United States;X-APPLE-RADIUS=500;X-TITLE=128 South Main Street:geo:-83.013685,42.801722
END:VEVENT
BEGIN:VEVENT
DTSTART;TZID=America/Detroit:20170114T210000
DTEND;TZID=America/Detroit:20170114T210000
DTSTAMP:20260423T022958
CREATED:20170103T152629Z
LAST-MODIFIED:20170103T152629Z
UID:4281-1484427600-1484427600@theeofficepub.com
SUMMARY:Live Music~Barelyon
DESCRIPTION:
URL:https://theeofficepub.com/event/live-musicbarelyon/
LOCATION:Thee Office Pub\, 128 South Main Street\, Romeo\, MI\, 48065\, United States
GEO:42.801722;-83.013685
X-APPLE-STRUCTURED-LOCATION;VALUE=URI;X-ADDRESS=Thee Office Pub 128 South Main Street Romeo MI 48065 United States;X-APPLE-RADIUS=500;X-TITLE=128 South Main Street:geo:-83.013685,42.801722
END:VEVENT
BEGIN:VEVENT
DTSTART;TZID=America/Detroit:20170107T210000
DTEND;TZID=America/Detroit:20170107T210000
DTSTAMP:20260423T022958
CREATED:20170103T152217Z
LAST-MODIFIED:20170103T152217Z
UID:4279-1483822800-1483822800@theeofficepub.com
SUMMARY:Live Music~Jon Rice & Kedree Young
DESCRIPTION:
URL:https://theeofficepub.com/event/live-musicjon-rice-kedree-young/
LOCATION:Thee Office Pub\, 128 South Main Street\, Romeo\, MI\, 48065\, United States
GEO:42.801722;-83.013685
X-APPLE-STRUCTURED-LOCATION;VALUE=URI;X-ADDRESS=Thee Office Pub 128 South Main Street Romeo MI 48065 United States;X-APPLE-RADIUS=500;X-TITLE=128 South Main Street:geo:-83.013685,42.801722
END:VEVENT
BEGIN:VEVENT
DTSTART;TZID=America/Detroit:20161217T210000
DTEND;TZID=America/Detroit:20161217T210000
DTSTAMP:20260423T022958
CREATED:20160822T180455Z
LAST-MODIFIED:20160822T180455Z
UID:4154-1482008400-1482008400@theeofficepub.com
SUMMARY:Live Music ~ Al Howard
DESCRIPTION:
URL:https://theeofficepub.com/event/live-music-al-howard-13/
LOCATION:Thee Office Pub\, 128 South Main Street\, Romeo\, MI\, 48065\, United States
GEO:42.801722;-83.013685
X-APPLE-STRUCTURED-LOCATION;VALUE=URI;X-ADDRESS=Thee Office Pub 128 South Main Street Romeo MI 48065 United States;X-APPLE-RADIUS=500;X-TITLE=128 South Main Street:geo:-83.013685,42.801722
END:VEVENT
BEGIN:VEVENT
DTSTART;TZID=America/Detroit:20161212T180000
DTEND;TZID=America/Detroit:20161212T200000
DTSTAMP:20260423T022958
CREATED:20161118T161508Z
LAST-MODIFIED:20161118T161508Z
UID:4239-1481565600-1481572800@theeofficepub.com
SUMMARY:Dinner with Santa
DESCRIPTION:We will be offering FREE pictures with Santa as well as our normal Kids Eat Free special. 
URL:https://theeofficepub.com/event/dinner-with-santa/
LOCATION:Thee Office Pub\, 128 South Main Street\, Romeo\, MI\, 48065\, United States
GEO:42.801722;-83.013685
X-APPLE-STRUCTURED-LOCATION;VALUE=URI;X-ADDRESS=Thee Office Pub 128 South Main Street Romeo MI 48065 United States;X-APPLE-RADIUS=500;X-TITLE=128 South Main Street:geo:-83.013685,42.801722
END:VEVENT
BEGIN:VEVENT
DTSTART;TZID=America/Detroit:20161210T210000
DTEND;TZID=America/Detroit:20161210T210000
DTSTAMP:20260423T022958
CREATED:20160822T180419Z
LAST-MODIFIED:20160822T180419Z
UID:4153-1481403600-1481403600@theeofficepub.com
SUMMARY:Live Music ~ Ron Alcini
DESCRIPTION:
URL:https://theeofficepub.com/event/live-music-ron-alcini-13/
LOCATION:Thee Office Pub\, 128 South Main Street\, Romeo\, MI\, 48065\, United States
GEO:42.801722;-83.013685
X-APPLE-STRUCTURED-LOCATION;VALUE=URI;X-ADDRESS=Thee Office Pub 128 South Main Street Romeo MI 48065 United States;X-APPLE-RADIUS=500;X-TITLE=128 South Main Street:geo:-83.013685,42.801722
END:VEVENT
BEGIN:VEVENT
DTSTART;TZID=America/Detroit:20161126T210000
DTEND;TZID=America/Detroit:20161126T210000
DTSTAMP:20260423T022958
CREATED:20160822T180328Z
LAST-MODIFIED:20160822T180328Z
UID:4152-1480194000-1480194000@theeofficepub.com
SUMMARY:Live Music ~ Al Howard
DESCRIPTION:
URL:https://theeofficepub.com/event/live-music-al-howard-12/
LOCATION:Thee Office Pub\, 128 South Main Street\, Romeo\, MI\, 48065\, United States
GEO:42.801722;-83.013685
X-APPLE-STRUCTURED-LOCATION;VALUE=URI;X-ADDRESS=Thee Office Pub 128 South Main Street Romeo MI 48065 United States;X-APPLE-RADIUS=500;X-TITLE=128 South Main Street:geo:-83.013685,42.801722
END:VEVENT
BEGIN:VEVENT
DTSTART;TZID=America/Detroit:20161119T210000
DTEND;TZID=America/Detroit:20161119T210000
DTSTAMP:20260423T022958
CREATED:20160822T180245Z
LAST-MODIFIED:20160822T180245Z
UID:4151-1479589200-1479589200@theeofficepub.com
SUMMARY:Live Music ~ Barelyon
DESCRIPTION:
URL:https://theeofficepub.com/event/live-music-barelyon-2/
LOCATION:Thee Office Pub\, 128 South Main Street\, Romeo\, MI\, 48065\, United States
GEO:42.801722;-83.013685
X-APPLE-STRUCTURED-LOCATION;VALUE=URI;X-ADDRESS=Thee Office Pub 128 South Main Street Romeo MI 48065 United States;X-APPLE-RADIUS=500;X-TITLE=128 South Main Street:geo:-83.013685,42.801722
END:VEVENT
BEGIN:VEVENT
DTSTART;TZID=America/Detroit:20161112T210000
DTEND;TZID=America/Detroit:20161112T210000
DTSTAMP:20260423T022958
CREATED:20160822T175614Z
LAST-MODIFIED:20160926T141434Z
UID:4150-1478984400-1478984400@theeofficepub.com
SUMMARY:Live Music ~ Roy Caldwell
DESCRIPTION:
URL:https://theeofficepub.com/event/live-music-ron-alcini-12/
LOCATION:Thee Office Pub\, 128 South Main Street\, Romeo\, MI\, 48065\, United States
GEO:42.801722;-83.013685
X-APPLE-STRUCTURED-LOCATION;VALUE=URI;X-ADDRESS=Thee Office Pub 128 South Main Street Romeo MI 48065 United States;X-APPLE-RADIUS=500;X-TITLE=128 South Main Street:geo:-83.013685,42.801722
END:VEVENT
BEGIN:VEVENT
DTSTART;TZID=America/Detroit:20161105T210000
DTEND;TZID=America/Detroit:20161105T210000
DTSTAMP:20260423T022958
CREATED:20160822T181250Z
LAST-MODIFIED:20160822T181250Z
UID:4155-1478379600-1478379600@theeofficepub.com
SUMMARY:Live Music ~ Jon Rice
DESCRIPTION:
URL:https://theeofficepub.com/event/live-music-jon-rice-8/
LOCATION:Thee Office Pub\, 128 South Main Street\, Romeo\, MI\, 48065\, United States
GEO:42.801722;-83.013685
X-APPLE-STRUCTURED-LOCATION;VALUE=URI;X-ADDRESS=Thee Office Pub 128 South Main Street Romeo MI 48065 United States;X-APPLE-RADIUS=500;X-TITLE=128 South Main Street:geo:-83.013685,42.801722
END:VEVENT
BEGIN:VEVENT
DTSTART;TZID=America/Detroit:20161029T210000
DTEND;TZID=America/Detroit:20161029T210000
DTSTAMP:20260423T022958
CREATED:20160817T200201Z
LAST-MODIFIED:20160817T200201Z
UID:4086-1477774800-1477774800@theeofficepub.com
SUMMARY:Live Music ~ The Hackwells
DESCRIPTION:
URL:https://theeofficepub.com/event/live-music-hackwells/
LOCATION:Thee Office Pub\, 128 South Main Street\, Romeo\, MI\, 48065\, United States
GEO:42.801722;-83.013685
X-APPLE-STRUCTURED-LOCATION;VALUE=URI;X-ADDRESS=Thee Office Pub 128 South Main Street Romeo MI 48065 United States;X-APPLE-RADIUS=500;X-TITLE=128 South Main Street:geo:-83.013685,42.801722
END:VEVENT
BEGIN:VEVENT
DTSTART;TZID=America/Detroit:20161022T210000
DTEND;TZID=America/Detroit:20161022T210000
DTSTAMP:20260423T022958
CREATED:20160817T200114Z
LAST-MODIFIED:20160817T200114Z
UID:4085-1477170000-1477170000@theeofficepub.com
SUMMARY:Live Music ~ Jukebox Junkies
DESCRIPTION:
URL:https://theeofficepub.com/event/live-music-jukebox-junkies-13/
LOCATION:Thee Office Pub\, 128 South Main Street\, Romeo\, MI\, 48065\, United States
GEO:42.801722;-83.013685
X-APPLE-STRUCTURED-LOCATION;VALUE=URI;X-ADDRESS=Thee Office Pub 128 South Main Street Romeo MI 48065 United States;X-APPLE-RADIUS=500;X-TITLE=128 South Main Street:geo:-83.013685,42.801722
END:VEVENT
BEGIN:VEVENT
DTSTART;TZID=America/Detroit:20161015T210000
DTEND;TZID=America/Detroit:20161015T210000
DTSTAMP:20260423T022958
CREATED:20160817T195647Z
LAST-MODIFIED:20160926T141346Z
UID:4084-1476565200-1476565200@theeofficepub.com
SUMMARY:Live Music ~ Ron Alcini
DESCRIPTION:
URL:https://theeofficepub.com/event/live-music-roy-caldwell-9/
LOCATION:Thee Office Pub\, 128 South Main Street\, Romeo\, MI\, 48065\, United States
GEO:42.801722;-83.013685
X-APPLE-STRUCTURED-LOCATION;VALUE=URI;X-ADDRESS=Thee Office Pub 128 South Main Street Romeo MI 48065 United States;X-APPLE-RADIUS=500;X-TITLE=128 South Main Street:geo:-83.013685,42.801722
END:VEVENT
BEGIN:VEVENT
DTSTART;TZID=America/Detroit:20161008T210000
DTEND;TZID=America/Detroit:20161008T210000
DTSTAMP:20260423T022958
CREATED:20160817T195547Z
LAST-MODIFIED:20160817T195547Z
UID:4083-1475960400-1475960400@theeofficepub.com
SUMMARY:Live Music ~ Al Howard
DESCRIPTION:
URL:https://theeofficepub.com/event/live-music-al-howard-11/
LOCATION:Thee Office Pub\, 128 South Main Street\, Romeo\, MI\, 48065\, United States
GEO:42.801722;-83.013685
X-APPLE-STRUCTURED-LOCATION;VALUE=URI;X-ADDRESS=Thee Office Pub 128 South Main Street Romeo MI 48065 United States;X-APPLE-RADIUS=500;X-TITLE=128 South Main Street:geo:-83.013685,42.801722
END:VEVENT
BEGIN:VEVENT
DTSTART;TZID=America/Detroit:20161001T210000
DTEND;TZID=America/Detroit:20161001T210000
DTSTAMP:20260423T022958
CREATED:20160817T195404Z
LAST-MODIFIED:20160817T195429Z
UID:4082-1475355600-1475355600@theeofficepub.com
SUMMARY:Live Music ~ Barelyon
DESCRIPTION:
URL:https://theeofficepub.com/event/live-music-barelyon/
LOCATION:Thee Office Pub\, 128 South Main Street\, Romeo\, MI\, 48065\, United States
GEO:42.801722;-83.013685
X-APPLE-STRUCTURED-LOCATION;VALUE=URI;X-ADDRESS=Thee Office Pub 128 South Main Street Romeo MI 48065 United States;X-APPLE-RADIUS=500;X-TITLE=128 South Main Street:geo:-83.013685,42.801722
END:VEVENT
BEGIN:VEVENT
DTSTART;TZID=America/Detroit:20160924T210000
DTEND;TZID=America/Detroit:20160924T210000
DTSTAMP:20260423T022958
CREATED:20160817T195009Z
LAST-MODIFIED:20160817T195009Z
UID:4080-1474750800-1474750800@theeofficepub.com
SUMMARY:Live Music ~ Jukebox Junkies
DESCRIPTION:
URL:https://theeofficepub.com/event/live-music-jukebox-junkies-12/
LOCATION:Thee Office Pub\, 128 South Main Street\, Romeo\, MI\, 48065\, United States
GEO:42.801722;-83.013685
X-APPLE-STRUCTURED-LOCATION;VALUE=URI;X-ADDRESS=Thee Office Pub 128 South Main Street Romeo MI 48065 United States;X-APPLE-RADIUS=500;X-TITLE=128 South Main Street:geo:-83.013685,42.801722
END:VEVENT
BEGIN:VEVENT
DTSTART;TZID=America/Detroit:20160917T210000
DTEND;TZID=America/Detroit:20160917T210000
DTSTAMP:20260423T022958
CREATED:20160817T194616Z
LAST-MODIFIED:20160817T194832Z
UID:4077-1474146000-1474146000@theeofficepub.com
SUMMARY:Live Music ~ Drew Machak
DESCRIPTION:
URL:https://theeofficepub.com/event/live-music-alex-shier-5/
LOCATION:Thee Office Pub\, 128 South Main Street\, Romeo\, MI\, 48065\, United States
GEO:42.801722;-83.013685
X-APPLE-STRUCTURED-LOCATION;VALUE=URI;X-ADDRESS=Thee Office Pub 128 South Main Street Romeo MI 48065 United States;X-APPLE-RADIUS=500;X-TITLE=128 South Main Street:geo:-83.013685,42.801722
END:VEVENT
BEGIN:VEVENT
DTSTART;TZID=America/Detroit:20160910T210000
DTEND;TZID=America/Detroit:20160910T210000
DTSTAMP:20260423T022958
CREATED:20160817T195219Z
LAST-MODIFIED:20160817T195219Z
UID:4081-1473541200-1473541200@theeofficepub.com
SUMMARY:Live Music ~ Alex Shier
DESCRIPTION:
URL:https://theeofficepub.com/event/live-music-alex-shier-6/
LOCATION:Thee Office Pub\, 128 South Main Street\, Romeo\, MI\, 48065\, United States
GEO:42.801722;-83.013685
X-APPLE-STRUCTURED-LOCATION;VALUE=URI;X-ADDRESS=Thee Office Pub 128 South Main Street Romeo MI 48065 United States;X-APPLE-RADIUS=500;X-TITLE=128 South Main Street:geo:-83.013685,42.801722
END:VEVENT
BEGIN:VEVENT
DTSTART;TZID=America/Detroit:20160827T210000
DTEND;TZID=America/Detroit:20160827T210000
DTSTAMP:20260423T022958
CREATED:20160414T141728Z
LAST-MODIFIED:20160414T141728Z
UID:4014-1472331600-1472331600@theeofficepub.com
SUMMARY:Live Music ~ Jukebox Junkies
DESCRIPTION:
URL:https://theeofficepub.com/event/live-music-jukebox-junkies-11/
LOCATION:Thee Office Pub\, 128 South Main Street\, Romeo\, MI\, 48065\, United States
GEO:42.801722;-83.013685
X-APPLE-STRUCTURED-LOCATION;VALUE=URI;X-ADDRESS=Thee Office Pub 128 South Main Street Romeo MI 48065 United States;X-APPLE-RADIUS=500;X-TITLE=128 South Main Street:geo:-83.013685,42.801722
END:VEVENT
BEGIN:VEVENT
DTSTART;TZID=America/Detroit:20160813T210000
DTEND;TZID=America/Detroit:20160813T210000
DTSTAMP:20260423T022958
CREATED:20160414T141640Z
LAST-MODIFIED:20160414T141640Z
UID:4013-1471122000-1471122000@theeofficepub.com
SUMMARY:Live Music ~ Ron Alcini
DESCRIPTION:
URL:https://theeofficepub.com/event/live-music-ron-alcini-10/
LOCATION:Thee Office Pub\, 128 South Main Street\, Romeo\, MI\, 48065\, United States
GEO:42.801722;-83.013685
X-APPLE-STRUCTURED-LOCATION;VALUE=URI;X-ADDRESS=Thee Office Pub 128 South Main Street Romeo MI 48065 United States;X-APPLE-RADIUS=500;X-TITLE=128 South Main Street:geo:-83.013685,42.801722
END:VEVENT
BEGIN:VEVENT
DTSTART;TZID=America/Detroit:20160730T210000
DTEND;TZID=America/Detroit:20160730T210000
DTSTAMP:20260423T022958
CREATED:20160414T141338Z
LAST-MODIFIED:20160414T141338Z
UID:4012-1469912400-1469912400@theeofficepub.com
SUMMARY:Live Music ~ Roy Caldwell
DESCRIPTION:
URL:https://theeofficepub.com/event/live-music-roy-caldwell-8/
LOCATION:Thee Office Pub\, 128 South Main Street\, Romeo\, MI\, 48065\, United States
GEO:42.801722;-83.013685
X-APPLE-STRUCTURED-LOCATION;VALUE=URI;X-ADDRESS=Thee Office Pub 128 South Main Street Romeo MI 48065 United States;X-APPLE-RADIUS=500;X-TITLE=128 South Main Street:geo:-83.013685,42.801722
END:VEVENT
BEGIN:VEVENT
DTSTART;TZID=America/Detroit:20160716T210000
DTEND;TZID=America/Detroit:20160716T210000
DTSTAMP:20260423T022958
CREATED:20160414T141148Z
LAST-MODIFIED:20160414T141148Z
UID:4011-1468702800-1468702800@theeofficepub.com
SUMMARY:Live Music ~ Al Howard
DESCRIPTION:
URL:https://theeofficepub.com/event/live-music-al-howard-10/
LOCATION:Thee Office Pub\, 128 South Main Street\, Romeo\, MI\, 48065\, United States
GEO:42.801722;-83.013685
X-APPLE-STRUCTURED-LOCATION;VALUE=URI;X-ADDRESS=Thee Office Pub 128 South Main Street Romeo MI 48065 United States;X-APPLE-RADIUS=500;X-TITLE=128 South Main Street:geo:-83.013685,42.801722
END:VEVENT
BEGIN:VEVENT
DTSTART;TZID=America/Detroit:20160625T210000
DTEND;TZID=America/Detroit:20160625T210000
DTSTAMP:20260423T022958
CREATED:20160414T141901Z
LAST-MODIFIED:20160414T141901Z
UID:4015-1466888400-1466888400@theeofficepub.com
SUMMARY:Live Music ~ Ron Alcini
DESCRIPTION:
URL:https://theeofficepub.com/event/live-music-ron-alcini-11/
LOCATION:Thee Office Pub\, 128 South Main Street\, Romeo\, MI\, 48065\, United States
GEO:42.801722;-83.013685
X-APPLE-STRUCTURED-LOCATION;VALUE=URI;X-ADDRESS=Thee Office Pub 128 South Main Street Romeo MI 48065 United States;X-APPLE-RADIUS=500;X-TITLE=128 South Main Street:geo:-83.013685,42.801722
END:VEVENT
BEGIN:VEVENT
DTSTART;TZID=America/Detroit:20160618T210000
DTEND;TZID=America/Detroit:20160618T210000
DTSTAMP:20260423T022958
CREATED:20160414T141111Z
LAST-MODIFIED:20160414T141111Z
UID:4010-1466283600-1466283600@theeofficepub.com
SUMMARY:Live Music ~ Jukebox Junkies
DESCRIPTION:
URL:https://theeofficepub.com/event/live-music-jukebox-junkies-10/
LOCATION:Thee Office Pub\, 128 South Main Street\, Romeo\, MI\, 48065\, United States
GEO:42.801722;-83.013685
X-APPLE-STRUCTURED-LOCATION;VALUE=URI;X-ADDRESS=Thee Office Pub 128 South Main Street Romeo MI 48065 United States;X-APPLE-RADIUS=500;X-TITLE=128 South Main Street:geo:-83.013685,42.801722
END:VEVENT
BEGIN:VEVENT
DTSTART;TZID=America/Detroit:20160611T210000
DTEND;TZID=America/Detroit:20160611T210000
DTSTAMP:20260423T022958
CREATED:20160414T141034Z
LAST-MODIFIED:20160414T141034Z
UID:4009-1465678800-1465678800@theeofficepub.com
SUMMARY:Live Music ~ Anthony Christie
DESCRIPTION:
URL:https://theeofficepub.com/event/live-music-anthony-christie/
LOCATION:Thee Office Pub\, 128 South Main Street\, Romeo\, MI\, 48065\, United States
GEO:42.801722;-83.013685
X-APPLE-STRUCTURED-LOCATION;VALUE=URI;X-ADDRESS=Thee Office Pub 128 South Main Street Romeo MI 48065 United States;X-APPLE-RADIUS=500;X-TITLE=128 South Main Street:geo:-83.013685,42.801722
END:VEVENT
BEGIN:VEVENT
DTSTART;TZID=America/Detroit:20160604T210000
DTEND;TZID=America/Detroit:20160604T210000
DTSTAMP:20260423T022958
CREATED:20160414T140908Z
LAST-MODIFIED:20160414T140908Z
UID:4008-1465074000-1465074000@theeofficepub.com
SUMMARY:Live Music ~ Roy Caldwell
DESCRIPTION:
URL:https://theeofficepub.com/event/live-music-roy-caldwell-7/
LOCATION:Thee Office Pub\, 128 South Main Street\, Romeo\, MI\, 48065\, United States
GEO:42.801722;-83.013685
X-APPLE-STRUCTURED-LOCATION;VALUE=URI;X-ADDRESS=Thee Office Pub 128 South Main Street Romeo MI 48065 United States;X-APPLE-RADIUS=500;X-TITLE=128 South Main Street:geo:-83.013685,42.801722
END:VEVENT
BEGIN:VEVENT
DTSTART;TZID=America/Detroit:20160528T210000
DTEND;TZID=America/Detroit:20160528T210000
DTSTAMP:20260423T022958
CREATED:20160414T140809Z
LAST-MODIFIED:20160414T140809Z
UID:4007-1464469200-1464469200@theeofficepub.com
SUMMARY:Live Music ~ Ron Alcini
DESCRIPTION:
URL:https://theeofficepub.com/event/live-music-ron-alcini-9/
LOCATION:Thee Office Pub\, 128 South Main Street\, Romeo\, MI\, 48065\, United States
GEO:42.801722;-83.013685
X-APPLE-STRUCTURED-LOCATION;VALUE=URI;X-ADDRESS=Thee Office Pub 128 South Main Street Romeo MI 48065 United States;X-APPLE-RADIUS=500;X-TITLE=128 South Main Street:geo:-83.013685,42.801722
END:VEVENT
END:VCALENDAR