BEGIN:VCALENDAR
VERSION:2.0
PRODID:-//Thee Office Pub - ECPv6.7.1//NONSGML v1.0//EN
CALSCALE:GREGORIAN
METHOD:PUBLISH
X-ORIGINAL-URL:https://theeofficepub.com
X-WR-CALDESC:Events for Thee Office Pub
REFRESH-INTERVAL;VALUE=DURATION:PT1H
X-Robots-Tag:noindex
X-PUBLISHED-TTL:PT1H
BEGIN:VTIMEZONE
TZID:America/Detroit
BEGIN:DAYLIGHT
TZOFFSETFROM:-0500
TZOFFSETTO:-0400
TZNAME:EDT
DTSTART:20160313T070000
END:DAYLIGHT
BEGIN:STANDARD
TZOFFSETFROM:-0400
TZOFFSETTO:-0500
TZNAME:EST
DTSTART:20161106T060000
END:STANDARD
END:VTIMEZONE
BEGIN:VEVENT
DTSTART;TZID=America/Detroit:20160521T210000
DTEND;TZID=America/Detroit:20160521T210000
DTSTAMP:20260423T051621
CREATED:20160414T140635Z
LAST-MODIFIED:20160414T140731Z
UID:4006-1463864400-1463864400@theeofficepub.com
SUMMARY:Live Music ~ Jukebox Junkies
DESCRIPTION:
URL:https://theeofficepub.com/event/live-music-jukebox-junkies-9/
LOCATION:Thee Office Pub\, 128 South Main Street\, Romeo\, MI\, 48065\, United States
GEO:42.801722;-83.013685
X-APPLE-STRUCTURED-LOCATION;VALUE=URI;X-ADDRESS=Thee Office Pub 128 South Main Street Romeo MI 48065 United States;X-APPLE-RADIUS=500;X-TITLE=128 South Main Street:geo:-83.013685,42.801722
END:VEVENT
BEGIN:VEVENT
DTSTART;TZID=America/Detroit:20160514T210000
DTEND;TZID=America/Detroit:20160514T210000
DTSTAMP:20260423T051621
CREATED:20160414T140558Z
LAST-MODIFIED:20160414T140558Z
UID:4005-1463259600-1463259600@theeofficepub.com
SUMMARY:Live Music ~ Jon Rice
DESCRIPTION:
URL:https://theeofficepub.com/event/live-music-jon-rice-7/
LOCATION:Thee Office Pub\, 128 South Main Street\, Romeo\, MI\, 48065\, United States
GEO:42.801722;-83.013685
X-APPLE-STRUCTURED-LOCATION;VALUE=URI;X-ADDRESS=Thee Office Pub 128 South Main Street Romeo MI 48065 United States;X-APPLE-RADIUS=500;X-TITLE=128 South Main Street:geo:-83.013685,42.801722
END:VEVENT
BEGIN:VEVENT
DTSTART;TZID=America/Detroit:20160507T210000
DTEND;TZID=America/Detroit:20160507T210000
DTSTAMP:20260423T051621
CREATED:20160414T140514Z
LAST-MODIFIED:20160414T140514Z
UID:4004-1462654800-1462654800@theeofficepub.com
SUMMARY:Live Music ~ Al Howard
DESCRIPTION:
URL:https://theeofficepub.com/event/live-music-al-howard-9/
LOCATION:Thee Office Pub\, 128 South Main Street\, Romeo\, MI\, 48065\, United States
GEO:42.801722;-83.013685
X-APPLE-STRUCTURED-LOCATION;VALUE=URI;X-ADDRESS=Thee Office Pub 128 South Main Street Romeo MI 48065 United States;X-APPLE-RADIUS=500;X-TITLE=128 South Main Street:geo:-83.013685,42.801722
END:VEVENT
END:VCALENDAR