BEGIN:VCALENDAR
VERSION:2.0
PRODID:-//Thee Office Pub - ECPv6.7.1//NONSGML v1.0//EN
CALSCALE:GREGORIAN
METHOD:PUBLISH
X-WR-CALNAME:Thee Office Pub
X-ORIGINAL-URL:https://theeofficepub.com
X-WR-CALDESC:Events for Thee Office Pub
REFRESH-INTERVAL;VALUE=DURATION:PT1H
X-Robots-Tag:noindex
X-PUBLISHED-TTL:PT1H
BEGIN:VTIMEZONE
TZID:America/Detroit
BEGIN:DAYLIGHT
TZOFFSETFROM:-0500
TZOFFSETTO:-0400
TZNAME:EDT
DTSTART:20190310T070000
END:DAYLIGHT
BEGIN:STANDARD
TZOFFSETFROM:-0400
TZOFFSETTO:-0500
TZNAME:EST
DTSTART:20191103T060000
END:STANDARD
BEGIN:DAYLIGHT
TZOFFSETFROM:-0500
TZOFFSETTO:-0400
TZNAME:EDT
DTSTART:20200308T070000
END:DAYLIGHT
BEGIN:STANDARD
TZOFFSETFROM:-0400
TZOFFSETTO:-0500
TZNAME:EST
DTSTART:20201101T060000
END:STANDARD
END:VTIMEZONE
BEGIN:VEVENT
DTSTART;TZID=America/Detroit:20200201T210000
DTEND;TZID=America/Detroit:20200201T210000
DTSTAMP:20260420T085054
CREATED:20200120T215530Z
LAST-MODIFIED:20200123T032614Z
UID:6963-1580590800-1580590800@theeofficepub.com
SUMMARY:Live Music ~ Ron Alcini
DESCRIPTION:
URL:https://theeofficepub.com/event/ron-alcini-4/
LOCATION:Thee Office Pub\, 128 South Main Street\, Romeo\, MI\, 48065\, United States
GEO:42.801722;-83.013685
X-APPLE-STRUCTURED-LOCATION;VALUE=URI;X-ADDRESS=Thee Office Pub 128 South Main Street Romeo MI 48065 United States;X-APPLE-RADIUS=500;X-TITLE=128 South Main Street:geo:-83.013685,42.801722
END:VEVENT
BEGIN:VEVENT
DTSTART;TZID=America/Detroit:20200125T210000
DTEND;TZID=America/Detroit:20200125T210000
DTSTAMP:20260420T085054
CREATED:20200120T215208Z
LAST-MODIFIED:20200122T211157Z
UID:6961-1579986000-1579986000@theeofficepub.com
SUMMARY:Live Music ~ Jukebox Junkies
DESCRIPTION:
URL:https://theeofficepub.com/event/jukebox-junkies-6/
LOCATION:Thee Office Pub\, 128 South Main Street\, Romeo\, MI\, 48065\, United States
GEO:42.801722;-83.013685
X-APPLE-STRUCTURED-LOCATION;VALUE=URI;X-ADDRESS=Thee Office Pub 128 South Main Street Romeo MI 48065 United States;X-APPLE-RADIUS=500;X-TITLE=128 South Main Street:geo:-83.013685,42.801722
END:VEVENT
BEGIN:VEVENT
DTSTART;TZID=America/Detroit:20200118T210000
DTEND;TZID=America/Detroit:20200118T210000
DTSTAMP:20260420T085054
CREATED:20200120T214823Z
LAST-MODIFIED:20200123T032834Z
UID:6958-1579381200-1579381200@theeofficepub.com
SUMMARY:Live Music ~ The Hackwells
DESCRIPTION:
URL:https://theeofficepub.com/event/the-hackwells/
LOCATION:Thee Office Pub\, 128 South Main Street\, Romeo\, MI\, 48065\, United States
GEO:42.801722;-83.013685
X-APPLE-STRUCTURED-LOCATION;VALUE=URI;X-ADDRESS=Thee Office Pub 128 South Main Street Romeo MI 48065 United States;X-APPLE-RADIUS=500;X-TITLE=128 South Main Street:geo:-83.013685,42.801722
END:VEVENT
BEGIN:VEVENT
DTSTART;TZID=America/Detroit:20200111T210000
DTEND;TZID=America/Detroit:20200111T210000
DTSTAMP:20260420T085054
CREATED:20200120T220627Z
LAST-MODIFIED:20200123T032719Z
UID:6976-1578776400-1578776400@theeofficepub.com
SUMMARY:Live Music ~ RJ Harper
DESCRIPTION:
URL:https://theeofficepub.com/event/rj-harper-2/
LOCATION:Thee Office Pub\, 128 South Main Street\, Romeo\, MI\, 48065\, United States
GEO:42.801722;-83.013685
X-APPLE-STRUCTURED-LOCATION;VALUE=URI;X-ADDRESS=Thee Office Pub 128 South Main Street Romeo MI 48065 United States;X-APPLE-RADIUS=500;X-TITLE=128 South Main Street:geo:-83.013685,42.801722
END:VEVENT
BEGIN:VEVENT
DTSTART;TZID=America/Detroit:20200104T210000
DTEND;TZID=America/Detroit:20200104T210000
DTSTAMP:20260420T085054
CREATED:20200120T220449Z
LAST-MODIFIED:20200120T220510Z
UID:6974-1578171600-1578171600@theeofficepub.com
SUMMARY:Matt Webber
DESCRIPTION:
URL:https://theeofficepub.com/event/matt-webber/
LOCATION:Thee Office Pub\, 128 South Main Street\, Romeo\, MI\, 48065\, United States
GEO:42.801722;-83.013685
X-APPLE-STRUCTURED-LOCATION;VALUE=URI;X-ADDRESS=Thee Office Pub 128 South Main Street Romeo MI 48065 United States;X-APPLE-RADIUS=500;X-TITLE=128 South Main Street:geo:-83.013685,42.801722
END:VEVENT
BEGIN:VEVENT
DTSTART;TZID=America/Detroit:20191228T210000
DTEND;TZID=America/Detroit:20191228T210000
DTSTAMP:20260420T085054
CREATED:20190417T182422Z
LAST-MODIFIED:20190417T182422Z
UID:6657-1577566800-1577566800@theeofficepub.com
SUMMARY:Live Music ~ Ron Alcini
DESCRIPTION:
URL:https://theeofficepub.com/event/live-music-ron-alcini-22/
LOCATION:Thee Office Pub\, 128 South Main Street\, Romeo\, MI\, 48065\, United States
GEO:42.801722;-83.013685
X-APPLE-STRUCTURED-LOCATION;VALUE=URI;X-ADDRESS=Thee Office Pub 128 South Main Street Romeo MI 48065 United States;X-APPLE-RADIUS=500;X-TITLE=128 South Main Street:geo:-83.013685,42.801722
END:VEVENT
BEGIN:VEVENT
DTSTART;TZID=America/Detroit:20191221T210000
DTEND;TZID=America/Detroit:20191221T210000
DTSTAMP:20260420T085054
CREATED:20190417T182318Z
LAST-MODIFIED:20190417T182318Z
UID:6655-1576962000-1576962000@theeofficepub.com
SUMMARY:Live Music ~ Al Howard
DESCRIPTION:
URL:https://theeofficepub.com/event/live-music-al-howard-28/
LOCATION:Thee Office Pub\, 128 South Main Street\, Romeo\, MI\, 48065\, United States
GEO:42.801722;-83.013685
X-APPLE-STRUCTURED-LOCATION;VALUE=URI;X-ADDRESS=Thee Office Pub 128 South Main Street Romeo MI 48065 United States;X-APPLE-RADIUS=500;X-TITLE=128 South Main Street:geo:-83.013685,42.801722
END:VEVENT
BEGIN:VEVENT
DTSTART;TZID=America/Detroit:20191214T210000
DTEND;TZID=America/Detroit:20191214T210000
DTSTAMP:20260420T085054
CREATED:20190417T182223Z
LAST-MODIFIED:20190417T182223Z
UID:6653-1576357200-1576357200@theeofficepub.com
SUMMARY:Live Music ~ Jukebox Junkies
DESCRIPTION:
URL:https://theeofficepub.com/event/live-music-jukebox-junkies-27/
LOCATION:Thee Office Pub\, 128 South Main Street\, Romeo\, MI\, 48065\, United States
GEO:42.801722;-83.013685
X-APPLE-STRUCTURED-LOCATION;VALUE=URI;X-ADDRESS=Thee Office Pub 128 South Main Street Romeo MI 48065 United States;X-APPLE-RADIUS=500;X-TITLE=128 South Main Street:geo:-83.013685,42.801722
END:VEVENT
BEGIN:VEVENT
DTSTART;TZID=America/Detroit:20191207T210000
DTEND;TZID=America/Detroit:20191207T210000
DTSTAMP:20260420T085054
CREATED:20190417T182024Z
LAST-MODIFIED:20190417T182024Z
UID:6651-1575752400-1575752400@theeofficepub.com
SUMMARY:Live Music ~ RJ Harper
DESCRIPTION:
URL:https://theeofficepub.com/event/live-music-rj-harper-5/
LOCATION:Thee Office Pub\, 128 South Main Street\, Romeo\, MI\, 48065\, United States
GEO:42.801722;-83.013685
X-APPLE-STRUCTURED-LOCATION;VALUE=URI;X-ADDRESS=Thee Office Pub 128 South Main Street Romeo MI 48065 United States;X-APPLE-RADIUS=500;X-TITLE=128 South Main Street:geo:-83.013685,42.801722
END:VEVENT
BEGIN:VEVENT
DTSTART;TZID=America/Detroit:20191130T210000
DTEND;TZID=America/Detroit:20191130T210000
DTSTAMP:20260420T085054
CREATED:20190417T181925Z
LAST-MODIFIED:20190417T181925Z
UID:6649-1575147600-1575147600@theeofficepub.com
SUMMARY:Live Music ~ Annemarie Jo
DESCRIPTION:
URL:https://theeofficepub.com/event/live-music-annemarie-jo-2/
LOCATION:Thee Office Pub\, 128 South Main Street\, Romeo\, MI\, 48065\, United States
GEO:42.801722;-83.013685
X-APPLE-STRUCTURED-LOCATION;VALUE=URI;X-ADDRESS=Thee Office Pub 128 South Main Street Romeo MI 48065 United States;X-APPLE-RADIUS=500;X-TITLE=128 South Main Street:geo:-83.013685,42.801722
END:VEVENT
BEGIN:VEVENT
DTSTART;TZID=America/Detroit:20191123T210000
DTEND;TZID=America/Detroit:20191123T210000
DTSTAMP:20260420T085054
CREATED:20191009T005019Z
LAST-MODIFIED:20191009T005019Z
UID:6848-1574542800-1574542800@theeofficepub.com
SUMMARY:Live Music ~ Jukebox Junkies
DESCRIPTION:
URL:https://theeofficepub.com/event/live-music-jukebox-junkies-28/
LOCATION:Thee Office Pub\, 128 South Main Street\, Romeo\, MI\, 48065\, United States
GEO:42.801722;-83.013685
X-APPLE-STRUCTURED-LOCATION;VALUE=URI;X-ADDRESS=Thee Office Pub 128 South Main Street Romeo MI 48065 United States;X-APPLE-RADIUS=500;X-TITLE=128 South Main Street:geo:-83.013685,42.801722
END:VEVENT
BEGIN:VEVENT
DTSTART;TZID=America/Detroit:20191116T210000
DTEND;TZID=America/Detroit:20191116T210000
DTSTAMP:20260420T085054
CREATED:20190417T181745Z
LAST-MODIFIED:20191009T004756Z
UID:6647-1573938000-1573938000@theeofficepub.com
SUMMARY:Live Music ~ Ron Alcini
DESCRIPTION:
URL:https://theeofficepub.com/event/live-music-jukebox-junkies-26/
LOCATION:Thee Office Pub\, 128 South Main Street\, Romeo\, MI\, 48065\, United States
GEO:42.801722;-83.013685
X-APPLE-STRUCTURED-LOCATION;VALUE=URI;X-ADDRESS=Thee Office Pub 128 South Main Street Romeo MI 48065 United States;X-APPLE-RADIUS=500;X-TITLE=128 South Main Street:geo:-83.013685,42.801722
END:VEVENT
BEGIN:VEVENT
DTSTART;TZID=America/Detroit:20191109T210000
DTEND;TZID=America/Detroit:20191109T210000
DTSTAMP:20260420T085054
CREATED:20190417T181636Z
LAST-MODIFIED:20190417T181636Z
UID:6645-1573333200-1573333200@theeofficepub.com
SUMMARY:Live Music ~ The Hackwells
DESCRIPTION:
URL:https://theeofficepub.com/event/live-music-hackwells-4/
LOCATION:Thee Office Pub\, 128 South Main Street\, Romeo\, MI\, 48065\, United States
GEO:42.801722;-83.013685
X-APPLE-STRUCTURED-LOCATION;VALUE=URI;X-ADDRESS=Thee Office Pub 128 South Main Street Romeo MI 48065 United States;X-APPLE-RADIUS=500;X-TITLE=128 South Main Street:geo:-83.013685,42.801722
END:VEVENT
BEGIN:VEVENT
DTSTART;TZID=America/Detroit:20191102T210000
DTEND;TZID=America/Detroit:20191102T210000
DTSTAMP:20260420T085054
CREATED:20190417T181539Z
LAST-MODIFIED:20190417T181539Z
UID:6643-1572728400-1572728400@theeofficepub.com
SUMMARY:Live Music ~ Al Howard
DESCRIPTION:
URL:https://theeofficepub.com/event/live-music-al-howard-27/
LOCATION:Thee Office Pub\, 128 South Main Street\, Romeo\, MI\, 48065\, United States
GEO:42.801722;-83.013685
X-APPLE-STRUCTURED-LOCATION;VALUE=URI;X-ADDRESS=Thee Office Pub 128 South Main Street Romeo MI 48065 United States;X-APPLE-RADIUS=500;X-TITLE=128 South Main Street:geo:-83.013685,42.801722
END:VEVENT
BEGIN:VEVENT
DTSTART;TZID=America/Detroit:20191026T210000
DTEND;TZID=America/Detroit:20191026T210000
DTSTAMP:20260420T085054
CREATED:20190417T181444Z
LAST-MODIFIED:20190417T181444Z
UID:6641-1572123600-1572123600@theeofficepub.com
SUMMARY:Live Music ~ Jukebox Junkies
DESCRIPTION:
URL:https://theeofficepub.com/event/live-music-jukebox-junkies-25/
LOCATION:Thee Office Pub\, 128 South Main Street\, Romeo\, MI\, 48065\, United States
GEO:42.801722;-83.013685
X-APPLE-STRUCTURED-LOCATION;VALUE=URI;X-ADDRESS=Thee Office Pub 128 South Main Street Romeo MI 48065 United States;X-APPLE-RADIUS=500;X-TITLE=128 South Main Street:geo:-83.013685,42.801722
END:VEVENT
BEGIN:VEVENT
DTSTART;TZID=America/Detroit:20191019T210000
DTEND;TZID=America/Detroit:20191019T210000
DTSTAMP:20260420T085054
CREATED:20190417T181335Z
LAST-MODIFIED:20191009T021755Z
UID:6639-1571518800-1571518800@theeofficepub.com
SUMMARY:Live Music ~ Brothers Mogan
DESCRIPTION:
URL:https://theeofficepub.com/event/live-music-f-hole-wreckers-5/
LOCATION:Thee Office Pub\, 128 South Main Street\, Romeo\, MI\, 48065\, United States
GEO:42.801722;-83.013685
X-APPLE-STRUCTURED-LOCATION;VALUE=URI;X-ADDRESS=Thee Office Pub 128 South Main Street Romeo MI 48065 United States;X-APPLE-RADIUS=500;X-TITLE=128 South Main Street:geo:-83.013685,42.801722
END:VEVENT
BEGIN:VEVENT
DTSTART;TZID=America/Detroit:20191012T210000
DTEND;TZID=America/Detroit:20191012T210000
DTSTAMP:20260420T085054
CREATED:20190417T181207Z
LAST-MODIFIED:20190417T181207Z
UID:6637-1570914000-1570914000@theeofficepub.com
SUMMARY:Live Music ~ Whiplash Acoustic
DESCRIPTION:
URL:https://theeofficepub.com/event/live-music-whiplash-acoustic-3/
LOCATION:Thee Office Pub\, 128 South Main Street\, Romeo\, MI\, 48065\, United States
GEO:42.801722;-83.013685
X-APPLE-STRUCTURED-LOCATION;VALUE=URI;X-ADDRESS=Thee Office Pub 128 South Main Street Romeo MI 48065 United States;X-APPLE-RADIUS=500;X-TITLE=128 South Main Street:geo:-83.013685,42.801722
END:VEVENT
BEGIN:VEVENT
DTSTART;TZID=America/Detroit:20191005T210000
DTEND;TZID=America/Detroit:20191005T210000
DTSTAMP:20260420T085054
CREATED:20190417T181057Z
LAST-MODIFIED:20190417T181057Z
UID:6635-1570309200-1570309200@theeofficepub.com
SUMMARY:Live Music ~ Annemarie Jo
DESCRIPTION:
URL:https://theeofficepub.com/event/live-music-annemarie-jo/
LOCATION:Thee Office Pub\, 128 South Main Street\, Romeo\, MI\, 48065\, United States
GEO:42.801722;-83.013685
X-APPLE-STRUCTURED-LOCATION;VALUE=URI;X-ADDRESS=Thee Office Pub 128 South Main Street Romeo MI 48065 United States;X-APPLE-RADIUS=500;X-TITLE=128 South Main Street:geo:-83.013685,42.801722
END:VEVENT
BEGIN:VEVENT
DTSTART;TZID=America/Detroit:20190928T210000
DTEND;TZID=America/Detroit:20190928T210000
DTSTAMP:20260420T085054
CREATED:20190417T180927Z
LAST-MODIFIED:20190417T180927Z
UID:6633-1569704400-1569704400@theeofficepub.com
SUMMARY:Live Music ~ Al Howard
DESCRIPTION:
URL:https://theeofficepub.com/event/live-music-al-howard-26/
LOCATION:Thee Office Pub\, 128 South Main Street\, Romeo\, MI\, 48065\, United States
GEO:42.801722;-83.013685
X-APPLE-STRUCTURED-LOCATION;VALUE=URI;X-ADDRESS=Thee Office Pub 128 South Main Street Romeo MI 48065 United States;X-APPLE-RADIUS=500;X-TITLE=128 South Main Street:geo:-83.013685,42.801722
END:VEVENT
BEGIN:VEVENT
DTSTART;TZID=America/Detroit:20190914T210000
DTEND;TZID=America/Detroit:20190914T210000
DTSTAMP:20260420T085054
CREATED:20190417T180642Z
LAST-MODIFIED:20190417T180642Z
UID:6629-1568494800-1568494800@theeofficepub.com
SUMMARY:Live Music ~ Jukebox Junkies
DESCRIPTION:
URL:https://theeofficepub.com/event/live-music-jukebox-junkies-24/
LOCATION:Thee Office Pub\, 128 South Main Street\, Romeo\, MI\, 48065\, United States
GEO:42.801722;-83.013685
X-APPLE-STRUCTURED-LOCATION;VALUE=URI;X-ADDRESS=Thee Office Pub 128 South Main Street Romeo MI 48065 United States;X-APPLE-RADIUS=500;X-TITLE=128 South Main Street:geo:-83.013685,42.801722
END:VEVENT
BEGIN:VEVENT
DTSTART;TZID=America/Detroit:20190907T210000
DTEND;TZID=America/Detroit:20190907T210000
DTSTAMP:20260420T085054
CREATED:20190417T180510Z
LAST-MODIFIED:20190417T180510Z
UID:6627-1567890000-1567890000@theeofficepub.com
SUMMARY:Live Music ~ Brothers Mogan
DESCRIPTION:
URL:https://theeofficepub.com/event/live-music-brothers-mogan-9/
LOCATION:Thee Office Pub\, 128 South Main Street\, Romeo\, MI\, 48065\, United States
GEO:42.801722;-83.013685
X-APPLE-STRUCTURED-LOCATION;VALUE=URI;X-ADDRESS=Thee Office Pub 128 South Main Street Romeo MI 48065 United States;X-APPLE-RADIUS=500;X-TITLE=128 South Main Street:geo:-83.013685,42.801722
END:VEVENT
BEGIN:VEVENT
DTSTART;TZID=America/Detroit:20190810T210000
DTEND;TZID=America/Detroit:20190810T210000
DTSTAMP:20260420T085054
CREATED:20190417T180326Z
LAST-MODIFIED:20190417T180326Z
UID:6625-1565470800-1565470800@theeofficepub.com
SUMMARY:Live Music ~ F Hole Wreckers
DESCRIPTION:
URL:https://theeofficepub.com/event/live-music-f-hole-wreckers-4/
LOCATION:Thee Office Pub\, 128 South Main Street\, Romeo\, MI\, 48065\, United States
GEO:42.801722;-83.013685
X-APPLE-STRUCTURED-LOCATION;VALUE=URI;X-ADDRESS=Thee Office Pub 128 South Main Street Romeo MI 48065 United States;X-APPLE-RADIUS=500;X-TITLE=128 South Main Street:geo:-83.013685,42.801722
END:VEVENT
BEGIN:VEVENT
DTSTART;TZID=America/Detroit:20190727T210000
DTEND;TZID=America/Detroit:20190727T210000
DTSTAMP:20260420T085054
CREATED:20190417T180144Z
LAST-MODIFIED:20190417T180144Z
UID:6623-1564261200-1564261200@theeofficepub.com
SUMMARY:Live Music~Momford and Sons
DESCRIPTION:
URL:https://theeofficepub.com/event/live-musicmomford-sons/
LOCATION:Thee Office Pub\, 128 South Main Street\, Romeo\, MI\, 48065\, United States
GEO:42.801722;-83.013685
X-APPLE-STRUCTURED-LOCATION;VALUE=URI;X-ADDRESS=Thee Office Pub 128 South Main Street Romeo MI 48065 United States;X-APPLE-RADIUS=500;X-TITLE=128 South Main Street:geo:-83.013685,42.801722
END:VEVENT
BEGIN:VEVENT
DTSTART;TZID=America/Detroit:20190713T210000
DTEND;TZID=America/Detroit:20190713T210000
DTSTAMP:20260420T085054
CREATED:20190417T175442Z
LAST-MODIFIED:20190417T175937Z
UID:6618-1563051600-1563051600@theeofficepub.com
SUMMARY:Live Music~ Annemarie Jo
DESCRIPTION:
URL:https://theeofficepub.com/event/live-music-annmarie-jo/
LOCATION:Thee Office Pub\, 128 South Main Street\, Romeo\, MI\, 48065\, United States
GEO:42.801722;-83.013685
X-APPLE-STRUCTURED-LOCATION;VALUE=URI;X-ADDRESS=Thee Office Pub 128 South Main Street Romeo MI 48065 United States;X-APPLE-RADIUS=500;X-TITLE=128 South Main Street:geo:-83.013685,42.801722
END:VEVENT
BEGIN:VEVENT
DTSTART;TZID=America/Detroit:20190622T210000
DTEND;TZID=America/Detroit:20190622T210000
DTSTAMP:20260420T085054
CREATED:20190417T175146Z
LAST-MODIFIED:20190417T175146Z
UID:6616-1561237200-1561237200@theeofficepub.com
SUMMARY:Live Music~ RJ Harper
DESCRIPTION:
URL:https://theeofficepub.com/event/live-music-rj-harper-4/
LOCATION:Thee Office Pub\, 128 South Main Street\, Romeo\, MI\, 48065\, United States
GEO:42.801722;-83.013685
X-APPLE-STRUCTURED-LOCATION;VALUE=URI;X-ADDRESS=Thee Office Pub 128 South Main Street Romeo MI 48065 United States;X-APPLE-RADIUS=500;X-TITLE=128 South Main Street:geo:-83.013685,42.801722
END:VEVENT
BEGIN:VEVENT
DTSTART;TZID=America/Detroit:20190608T210000
DTEND;TZID=America/Detroit:20190608T210000
DTSTAMP:20260420T085054
CREATED:20190417T134820Z
LAST-MODIFIED:20190417T134820Z
UID:6614-1560027600-1560027600@theeofficepub.com
SUMMARY:Live Music ~ Brothers Mogan
DESCRIPTION:
URL:https://theeofficepub.com/event/live-music-brothers-mogan-8/
LOCATION:Thee Office Pub\, 128 South Main Street\, Romeo\, MI\, 48065\, United States
GEO:42.801722;-83.013685
X-APPLE-STRUCTURED-LOCATION;VALUE=URI;X-ADDRESS=Thee Office Pub 128 South Main Street Romeo MI 48065 United States;X-APPLE-RADIUS=500;X-TITLE=128 South Main Street:geo:-83.013685,42.801722
END:VEVENT
BEGIN:VEVENT
DTSTART;TZID=America/Detroit:20190525T210000
DTEND;TZID=America/Detroit:20190525T210000
DTSTAMP:20260420T085054
CREATED:20190114T153647Z
LAST-MODIFIED:20190114T154001Z
UID:6506-1558818000-1558818000@theeofficepub.com
SUMMARY:Live Music ~ Jukebox Junkies
DESCRIPTION:
URL:https://theeofficepub.com/event/live-music-jukebox-junkies-23/
LOCATION:Thee Office Pub\, 128 South Main Street\, Romeo\, MI\, 48065\, United States
GEO:42.801722;-83.013685
X-APPLE-STRUCTURED-LOCATION;VALUE=URI;X-ADDRESS=Thee Office Pub 128 South Main Street Romeo MI 48065 United States;X-APPLE-RADIUS=500;X-TITLE=128 South Main Street:geo:-83.013685,42.801722
END:VEVENT
BEGIN:VEVENT
DTSTART;TZID=America/Detroit:20190518T210000
DTEND;TZID=America/Detroit:20190518T210000
DTSTAMP:20260420T085054
CREATED:20190114T153602Z
LAST-MODIFIED:20190114T154159Z
UID:6504-1558213200-1558213200@theeofficepub.com
SUMMARY:Live Music ~ RJ Harper
DESCRIPTION:
URL:https://theeofficepub.com/event/live-music-rj-harper-3/
LOCATION:Thee Office Pub\, 128 South Main Street\, Romeo\, MI\, 48065\, United States
GEO:42.801722;-83.013685
X-APPLE-STRUCTURED-LOCATION;VALUE=URI;X-ADDRESS=Thee Office Pub 128 South Main Street Romeo MI 48065 United States;X-APPLE-RADIUS=500;X-TITLE=128 South Main Street:geo:-83.013685,42.801722
END:VEVENT
BEGIN:VEVENT
DTSTART;TZID=America/Detroit:20190511T210000
DTEND;TZID=America/Detroit:20190511T210000
DTSTAMP:20260420T085054
CREATED:20190114T153422Z
LAST-MODIFIED:20190114T154300Z
UID:6502-1557608400-1557608400@theeofficepub.com
SUMMARY:Live Music ~ Al Howard
DESCRIPTION:
URL:https://theeofficepub.com/event/live-music-al-howard-25/
LOCATION:Thee Office Pub\, 128 South Main Street\, Romeo\, MI\, 48065\, United States
GEO:42.801722;-83.013685
X-APPLE-STRUCTURED-LOCATION;VALUE=URI;X-ADDRESS=Thee Office Pub 128 South Main Street Romeo MI 48065 United States;X-APPLE-RADIUS=500;X-TITLE=128 South Main Street:geo:-83.013685,42.801722
END:VEVENT
BEGIN:VEVENT
DTSTART;TZID=America/Detroit:20190504T210000
DTEND;TZID=America/Detroit:20190504T210000
DTSTAMP:20260420T085054
CREATED:20190114T153330Z
LAST-MODIFIED:20190114T154444Z
UID:6500-1557003600-1557003600@theeofficepub.com
SUMMARY:Live Music ~ F Hole Wreckers
DESCRIPTION:
URL:https://theeofficepub.com/event/live-music-f-hole-wreckers-3/
LOCATION:Thee Office Pub\, 128 South Main Street\, Romeo\, MI\, 48065\, United States
GEO:42.801722;-83.013685
X-APPLE-STRUCTURED-LOCATION;VALUE=URI;X-ADDRESS=Thee Office Pub 128 South Main Street Romeo MI 48065 United States;X-APPLE-RADIUS=500;X-TITLE=128 South Main Street:geo:-83.013685,42.801722
END:VEVENT
END:VCALENDAR