BEGIN:VCALENDAR
VERSION:2.0
PRODID:-//Thee Office Pub - ECPv6.7.1//NONSGML v1.0//EN
CALSCALE:GREGORIAN
METHOD:PUBLISH
X-WR-CALNAME:Thee Office Pub
X-ORIGINAL-URL:https://theeofficepub.com
X-WR-CALDESC:Events for Thee Office Pub
REFRESH-INTERVAL;VALUE=DURATION:PT1H
X-Robots-Tag:noindex
X-PUBLISHED-TTL:PT1H
BEGIN:VTIMEZONE
TZID:America/Detroit
BEGIN:DAYLIGHT
TZOFFSETFROM:-0500
TZOFFSETTO:-0400
TZNAME:EDT
DTSTART:20180311T070000
END:DAYLIGHT
BEGIN:STANDARD
TZOFFSETFROM:-0400
TZOFFSETTO:-0500
TZNAME:EST
DTSTART:20181104T060000
END:STANDARD
BEGIN:DAYLIGHT
TZOFFSETFROM:-0500
TZOFFSETTO:-0400
TZNAME:EDT
DTSTART:20190310T070000
END:DAYLIGHT
BEGIN:STANDARD
TZOFFSETFROM:-0400
TZOFFSETTO:-0500
TZNAME:EST
DTSTART:20191103T060000
END:STANDARD
END:VTIMEZONE
BEGIN:VEVENT
DTSTART;TZID=America/Detroit:20190907T210000
DTEND;TZID=America/Detroit:20190907T210000
DTSTAMP:20260422T062855
CREATED:20190417T180510Z
LAST-MODIFIED:20190417T180510Z
UID:6627-1567890000-1567890000@theeofficepub.com
SUMMARY:Live Music ~ Brothers Mogan
DESCRIPTION:
URL:https://theeofficepub.com/event/live-music-brothers-mogan-9/
LOCATION:Thee Office Pub\, 128 South Main Street\, Romeo\, MI\, 48065\, United States
GEO:42.801722;-83.013685
X-APPLE-STRUCTURED-LOCATION;VALUE=URI;X-ADDRESS=Thee Office Pub 128 South Main Street Romeo MI 48065 United States;X-APPLE-RADIUS=500;X-TITLE=128 South Main Street:geo:-83.013685,42.801722
END:VEVENT
BEGIN:VEVENT
DTSTART;TZID=America/Detroit:20190810T210000
DTEND;TZID=America/Detroit:20190810T210000
DTSTAMP:20260422T062855
CREATED:20190417T180326Z
LAST-MODIFIED:20190417T180326Z
UID:6625-1565470800-1565470800@theeofficepub.com
SUMMARY:Live Music ~ F Hole Wreckers
DESCRIPTION:
URL:https://theeofficepub.com/event/live-music-f-hole-wreckers-4/
LOCATION:Thee Office Pub\, 128 South Main Street\, Romeo\, MI\, 48065\, United States
GEO:42.801722;-83.013685
X-APPLE-STRUCTURED-LOCATION;VALUE=URI;X-ADDRESS=Thee Office Pub 128 South Main Street Romeo MI 48065 United States;X-APPLE-RADIUS=500;X-TITLE=128 South Main Street:geo:-83.013685,42.801722
END:VEVENT
BEGIN:VEVENT
DTSTART;TZID=America/Detroit:20190727T210000
DTEND;TZID=America/Detroit:20190727T210000
DTSTAMP:20260422T062855
CREATED:20190417T180144Z
LAST-MODIFIED:20190417T180144Z
UID:6623-1564261200-1564261200@theeofficepub.com
SUMMARY:Live Music~Momford and Sons
DESCRIPTION:
URL:https://theeofficepub.com/event/live-musicmomford-sons/
LOCATION:Thee Office Pub\, 128 South Main Street\, Romeo\, MI\, 48065\, United States
GEO:42.801722;-83.013685
X-APPLE-STRUCTURED-LOCATION;VALUE=URI;X-ADDRESS=Thee Office Pub 128 South Main Street Romeo MI 48065 United States;X-APPLE-RADIUS=500;X-TITLE=128 South Main Street:geo:-83.013685,42.801722
END:VEVENT
BEGIN:VEVENT
DTSTART;TZID=America/Detroit:20190713T210000
DTEND;TZID=America/Detroit:20190713T210000
DTSTAMP:20260422T062855
CREATED:20190417T175442Z
LAST-MODIFIED:20190417T175937Z
UID:6618-1563051600-1563051600@theeofficepub.com
SUMMARY:Live Music~ Annemarie Jo
DESCRIPTION:
URL:https://theeofficepub.com/event/live-music-annmarie-jo/
LOCATION:Thee Office Pub\, 128 South Main Street\, Romeo\, MI\, 48065\, United States
GEO:42.801722;-83.013685
X-APPLE-STRUCTURED-LOCATION;VALUE=URI;X-ADDRESS=Thee Office Pub 128 South Main Street Romeo MI 48065 United States;X-APPLE-RADIUS=500;X-TITLE=128 South Main Street:geo:-83.013685,42.801722
END:VEVENT
BEGIN:VEVENT
DTSTART;TZID=America/Detroit:20190622T210000
DTEND;TZID=America/Detroit:20190622T210000
DTSTAMP:20260422T062855
CREATED:20190417T175146Z
LAST-MODIFIED:20190417T175146Z
UID:6616-1561237200-1561237200@theeofficepub.com
SUMMARY:Live Music~ RJ Harper
DESCRIPTION:
URL:https://theeofficepub.com/event/live-music-rj-harper-4/
LOCATION:Thee Office Pub\, 128 South Main Street\, Romeo\, MI\, 48065\, United States
GEO:42.801722;-83.013685
X-APPLE-STRUCTURED-LOCATION;VALUE=URI;X-ADDRESS=Thee Office Pub 128 South Main Street Romeo MI 48065 United States;X-APPLE-RADIUS=500;X-TITLE=128 South Main Street:geo:-83.013685,42.801722
END:VEVENT
BEGIN:VEVENT
DTSTART;TZID=America/Detroit:20190608T210000
DTEND;TZID=America/Detroit:20190608T210000
DTSTAMP:20260422T062855
CREATED:20190417T134820Z
LAST-MODIFIED:20190417T134820Z
UID:6614-1560027600-1560027600@theeofficepub.com
SUMMARY:Live Music ~ Brothers Mogan
DESCRIPTION:
URL:https://theeofficepub.com/event/live-music-brothers-mogan-8/
LOCATION:Thee Office Pub\, 128 South Main Street\, Romeo\, MI\, 48065\, United States
GEO:42.801722;-83.013685
X-APPLE-STRUCTURED-LOCATION;VALUE=URI;X-ADDRESS=Thee Office Pub 128 South Main Street Romeo MI 48065 United States;X-APPLE-RADIUS=500;X-TITLE=128 South Main Street:geo:-83.013685,42.801722
END:VEVENT
BEGIN:VEVENT
DTSTART;TZID=America/Detroit:20190525T210000
DTEND;TZID=America/Detroit:20190525T210000
DTSTAMP:20260422T062855
CREATED:20190114T153647Z
LAST-MODIFIED:20190114T154001Z
UID:6506-1558818000-1558818000@theeofficepub.com
SUMMARY:Live Music ~ Jukebox Junkies
DESCRIPTION:
URL:https://theeofficepub.com/event/live-music-jukebox-junkies-23/
LOCATION:Thee Office Pub\, 128 South Main Street\, Romeo\, MI\, 48065\, United States
GEO:42.801722;-83.013685
X-APPLE-STRUCTURED-LOCATION;VALUE=URI;X-ADDRESS=Thee Office Pub 128 South Main Street Romeo MI 48065 United States;X-APPLE-RADIUS=500;X-TITLE=128 South Main Street:geo:-83.013685,42.801722
END:VEVENT
BEGIN:VEVENT
DTSTART;TZID=America/Detroit:20190518T210000
DTEND;TZID=America/Detroit:20190518T210000
DTSTAMP:20260422T062855
CREATED:20190114T153602Z
LAST-MODIFIED:20190114T154159Z
UID:6504-1558213200-1558213200@theeofficepub.com
SUMMARY:Live Music ~ RJ Harper
DESCRIPTION:
URL:https://theeofficepub.com/event/live-music-rj-harper-3/
LOCATION:Thee Office Pub\, 128 South Main Street\, Romeo\, MI\, 48065\, United States
GEO:42.801722;-83.013685
X-APPLE-STRUCTURED-LOCATION;VALUE=URI;X-ADDRESS=Thee Office Pub 128 South Main Street Romeo MI 48065 United States;X-APPLE-RADIUS=500;X-TITLE=128 South Main Street:geo:-83.013685,42.801722
END:VEVENT
BEGIN:VEVENT
DTSTART;TZID=America/Detroit:20190511T210000
DTEND;TZID=America/Detroit:20190511T210000
DTSTAMP:20260422T062855
CREATED:20190114T153422Z
LAST-MODIFIED:20190114T154300Z
UID:6502-1557608400-1557608400@theeofficepub.com
SUMMARY:Live Music ~ Al Howard
DESCRIPTION:
URL:https://theeofficepub.com/event/live-music-al-howard-25/
LOCATION:Thee Office Pub\, 128 South Main Street\, Romeo\, MI\, 48065\, United States
GEO:42.801722;-83.013685
X-APPLE-STRUCTURED-LOCATION;VALUE=URI;X-ADDRESS=Thee Office Pub 128 South Main Street Romeo MI 48065 United States;X-APPLE-RADIUS=500;X-TITLE=128 South Main Street:geo:-83.013685,42.801722
END:VEVENT
BEGIN:VEVENT
DTSTART;TZID=America/Detroit:20190504T210000
DTEND;TZID=America/Detroit:20190504T210000
DTSTAMP:20260422T062855
CREATED:20190114T153330Z
LAST-MODIFIED:20190114T154444Z
UID:6500-1557003600-1557003600@theeofficepub.com
SUMMARY:Live Music ~ F Hole Wreckers
DESCRIPTION:
URL:https://theeofficepub.com/event/live-music-f-hole-wreckers-3/
LOCATION:Thee Office Pub\, 128 South Main Street\, Romeo\, MI\, 48065\, United States
GEO:42.801722;-83.013685
X-APPLE-STRUCTURED-LOCATION;VALUE=URI;X-ADDRESS=Thee Office Pub 128 South Main Street Romeo MI 48065 United States;X-APPLE-RADIUS=500;X-TITLE=128 South Main Street:geo:-83.013685,42.801722
END:VEVENT
BEGIN:VEVENT
DTSTART;TZID=America/Detroit:20190427T210000
DTEND;TZID=America/Detroit:20190427T210000
DTSTAMP:20260422T062855
CREATED:20190114T153225Z
LAST-MODIFIED:20190114T154645Z
UID:6498-1556398800-1556398800@theeofficepub.com
SUMMARY:Live Music ~ Momford and Sons
DESCRIPTION:
URL:https://theeofficepub.com/event/live-music-momford-sons-5/
LOCATION:Thee Office Pub\, 128 South Main Street\, Romeo\, MI\, 48065\, United States
GEO:42.801722;-83.013685
X-APPLE-STRUCTURED-LOCATION;VALUE=URI;X-ADDRESS=Thee Office Pub 128 South Main Street Romeo MI 48065 United States;X-APPLE-RADIUS=500;X-TITLE=128 South Main Street:geo:-83.013685,42.801722
END:VEVENT
BEGIN:VEVENT
DTSTART;TZID=America/Detroit:20190420T210000
DTEND;TZID=America/Detroit:20190420T210000
DTSTAMP:20260422T062855
CREATED:20190114T153135Z
LAST-MODIFIED:20190114T154745Z
UID:6496-1555794000-1555794000@theeofficepub.com
SUMMARY:Live Music ~ Al Howard
DESCRIPTION:
URL:https://theeofficepub.com/event/live-music-al-howard-24/
LOCATION:Thee Office Pub\, 128 South Main Street\, Romeo\, MI\, 48065\, United States
GEO:42.801722;-83.013685
X-APPLE-STRUCTURED-LOCATION;VALUE=URI;X-ADDRESS=Thee Office Pub 128 South Main Street Romeo MI 48065 United States;X-APPLE-RADIUS=500;X-TITLE=128 South Main Street:geo:-83.013685,42.801722
END:VEVENT
BEGIN:VEVENT
DTSTART;TZID=America/Detroit:20190413T210000
DTEND;TZID=America/Detroit:20190413T210000
DTSTAMP:20260422T062855
CREATED:20190114T153045Z
LAST-MODIFIED:20190114T154844Z
UID:6494-1555189200-1555189200@theeofficepub.com
SUMMARY:Live Music ~ Jukebox Junkies
DESCRIPTION:
URL:https://theeofficepub.com/event/live-music-jukebox-junkies-22/
LOCATION:Thee Office Pub\, 128 South Main Street\, Romeo\, MI\, 48065\, United States
GEO:42.801722;-83.013685
X-APPLE-STRUCTURED-LOCATION;VALUE=URI;X-ADDRESS=Thee Office Pub 128 South Main Street Romeo MI 48065 United States;X-APPLE-RADIUS=500;X-TITLE=128 South Main Street:geo:-83.013685,42.801722
END:VEVENT
BEGIN:VEVENT
DTSTART;TZID=America/Detroit:20190406T210000
DTEND;TZID=America/Detroit:20190406T210000
DTSTAMP:20260422T062855
CREATED:20190114T152950Z
LAST-MODIFIED:20190114T154942Z
UID:6492-1554584400-1554584400@theeofficepub.com
SUMMARY:Live Music ~ The Hackwells
DESCRIPTION:
URL:https://theeofficepub.com/event/live-music-hackwells-3/
LOCATION:Thee Office Pub\, 128 South Main Street\, Romeo\, MI\, 48065\, United States
GEO:42.801722;-83.013685
X-APPLE-STRUCTURED-LOCATION;VALUE=URI;X-ADDRESS=Thee Office Pub 128 South Main Street Romeo MI 48065 United States;X-APPLE-RADIUS=500;X-TITLE=128 South Main Street:geo:-83.013685,42.801722
END:VEVENT
BEGIN:VEVENT
DTSTART;TZID=America/Detroit:20190330T210000
DTEND;TZID=America/Detroit:20190330T210000
DTSTAMP:20260422T062855
CREATED:20190114T152730Z
LAST-MODIFIED:20190114T155042Z
UID:6488-1553979600-1553979600@theeofficepub.com
SUMMARY:Live Music ~ Ron Alcini
DESCRIPTION:
URL:https://theeofficepub.com/event/live-music-ron-alcini-21/
LOCATION:Thee Office Pub\, 128 South Main Street\, Romeo\, MI\, 48065\, United States
GEO:42.801722;-83.013685
X-APPLE-STRUCTURED-LOCATION;VALUE=URI;X-ADDRESS=Thee Office Pub 128 South Main Street Romeo MI 48065 United States;X-APPLE-RADIUS=500;X-TITLE=128 South Main Street:geo:-83.013685,42.801722
END:VEVENT
BEGIN:VEVENT
DTSTART;TZID=America/Detroit:20190323T210000
DTEND;TZID=America/Detroit:20190323T210000
DTSTAMP:20260422T062855
CREATED:20190114T152643Z
LAST-MODIFIED:20190114T155138Z
UID:6486-1553374800-1553374800@theeofficepub.com
SUMMARY:Live Music ~ Brothers Mogan
DESCRIPTION:
URL:https://theeofficepub.com/event/live-music-brothers-mogan-7/
LOCATION:Thee Office Pub\, 128 South Main Street\, Romeo\, MI\, 48065\, United States
GEO:42.801722;-83.013685
X-APPLE-STRUCTURED-LOCATION;VALUE=URI;X-ADDRESS=Thee Office Pub 128 South Main Street Romeo MI 48065 United States;X-APPLE-RADIUS=500;X-TITLE=128 South Main Street:geo:-83.013685,42.801722
END:VEVENT
BEGIN:VEVENT
DTSTART;TZID=America/Detroit:20190317T210000
DTEND;TZID=America/Detroit:20190317T210000
DTSTAMP:20260422T062855
CREATED:20190114T152835Z
LAST-MODIFIED:20190114T155237Z
UID:6490-1552856400-1552856400@theeofficepub.com
SUMMARY:Live Music ~ Momford and Sons
DESCRIPTION:
URL:https://theeofficepub.com/event/live-music-momford-sons-4/
LOCATION:Thee Office Pub\, 128 South Main Street\, Romeo\, MI\, 48065\, United States
GEO:42.801722;-83.013685
X-APPLE-STRUCTURED-LOCATION;VALUE=URI;X-ADDRESS=Thee Office Pub 128 South Main Street Romeo MI 48065 United States;X-APPLE-RADIUS=500;X-TITLE=128 South Main Street:geo:-83.013685,42.801722
END:VEVENT
BEGIN:VEVENT
DTSTART;TZID=America/Detroit:20190315T210000
DTEND;TZID=America/Detroit:20190315T210000
DTSTAMP:20260422T062855
CREATED:20190114T152527Z
LAST-MODIFIED:20190305T034220Z
UID:6484-1552683600-1552683600@theeofficepub.com
SUMMARY:Live Music ~ RJ Harper
DESCRIPTION:
URL:https://theeofficepub.com/event/live-music-rj-harper-2/
LOCATION:Thee Office Pub\, 128 South Main Street\, Romeo\, MI\, 48065\, United States
GEO:42.801722;-83.013685
X-APPLE-STRUCTURED-LOCATION;VALUE=URI;X-ADDRESS=Thee Office Pub 128 South Main Street Romeo MI 48065 United States;X-APPLE-RADIUS=500;X-TITLE=128 South Main Street:geo:-83.013685,42.801722
END:VEVENT
BEGIN:VEVENT
DTSTART;TZID=America/Detroit:20190309T210000
DTEND;TZID=America/Detroit:20190309T210000
DTSTAMP:20260422T062855
CREATED:20190114T152438Z
LAST-MODIFIED:20190114T155425Z
UID:6482-1552165200-1552165200@theeofficepub.com
SUMMARY:Live Music ~ Whiplash Acoustic
DESCRIPTION:
URL:https://theeofficepub.com/event/live-music-whiplash-acoustic-2/
LOCATION:Thee Office Pub\, 128 South Main Street\, Romeo\, MI\, 48065\, United States
GEO:42.801722;-83.013685
X-APPLE-STRUCTURED-LOCATION;VALUE=URI;X-ADDRESS=Thee Office Pub 128 South Main Street Romeo MI 48065 United States;X-APPLE-RADIUS=500;X-TITLE=128 South Main Street:geo:-83.013685,42.801722
END:VEVENT
BEGIN:VEVENT
DTSTART;TZID=America/Detroit:20190302T210000
DTEND;TZID=America/Detroit:20190302T210000
DTSTAMP:20260422T062855
CREATED:20190114T152327Z
LAST-MODIFIED:20190114T155531Z
UID:6480-1551560400-1551560400@theeofficepub.com
SUMMARY:Live Music ~ Jukebox Junkies
DESCRIPTION:
URL:https://theeofficepub.com/event/live-music-jukebox-junkies-21/
LOCATION:Thee Office Pub\, 128 South Main Street\, Romeo\, MI\, 48065\, United States
GEO:42.801722;-83.013685
X-APPLE-STRUCTURED-LOCATION;VALUE=URI;X-ADDRESS=Thee Office Pub 128 South Main Street Romeo MI 48065 United States;X-APPLE-RADIUS=500;X-TITLE=128 South Main Street:geo:-83.013685,42.801722
END:VEVENT
BEGIN:VEVENT
DTSTART;TZID=America/Detroit:20190223T210000
DTEND;TZID=America/Detroit:20190223T210000
DTSTAMP:20260422T062855
CREATED:20190114T152221Z
LAST-MODIFIED:20190114T154541Z
UID:6478-1550955600-1550955600@theeofficepub.com
SUMMARY:Live Music ~ Whiplash Acoustic
DESCRIPTION:
URL:https://theeofficepub.com/event/live-music-whiplash-acoustic/
LOCATION:Thee Office Pub\, 128 South Main Street\, Romeo\, MI\, 48065\, United States
GEO:42.801722;-83.013685
X-APPLE-STRUCTURED-LOCATION;VALUE=URI;X-ADDRESS=Thee Office Pub 128 South Main Street Romeo MI 48065 United States;X-APPLE-RADIUS=500;X-TITLE=128 South Main Street:geo:-83.013685,42.801722
END:VEVENT
BEGIN:VEVENT
DTSTART;TZID=America/Detroit:20190216T210000
DTEND;TZID=America/Detroit:20190216T210000
DTSTAMP:20260422T062855
CREATED:20190114T152046Z
LAST-MODIFIED:20190114T152046Z
UID:6476-1550350800-1550350800@theeofficepub.com
SUMMARY:Live Music~ F Hole Wreckers
DESCRIPTION:
URL:https://theeofficepub.com/event/live-music-f-hole-wreckers-2/
LOCATION:Thee Office Pub\, 128 South Main Street\, Romeo\, MI\, 48065\, United States
GEO:42.801722;-83.013685
X-APPLE-STRUCTURED-LOCATION;VALUE=URI;X-ADDRESS=Thee Office Pub 128 South Main Street Romeo MI 48065 United States;X-APPLE-RADIUS=500;X-TITLE=128 South Main Street:geo:-83.013685,42.801722
END:VEVENT
BEGIN:VEVENT
DTSTART;TZID=America/Detroit:20190209T210000
DTEND;TZID=America/Detroit:20190209T210000
DTSTAMP:20260422T062855
CREATED:20190107T232001Z
LAST-MODIFIED:20190107T232001Z
UID:6469-1549746000-1549746000@theeofficepub.com
SUMMARY:Live Music ~ Al Howard
DESCRIPTION:
URL:https://theeofficepub.com/event/live-music-al-howard-23/
LOCATION:Thee Office Pub\, 128 South Main Street\, Romeo\, MI\, 48065\, United States
GEO:42.801722;-83.013685
X-APPLE-STRUCTURED-LOCATION;VALUE=URI;X-ADDRESS=Thee Office Pub 128 South Main Street Romeo MI 48065 United States;X-APPLE-RADIUS=500;X-TITLE=128 South Main Street:geo:-83.013685,42.801722
END:VEVENT
BEGIN:VEVENT
DTSTART;TZID=America/Detroit:20190202T210000
DTEND;TZID=America/Detroit:20190202T210000
DTSTAMP:20260422T062855
CREATED:20190107T231842Z
LAST-MODIFIED:20190107T231842Z
UID:6467-1549141200-1549141200@theeofficepub.com
SUMMARY:Live Music ~ Annemarie Jo & Amelia Oke
DESCRIPTION:
URL:https://theeofficepub.com/event/live-music-annemarie-jo-amelia-oke/
LOCATION:Thee Office Pub\, 128 South Main Street\, Romeo\, MI\, 48065\, United States
GEO:42.801722;-83.013685
X-APPLE-STRUCTURED-LOCATION;VALUE=URI;X-ADDRESS=Thee Office Pub 128 South Main Street Romeo MI 48065 United States;X-APPLE-RADIUS=500;X-TITLE=128 South Main Street:geo:-83.013685,42.801722
END:VEVENT
BEGIN:VEVENT
DTSTART;TZID=America/Detroit:20190126T210000
DTEND;TZID=America/Detroit:20190126T210000
DTSTAMP:20260422T062855
CREATED:20190107T200935Z
LAST-MODIFIED:20190107T200936Z
UID:6464-1548536400-1548536400@theeofficepub.com
SUMMARY:Live Music ~ Jukebox Junkies
DESCRIPTION:
URL:https://theeofficepub.com/event/live-music-jukebox-junkies-20/
LOCATION:Thee Office Pub\, 128 South Main Street\, Romeo\, MI\, 48065\, United States
GEO:42.801722;-83.013685
X-APPLE-STRUCTURED-LOCATION;VALUE=URI;X-ADDRESS=Thee Office Pub 128 South Main Street Romeo MI 48065 United States;X-APPLE-RADIUS=500;X-TITLE=128 South Main Street:geo:-83.013685,42.801722
END:VEVENT
BEGIN:VEVENT
DTSTART;TZID=America/Detroit:20190119T210000
DTEND;TZID=America/Detroit:20190119T210000
DTSTAMP:20260422T062855
CREATED:20190107T200412Z
LAST-MODIFIED:20190107T200831Z
UID:6462-1547931600-1547931600@theeofficepub.com
SUMMARY:Live Music ~ RJ Harper
DESCRIPTION:
URL:https://theeofficepub.com/event/live-music-rj-harper/
LOCATION:Thee Office Pub\, 128 South Main Street\, Romeo\, MI\, 48065\, United States
GEO:42.801722;-83.013685
X-APPLE-STRUCTURED-LOCATION;VALUE=URI;X-ADDRESS=Thee Office Pub 128 South Main Street Romeo MI 48065 United States;X-APPLE-RADIUS=500;X-TITLE=128 South Main Street:geo:-83.013685,42.801722
END:VEVENT
BEGIN:VEVENT
DTSTART;TZID=America/Detroit:20190112T210000
DTEND;TZID=America/Detroit:20190112T210000
DTSTAMP:20260422T062855
CREATED:20190107T200230Z
LAST-MODIFIED:20190107T200728Z
UID:6460-1547326800-1547326800@theeofficepub.com
SUMMARY:Live Music ~ Momford & Sons
DESCRIPTION:
URL:https://theeofficepub.com/event/live-music-momford-sons-3/
LOCATION:Thee Office Pub\, 128 South Main Street\, Romeo\, MI\, 48065\, United States
GEO:42.801722;-83.013685
X-APPLE-STRUCTURED-LOCATION;VALUE=URI;X-ADDRESS=Thee Office Pub 128 South Main Street Romeo MI 48065 United States;X-APPLE-RADIUS=500;X-TITLE=128 South Main Street:geo:-83.013685,42.801722
END:VEVENT
BEGIN:VEVENT
DTSTART;TZID=America/Detroit:20190105T210000
DTEND;TZID=America/Detroit:20190105T210000
DTSTAMP:20260422T062855
CREATED:20190107T200135Z
LAST-MODIFIED:20190107T200625Z
UID:6458-1546722000-1546722000@theeofficepub.com
SUMMARY:Live Music ~ Al Howard
DESCRIPTION:
URL:https://theeofficepub.com/event/live-music-al-howard-22/
LOCATION:Thee Office Pub\, 128 South Main Street\, Romeo\, MI\, 48065\, United States
GEO:42.801722;-83.013685
X-APPLE-STRUCTURED-LOCATION;VALUE=URI;X-ADDRESS=Thee Office Pub 128 South Main Street Romeo MI 48065 United States;X-APPLE-RADIUS=500;X-TITLE=128 South Main Street:geo:-83.013685,42.801722
END:VEVENT
BEGIN:VEVENT
DTSTART;TZID=America/Detroit:20181229T210000
DTEND;TZID=America/Detroit:20181229T210000
DTSTAMP:20260422T062855
CREATED:20180730T175541Z
LAST-MODIFIED:20180730T175747Z
UID:6271-1546117200-1546117200@theeofficepub.com
SUMMARY:Live Music ~ Brothers Mogan
DESCRIPTION:
URL:https://theeofficepub.com/event/live-music-brothers-mogan-6/
LOCATION:Thee Office Pub\, 128 South Main Street\, Romeo\, MI\, 48065\, United States
GEO:42.801722;-83.013685
X-APPLE-STRUCTURED-LOCATION;VALUE=URI;X-ADDRESS=Thee Office Pub 128 South Main Street Romeo MI 48065 United States;X-APPLE-RADIUS=500;X-TITLE=128 South Main Street:geo:-83.013685,42.801722
END:VEVENT
BEGIN:VEVENT
DTSTART;TZID=America/Detroit:20181222T210000
DTEND;TZID=America/Detroit:20181222T210000
DTSTAMP:20260422T062855
CREATED:20180730T175425Z
LAST-MODIFIED:20180730T175425Z
UID:6269-1545512400-1545512400@theeofficepub.com
SUMMARY:Live Music ~ Momford & Son
DESCRIPTION:
URL:https://theeofficepub.com/event/live-music-momford-son-5/
LOCATION:Thee Office Pub\, 128 South Main Street\, Romeo\, MI\, 48065\, United States
GEO:42.801722;-83.013685
X-APPLE-STRUCTURED-LOCATION;VALUE=URI;X-ADDRESS=Thee Office Pub 128 South Main Street Romeo MI 48065 United States;X-APPLE-RADIUS=500;X-TITLE=128 South Main Street:geo:-83.013685,42.801722
END:VEVENT
END:VCALENDAR