BEGIN:VCALENDAR
VERSION:2.0
PRODID:-//Thee Office Pub - ECPv6.7.1//NONSGML v1.0//EN
CALSCALE:GREGORIAN
METHOD:PUBLISH
X-WR-CALNAME:Thee Office Pub
X-ORIGINAL-URL:https://theeofficepub.com
X-WR-CALDESC:Events for Thee Office Pub
REFRESH-INTERVAL;VALUE=DURATION:PT1H
X-Robots-Tag:noindex
X-PUBLISHED-TTL:PT1H
BEGIN:VTIMEZONE
TZID:America/Detroit
BEGIN:DAYLIGHT
TZOFFSETFROM:-0500
TZOFFSETTO:-0400
TZNAME:EDT
DTSTART:20240310T070000
END:DAYLIGHT
BEGIN:STANDARD
TZOFFSETFROM:-0400
TZOFFSETTO:-0500
TZNAME:EST
DTSTART:20241103T060000
END:STANDARD
END:VTIMEZONE
BEGIN:VEVENT
DTSTART;VALUE=DATE:20241103
DTEND;VALUE=DATE:20241104
DTSTAMP:20260422T044128
CREATED:20150419T232802Z
LAST-MODIFIED:20150419T232802Z
UID:9712-1730592000-1730678399@theeofficepub.com
SUMMARY:Sunday Funday
DESCRIPTION:$2 – Pints of Pabst Draft\n1/2 OFF Appetizer with purchase of meal
URL:https://theeofficepub.com/event/sunday-funday/2024-11-03/
LOCATION:Thee Office Pub\, 128 South Main Street\, Romeo\, MI\, 48065\, United States
GEO:42.801722;-83.013685
X-APPLE-STRUCTURED-LOCATION;VALUE=URI;X-ADDRESS=Thee Office Pub 128 South Main Street Romeo MI 48065 United States;X-APPLE-RADIUS=500;X-TITLE=128 South Main Street:geo:-83.013685,42.801722
END:VEVENT
BEGIN:VEVENT
DTSTART;VALUE=DATE:20241104
DTEND;VALUE=DATE:20241105
DTSTAMP:20260422T044128
CREATED:20210225T025407Z
LAST-MODIFIED:20210225T025407Z
UID:9713-1730678400-1730764799@theeofficepub.com
SUMMARY:Kids Eat Free!
DESCRIPTION:Free kids meal with the purchase of an adult meal\, 12 and under.
URL:https://theeofficepub.com/event/kids-eat-free/2024-11-04/
LOCATION:Thee Office Pub\, 128 South Main Street\, Romeo\, MI\, 48065\, United States
GEO:42.801722;-83.013685
X-APPLE-STRUCTURED-LOCATION;VALUE=URI;X-ADDRESS=Thee Office Pub 128 South Main Street Romeo MI 48065 United States;X-APPLE-RADIUS=500;X-TITLE=128 South Main Street:geo:-83.013685,42.801722
END:VEVENT
BEGIN:VEVENT
DTSTART;VALUE=DATE:20241105
DTEND;VALUE=DATE:20241106
DTSTAMP:20260422T044128
CREATED:20150419T232045Z
LAST-MODIFIED:20150419T232045Z
UID:9714-1730764800-1730851199@theeofficepub.com
SUMMARY:Burger & Brew
DESCRIPTION:1/2 lb. Burger\, Fries and Cold Pint or Fountain Pop for $9
URL:https://theeofficepub.com/event/burger-brew/2024-11-05/
LOCATION:Thee Office Pub\, 128 South Main Street\, Romeo\, MI\, 48065\, United States
GEO:42.801722;-83.013685
X-APPLE-STRUCTURED-LOCATION;VALUE=URI;X-ADDRESS=Thee Office Pub 128 South Main Street Romeo MI 48065 United States;X-APPLE-RADIUS=500;X-TITLE=128 South Main Street:geo:-83.013685,42.801722
END:VEVENT
BEGIN:VEVENT
DTSTART;VALUE=DATE:20241106
DTEND;VALUE=DATE:20241107
DTSTAMP:20260422T044128
CREATED:20150419T232204Z
LAST-MODIFIED:20150419T232204Z
UID:9715-1730851200-1730937599@theeofficepub.com
SUMMARY:1/2 Off Pizza
DESCRIPTION:1/2 off any small or large pizza (specialty pizzas not included)
URL:https://theeofficepub.com/event/2-for-1-pizza/2024-11-06/
LOCATION:Thee Office Pub\, 128 South Main Street\, Romeo\, MI\, 48065\, United States
GEO:42.801722;-83.013685
X-APPLE-STRUCTURED-LOCATION;VALUE=URI;X-ADDRESS=Thee Office Pub 128 South Main Street Romeo MI 48065 United States;X-APPLE-RADIUS=500;X-TITLE=128 South Main Street:geo:-83.013685,42.801722
END:VEVENT
BEGIN:VEVENT
DTSTART;VALUE=DATE:20241110
DTEND;VALUE=DATE:20241111
DTSTAMP:20260422T044128
CREATED:20150419T232802Z
LAST-MODIFIED:20150419T232802Z
UID:9716-1731196800-1731283199@theeofficepub.com
SUMMARY:Sunday Funday
DESCRIPTION:$2 – Pints of Pabst Draft\n1/2 OFF Appetizer with purchase of meal
URL:https://theeofficepub.com/event/sunday-funday/2024-11-10/
LOCATION:Thee Office Pub\, 128 South Main Street\, Romeo\, MI\, 48065\, United States
GEO:42.801722;-83.013685
X-APPLE-STRUCTURED-LOCATION;VALUE=URI;X-ADDRESS=Thee Office Pub 128 South Main Street Romeo MI 48065 United States;X-APPLE-RADIUS=500;X-TITLE=128 South Main Street:geo:-83.013685,42.801722
END:VEVENT
BEGIN:VEVENT
DTSTART;VALUE=DATE:20241111
DTEND;VALUE=DATE:20241112
DTSTAMP:20260422T044128
CREATED:20210225T025407Z
LAST-MODIFIED:20210225T025407Z
UID:9717-1731283200-1731369599@theeofficepub.com
SUMMARY:Kids Eat Free!
DESCRIPTION:Free kids meal with the purchase of an adult meal\, 12 and under.
URL:https://theeofficepub.com/event/kids-eat-free/2024-11-11/
LOCATION:Thee Office Pub\, 128 South Main Street\, Romeo\, MI\, 48065\, United States
GEO:42.801722;-83.013685
X-APPLE-STRUCTURED-LOCATION;VALUE=URI;X-ADDRESS=Thee Office Pub 128 South Main Street Romeo MI 48065 United States;X-APPLE-RADIUS=500;X-TITLE=128 South Main Street:geo:-83.013685,42.801722
END:VEVENT
BEGIN:VEVENT
DTSTART;VALUE=DATE:20241112
DTEND;VALUE=DATE:20241113
DTSTAMP:20260422T044128
CREATED:20150419T232045Z
LAST-MODIFIED:20150419T232045Z
UID:9718-1731369600-1731455999@theeofficepub.com
SUMMARY:Burger & Brew
DESCRIPTION:1/2 lb. Burger\, Fries and Cold Pint or Fountain Pop for $9
URL:https://theeofficepub.com/event/burger-brew/2024-11-12/
LOCATION:Thee Office Pub\, 128 South Main Street\, Romeo\, MI\, 48065\, United States
GEO:42.801722;-83.013685
X-APPLE-STRUCTURED-LOCATION;VALUE=URI;X-ADDRESS=Thee Office Pub 128 South Main Street Romeo MI 48065 United States;X-APPLE-RADIUS=500;X-TITLE=128 South Main Street:geo:-83.013685,42.801722
END:VEVENT
BEGIN:VEVENT
DTSTART;VALUE=DATE:20241113
DTEND;VALUE=DATE:20241114
DTSTAMP:20260422T044128
CREATED:20150419T232204Z
LAST-MODIFIED:20150419T232204Z
UID:9719-1731456000-1731542399@theeofficepub.com
SUMMARY:1/2 Off Pizza
DESCRIPTION:1/2 off any small or large pizza (specialty pizzas not included)
URL:https://theeofficepub.com/event/2-for-1-pizza/2024-11-13/
LOCATION:Thee Office Pub\, 128 South Main Street\, Romeo\, MI\, 48065\, United States
GEO:42.801722;-83.013685
X-APPLE-STRUCTURED-LOCATION;VALUE=URI;X-ADDRESS=Thee Office Pub 128 South Main Street Romeo MI 48065 United States;X-APPLE-RADIUS=500;X-TITLE=128 South Main Street:geo:-83.013685,42.801722
END:VEVENT
BEGIN:VEVENT
DTSTART;VALUE=DATE:20241117
DTEND;VALUE=DATE:20241118
DTSTAMP:20260422T044128
CREATED:20150419T232802Z
LAST-MODIFIED:20150419T232802Z
UID:9722-1731801600-1731887999@theeofficepub.com
SUMMARY:Sunday Funday
DESCRIPTION:$2 – Pints of Pabst Draft\n1/2 OFF Appetizer with purchase of meal
URL:https://theeofficepub.com/event/sunday-funday/2024-11-17/
LOCATION:Thee Office Pub\, 128 South Main Street\, Romeo\, MI\, 48065\, United States
GEO:42.801722;-83.013685
X-APPLE-STRUCTURED-LOCATION;VALUE=URI;X-ADDRESS=Thee Office Pub 128 South Main Street Romeo MI 48065 United States;X-APPLE-RADIUS=500;X-TITLE=128 South Main Street:geo:-83.013685,42.801722
END:VEVENT
BEGIN:VEVENT
DTSTART;VALUE=DATE:20241118
DTEND;VALUE=DATE:20241119
DTSTAMP:20260422T044128
CREATED:20210225T025407Z
LAST-MODIFIED:20210225T025407Z
UID:9723-1731888000-1731974399@theeofficepub.com
SUMMARY:Kids Eat Free!
DESCRIPTION:Free kids meal with the purchase of an adult meal\, 12 and under.
URL:https://theeofficepub.com/event/kids-eat-free/2024-11-18/
LOCATION:Thee Office Pub\, 128 South Main Street\, Romeo\, MI\, 48065\, United States
GEO:42.801722;-83.013685
X-APPLE-STRUCTURED-LOCATION;VALUE=URI;X-ADDRESS=Thee Office Pub 128 South Main Street Romeo MI 48065 United States;X-APPLE-RADIUS=500;X-TITLE=128 South Main Street:geo:-83.013685,42.801722
END:VEVENT
BEGIN:VEVENT
DTSTART;VALUE=DATE:20241119
DTEND;VALUE=DATE:20241120
DTSTAMP:20260422T044128
CREATED:20150419T232045Z
LAST-MODIFIED:20150419T232045Z
UID:9724-1731974400-1732060799@theeofficepub.com
SUMMARY:Burger & Brew
DESCRIPTION:1/2 lb. Burger\, Fries and Cold Pint or Fountain Pop for $9
URL:https://theeofficepub.com/event/burger-brew/2024-11-19/
LOCATION:Thee Office Pub\, 128 South Main Street\, Romeo\, MI\, 48065\, United States
GEO:42.801722;-83.013685
X-APPLE-STRUCTURED-LOCATION;VALUE=URI;X-ADDRESS=Thee Office Pub 128 South Main Street Romeo MI 48065 United States;X-APPLE-RADIUS=500;X-TITLE=128 South Main Street:geo:-83.013685,42.801722
END:VEVENT
BEGIN:VEVENT
DTSTART;VALUE=DATE:20241120
DTEND;VALUE=DATE:20241121
DTSTAMP:20260422T044128
CREATED:20150419T232204Z
LAST-MODIFIED:20150419T232204Z
UID:9725-1732060800-1732147199@theeofficepub.com
SUMMARY:1/2 Off Pizza
DESCRIPTION:1/2 off any small or large pizza (specialty pizzas not included)
URL:https://theeofficepub.com/event/2-for-1-pizza/2024-11-20/
LOCATION:Thee Office Pub\, 128 South Main Street\, Romeo\, MI\, 48065\, United States
GEO:42.801722;-83.013685
X-APPLE-STRUCTURED-LOCATION;VALUE=URI;X-ADDRESS=Thee Office Pub 128 South Main Street Romeo MI 48065 United States;X-APPLE-RADIUS=500;X-TITLE=128 South Main Street:geo:-83.013685,42.801722
END:VEVENT
BEGIN:VEVENT
DTSTART;VALUE=DATE:20241124
DTEND;VALUE=DATE:20241125
DTSTAMP:20260422T044128
CREATED:20150419T232802Z
LAST-MODIFIED:20150419T232802Z
UID:9726-1732406400-1732492799@theeofficepub.com
SUMMARY:Sunday Funday
DESCRIPTION:$2 – Pints of Pabst Draft\n1/2 OFF Appetizer with purchase of meal
URL:https://theeofficepub.com/event/sunday-funday/2024-11-24/
LOCATION:Thee Office Pub\, 128 South Main Street\, Romeo\, MI\, 48065\, United States
GEO:42.801722;-83.013685
X-APPLE-STRUCTURED-LOCATION;VALUE=URI;X-ADDRESS=Thee Office Pub 128 South Main Street Romeo MI 48065 United States;X-APPLE-RADIUS=500;X-TITLE=128 South Main Street:geo:-83.013685,42.801722
END:VEVENT
BEGIN:VEVENT
DTSTART;VALUE=DATE:20241125
DTEND;VALUE=DATE:20241126
DTSTAMP:20260422T044128
CREATED:20210225T025407Z
LAST-MODIFIED:20210225T025407Z
UID:9727-1732492800-1732579199@theeofficepub.com
SUMMARY:Kids Eat Free!
DESCRIPTION:Free kids meal with the purchase of an adult meal\, 12 and under.
URL:https://theeofficepub.com/event/kids-eat-free/2024-11-25/
LOCATION:Thee Office Pub\, 128 South Main Street\, Romeo\, MI\, 48065\, United States
GEO:42.801722;-83.013685
X-APPLE-STRUCTURED-LOCATION;VALUE=URI;X-ADDRESS=Thee Office Pub 128 South Main Street Romeo MI 48065 United States;X-APPLE-RADIUS=500;X-TITLE=128 South Main Street:geo:-83.013685,42.801722
END:VEVENT
BEGIN:VEVENT
DTSTART;VALUE=DATE:20241126
DTEND;VALUE=DATE:20241127
DTSTAMP:20260422T044128
CREATED:20150419T232045Z
LAST-MODIFIED:20150419T232045Z
UID:9728-1732579200-1732665599@theeofficepub.com
SUMMARY:Burger & Brew
DESCRIPTION:1/2 lb. Burger\, Fries and Cold Pint or Fountain Pop for $9
URL:https://theeofficepub.com/event/burger-brew/2024-11-26/
LOCATION:Thee Office Pub\, 128 South Main Street\, Romeo\, MI\, 48065\, United States
GEO:42.801722;-83.013685
X-APPLE-STRUCTURED-LOCATION;VALUE=URI;X-ADDRESS=Thee Office Pub 128 South Main Street Romeo MI 48065 United States;X-APPLE-RADIUS=500;X-TITLE=128 South Main Street:geo:-83.013685,42.801722
END:VEVENT
BEGIN:VEVENT
DTSTART;VALUE=DATE:20241127
DTEND;VALUE=DATE:20241128
DTSTAMP:20260422T044128
CREATED:20150419T232204Z
LAST-MODIFIED:20150419T232204Z
UID:9729-1732665600-1732751999@theeofficepub.com
SUMMARY:1/2 Off Pizza
DESCRIPTION:1/2 off any small or large pizza (specialty pizzas not included)
URL:https://theeofficepub.com/event/2-for-1-pizza/2024-11-27/
LOCATION:Thee Office Pub\, 128 South Main Street\, Romeo\, MI\, 48065\, United States
GEO:42.801722;-83.013685
X-APPLE-STRUCTURED-LOCATION;VALUE=URI;X-ADDRESS=Thee Office Pub 128 South Main Street Romeo MI 48065 United States;X-APPLE-RADIUS=500;X-TITLE=128 South Main Street:geo:-83.013685,42.801722
END:VEVENT
END:VCALENDAR