BEGIN:VCALENDAR
VERSION:2.0
PRODID:-//Thee Office Pub - ECPv6.7.1//NONSGML v1.0//EN
CALSCALE:GREGORIAN
METHOD:PUBLISH
X-WR-CALNAME:Thee Office Pub
X-ORIGINAL-URL:https://theeofficepub.com
X-WR-CALDESC:Events for Thee Office Pub
REFRESH-INTERVAL;VALUE=DURATION:PT1H
X-Robots-Tag:noindex
X-PUBLISHED-TTL:PT1H
BEGIN:VTIMEZONE
TZID:America/Detroit
BEGIN:DAYLIGHT
TZOFFSETFROM:-0500
TZOFFSETTO:-0400
TZNAME:EDT
DTSTART:20250309T070000
END:DAYLIGHT
BEGIN:STANDARD
TZOFFSETFROM:-0400
TZOFFSETTO:-0500
TZNAME:EST
DTSTART:20251102T060000
END:STANDARD
END:VTIMEZONE
BEGIN:VEVENT
DTSTART;VALUE=DATE:20250701
DTEND;VALUE=DATE:20250702
DTSTAMP:20260423T055524
CREATED:20150419T232045Z
LAST-MODIFIED:20150419T232045Z
UID:9881-1751328000-1751414399@theeofficepub.com
SUMMARY:Burger & Brew
DESCRIPTION:1/2 lb. Burger\, Fries and Cold Pint or Fountain Pop for $9
URL:https://theeofficepub.com/event/burger-brew/2025-07-01/
LOCATION:Thee Office Pub\, 128 South Main Street\, Romeo\, MI\, 48065\, United States
GEO:42.801722;-83.013685
X-APPLE-STRUCTURED-LOCATION;VALUE=URI;X-ADDRESS=Thee Office Pub 128 South Main Street Romeo MI 48065 United States;X-APPLE-RADIUS=500;X-TITLE=128 South Main Street:geo:-83.013685,42.801722
END:VEVENT
BEGIN:VEVENT
DTSTART;VALUE=DATE:20250702
DTEND;VALUE=DATE:20250703
DTSTAMP:20260423T055524
CREATED:20150419T232204Z
LAST-MODIFIED:20150419T232204Z
UID:9882-1751414400-1751500799@theeofficepub.com
SUMMARY:1/2 Off Pizza
DESCRIPTION:1/2 off any small or large pizza (specialty pizzas not included)
URL:https://theeofficepub.com/event/2-for-1-pizza/2025-07-02/
LOCATION:Thee Office Pub\, 128 South Main Street\, Romeo\, MI\, 48065\, United States
GEO:42.801722;-83.013685
X-APPLE-STRUCTURED-LOCATION;VALUE=URI;X-ADDRESS=Thee Office Pub 128 South Main Street Romeo MI 48065 United States;X-APPLE-RADIUS=500;X-TITLE=128 South Main Street:geo:-83.013685,42.801722
END:VEVENT
BEGIN:VEVENT
DTSTART;VALUE=DATE:20250706
DTEND;VALUE=DATE:20250707
DTSTAMP:20260423T055524
CREATED:20150419T232802Z
LAST-MODIFIED:20150419T232802Z
UID:9883-1751760000-1751846399@theeofficepub.com
SUMMARY:Sunday Funday
DESCRIPTION:$2 – Pints of Pabst Draft\n1/2 OFF Appetizer with purchase of meal
URL:https://theeofficepub.com/event/sunday-funday/2025-07-06/
LOCATION:Thee Office Pub\, 128 South Main Street\, Romeo\, MI\, 48065\, United States
GEO:42.801722;-83.013685
X-APPLE-STRUCTURED-LOCATION;VALUE=URI;X-ADDRESS=Thee Office Pub 128 South Main Street Romeo MI 48065 United States;X-APPLE-RADIUS=500;X-TITLE=128 South Main Street:geo:-83.013685,42.801722
END:VEVENT
BEGIN:VEVENT
DTSTART;VALUE=DATE:20250707
DTEND;VALUE=DATE:20250708
DTSTAMP:20260423T055524
CREATED:20210225T025407Z
LAST-MODIFIED:20210225T025407Z
UID:9884-1751846400-1751932799@theeofficepub.com
SUMMARY:Kids Eat Free!
DESCRIPTION:Free kids meal with the purchase of an adult meal\, 12 and under.
URL:https://theeofficepub.com/event/kids-eat-free/2025-07-07/
LOCATION:Thee Office Pub\, 128 South Main Street\, Romeo\, MI\, 48065\, United States
GEO:42.801722;-83.013685
X-APPLE-STRUCTURED-LOCATION;VALUE=URI;X-ADDRESS=Thee Office Pub 128 South Main Street Romeo MI 48065 United States;X-APPLE-RADIUS=500;X-TITLE=128 South Main Street:geo:-83.013685,42.801722
END:VEVENT
BEGIN:VEVENT
DTSTART;VALUE=DATE:20250708
DTEND;VALUE=DATE:20250709
DTSTAMP:20260423T055524
CREATED:20150419T232045Z
LAST-MODIFIED:20150419T232045Z
UID:9885-1751932800-1752019199@theeofficepub.com
SUMMARY:Burger & Brew
DESCRIPTION:1/2 lb. Burger\, Fries and Cold Pint or Fountain Pop for $9
URL:https://theeofficepub.com/event/burger-brew/2025-07-08/
LOCATION:Thee Office Pub\, 128 South Main Street\, Romeo\, MI\, 48065\, United States
GEO:42.801722;-83.013685
X-APPLE-STRUCTURED-LOCATION;VALUE=URI;X-ADDRESS=Thee Office Pub 128 South Main Street Romeo MI 48065 United States;X-APPLE-RADIUS=500;X-TITLE=128 South Main Street:geo:-83.013685,42.801722
END:VEVENT
BEGIN:VEVENT
DTSTART;VALUE=DATE:20250709
DTEND;VALUE=DATE:20250710
DTSTAMP:20260423T055524
CREATED:20150419T232204Z
LAST-MODIFIED:20150419T232204Z
UID:9886-1752019200-1752105599@theeofficepub.com
SUMMARY:1/2 Off Pizza
DESCRIPTION:1/2 off any small or large pizza (specialty pizzas not included)
URL:https://theeofficepub.com/event/2-for-1-pizza/2025-07-09/
LOCATION:Thee Office Pub\, 128 South Main Street\, Romeo\, MI\, 48065\, United States
GEO:42.801722;-83.013685
X-APPLE-STRUCTURED-LOCATION;VALUE=URI;X-ADDRESS=Thee Office Pub 128 South Main Street Romeo MI 48065 United States;X-APPLE-RADIUS=500;X-TITLE=128 South Main Street:geo:-83.013685,42.801722
END:VEVENT
BEGIN:VEVENT
DTSTART;VALUE=DATE:20250713
DTEND;VALUE=DATE:20250714
DTSTAMP:20260423T055524
CREATED:20150419T232802Z
LAST-MODIFIED:20150419T232802Z
UID:9887-1752364800-1752451199@theeofficepub.com
SUMMARY:Sunday Funday
DESCRIPTION:$2 – Pints of Pabst Draft\n1/2 OFF Appetizer with purchase of meal
URL:https://theeofficepub.com/event/sunday-funday/2025-07-13/
LOCATION:Thee Office Pub\, 128 South Main Street\, Romeo\, MI\, 48065\, United States
GEO:42.801722;-83.013685
X-APPLE-STRUCTURED-LOCATION;VALUE=URI;X-ADDRESS=Thee Office Pub 128 South Main Street Romeo MI 48065 United States;X-APPLE-RADIUS=500;X-TITLE=128 South Main Street:geo:-83.013685,42.801722
END:VEVENT
BEGIN:VEVENT
DTSTART;VALUE=DATE:20250714
DTEND;VALUE=DATE:20250715
DTSTAMP:20260423T055524
CREATED:20210225T025407Z
LAST-MODIFIED:20210225T025407Z
UID:9888-1752451200-1752537599@theeofficepub.com
SUMMARY:Kids Eat Free!
DESCRIPTION:Free kids meal with the purchase of an adult meal\, 12 and under.
URL:https://theeofficepub.com/event/kids-eat-free/2025-07-14/
LOCATION:Thee Office Pub\, 128 South Main Street\, Romeo\, MI\, 48065\, United States
GEO:42.801722;-83.013685
X-APPLE-STRUCTURED-LOCATION;VALUE=URI;X-ADDRESS=Thee Office Pub 128 South Main Street Romeo MI 48065 United States;X-APPLE-RADIUS=500;X-TITLE=128 South Main Street:geo:-83.013685,42.801722
END:VEVENT
BEGIN:VEVENT
DTSTART;VALUE=DATE:20250715
DTEND;VALUE=DATE:20250716
DTSTAMP:20260423T055524
CREATED:20150419T232045Z
LAST-MODIFIED:20150419T232045Z
UID:9889-1752537600-1752623999@theeofficepub.com
SUMMARY:Burger & Brew
DESCRIPTION:1/2 lb. Burger\, Fries and Cold Pint or Fountain Pop for $9
URL:https://theeofficepub.com/event/burger-brew/2025-07-15/
LOCATION:Thee Office Pub\, 128 South Main Street\, Romeo\, MI\, 48065\, United States
GEO:42.801722;-83.013685
X-APPLE-STRUCTURED-LOCATION;VALUE=URI;X-ADDRESS=Thee Office Pub 128 South Main Street Romeo MI 48065 United States;X-APPLE-RADIUS=500;X-TITLE=128 South Main Street:geo:-83.013685,42.801722
END:VEVENT
BEGIN:VEVENT
DTSTART;VALUE=DATE:20250716
DTEND;VALUE=DATE:20250717
DTSTAMP:20260423T055524
CREATED:20150419T232204Z
LAST-MODIFIED:20150419T232204Z
UID:9890-1752624000-1752710399@theeofficepub.com
SUMMARY:1/2 Off Pizza
DESCRIPTION:1/2 off any small or large pizza (specialty pizzas not included)
URL:https://theeofficepub.com/event/2-for-1-pizza/2025-07-16/
LOCATION:Thee Office Pub\, 128 South Main Street\, Romeo\, MI\, 48065\, United States
GEO:42.801722;-83.013685
X-APPLE-STRUCTURED-LOCATION;VALUE=URI;X-ADDRESS=Thee Office Pub 128 South Main Street Romeo MI 48065 United States;X-APPLE-RADIUS=500;X-TITLE=128 South Main Street:geo:-83.013685,42.801722
END:VEVENT
BEGIN:VEVENT
DTSTART;VALUE=DATE:20250720
DTEND;VALUE=DATE:20250721
DTSTAMP:20260423T055524
CREATED:20150419T232802Z
LAST-MODIFIED:20150419T232802Z
UID:9892-1752969600-1753055999@theeofficepub.com
SUMMARY:Sunday Funday
DESCRIPTION:$2 – Pints of Pabst Draft\n1/2 OFF Appetizer with purchase of meal
URL:https://theeofficepub.com/event/sunday-funday/2025-07-20/
LOCATION:Thee Office Pub\, 128 South Main Street\, Romeo\, MI\, 48065\, United States
GEO:42.801722;-83.013685
X-APPLE-STRUCTURED-LOCATION;VALUE=URI;X-ADDRESS=Thee Office Pub 128 South Main Street Romeo MI 48065 United States;X-APPLE-RADIUS=500;X-TITLE=128 South Main Street:geo:-83.013685,42.801722
END:VEVENT
BEGIN:VEVENT
DTSTART;VALUE=DATE:20250721
DTEND;VALUE=DATE:20250722
DTSTAMP:20260423T055524
CREATED:20210225T025407Z
LAST-MODIFIED:20210225T025407Z
UID:9893-1753056000-1753142399@theeofficepub.com
SUMMARY:Kids Eat Free!
DESCRIPTION:Free kids meal with the purchase of an adult meal\, 12 and under.
URL:https://theeofficepub.com/event/kids-eat-free/2025-07-21/
LOCATION:Thee Office Pub\, 128 South Main Street\, Romeo\, MI\, 48065\, United States
GEO:42.801722;-83.013685
X-APPLE-STRUCTURED-LOCATION;VALUE=URI;X-ADDRESS=Thee Office Pub 128 South Main Street Romeo MI 48065 United States;X-APPLE-RADIUS=500;X-TITLE=128 South Main Street:geo:-83.013685,42.801722
END:VEVENT
BEGIN:VEVENT
DTSTART;VALUE=DATE:20250722
DTEND;VALUE=DATE:20250723
DTSTAMP:20260423T055524
CREATED:20150419T232045Z
LAST-MODIFIED:20150419T232045Z
UID:9894-1753142400-1753228799@theeofficepub.com
SUMMARY:Burger & Brew
DESCRIPTION:1/2 lb. Burger\, Fries and Cold Pint or Fountain Pop for $9
URL:https://theeofficepub.com/event/burger-brew/2025-07-22/
LOCATION:Thee Office Pub\, 128 South Main Street\, Romeo\, MI\, 48065\, United States
GEO:42.801722;-83.013685
X-APPLE-STRUCTURED-LOCATION;VALUE=URI;X-ADDRESS=Thee Office Pub 128 South Main Street Romeo MI 48065 United States;X-APPLE-RADIUS=500;X-TITLE=128 South Main Street:geo:-83.013685,42.801722
END:VEVENT
BEGIN:VEVENT
DTSTART;VALUE=DATE:20250723
DTEND;VALUE=DATE:20250724
DTSTAMP:20260423T055524
CREATED:20150419T232204Z
LAST-MODIFIED:20150419T232204Z
UID:9895-1753228800-1753315199@theeofficepub.com
SUMMARY:1/2 Off Pizza
DESCRIPTION:1/2 off any small or large pizza (specialty pizzas not included)
URL:https://theeofficepub.com/event/2-for-1-pizza/2025-07-23/
LOCATION:Thee Office Pub\, 128 South Main Street\, Romeo\, MI\, 48065\, United States
GEO:42.801722;-83.013685
X-APPLE-STRUCTURED-LOCATION;VALUE=URI;X-ADDRESS=Thee Office Pub 128 South Main Street Romeo MI 48065 United States;X-APPLE-RADIUS=500;X-TITLE=128 South Main Street:geo:-83.013685,42.801722
END:VEVENT
BEGIN:VEVENT
DTSTART;VALUE=DATE:20250727
DTEND;VALUE=DATE:20250728
DTSTAMP:20260423T055524
CREATED:20150419T232802Z
LAST-MODIFIED:20150419T232802Z
UID:9908-1753574400-1753660799@theeofficepub.com
SUMMARY:Sunday Funday
DESCRIPTION:$2 – Pints of Pabst Draft\n1/2 OFF Appetizer with purchase of meal
URL:https://theeofficepub.com/event/sunday-funday/2025-07-27/
LOCATION:Thee Office Pub\, 128 South Main Street\, Romeo\, MI\, 48065\, United States
GEO:42.801722;-83.013685
X-APPLE-STRUCTURED-LOCATION;VALUE=URI;X-ADDRESS=Thee Office Pub 128 South Main Street Romeo MI 48065 United States;X-APPLE-RADIUS=500;X-TITLE=128 South Main Street:geo:-83.013685,42.801722
END:VEVENT
BEGIN:VEVENT
DTSTART;VALUE=DATE:20250728
DTEND;VALUE=DATE:20250729
DTSTAMP:20260423T055524
CREATED:20210225T025407Z
LAST-MODIFIED:20210225T025407Z
UID:9909-1753660800-1753747199@theeofficepub.com
SUMMARY:Kids Eat Free!
DESCRIPTION:Free kids meal with the purchase of an adult meal\, 12 and under.
URL:https://theeofficepub.com/event/kids-eat-free/2025-07-28/
LOCATION:Thee Office Pub\, 128 South Main Street\, Romeo\, MI\, 48065\, United States
GEO:42.801722;-83.013685
X-APPLE-STRUCTURED-LOCATION;VALUE=URI;X-ADDRESS=Thee Office Pub 128 South Main Street Romeo MI 48065 United States;X-APPLE-RADIUS=500;X-TITLE=128 South Main Street:geo:-83.013685,42.801722
END:VEVENT
BEGIN:VEVENT
DTSTART;VALUE=DATE:20250729
DTEND;VALUE=DATE:20250730
DTSTAMP:20260423T055524
CREATED:20150419T232045Z
LAST-MODIFIED:20150419T232045Z
UID:9913-1753747200-1753833599@theeofficepub.com
SUMMARY:Burger & Brew
DESCRIPTION:1/2 lb. Burger\, Fries and Cold Pint or Fountain Pop for $9
URL:https://theeofficepub.com/event/burger-brew/2025-07-29/
LOCATION:Thee Office Pub\, 128 South Main Street\, Romeo\, MI\, 48065\, United States
GEO:42.801722;-83.013685
X-APPLE-STRUCTURED-LOCATION;VALUE=URI;X-ADDRESS=Thee Office Pub 128 South Main Street Romeo MI 48065 United States;X-APPLE-RADIUS=500;X-TITLE=128 South Main Street:geo:-83.013685,42.801722
END:VEVENT
BEGIN:VEVENT
DTSTART;VALUE=DATE:20250730
DTEND;VALUE=DATE:20250731
DTSTAMP:20260423T055524
CREATED:20150419T232204Z
LAST-MODIFIED:20150419T232204Z
UID:9914-1753833600-1753919999@theeofficepub.com
SUMMARY:1/2 Off Pizza
DESCRIPTION:1/2 off any small or large pizza (specialty pizzas not included)
URL:https://theeofficepub.com/event/2-for-1-pizza/2025-07-30/
LOCATION:Thee Office Pub\, 128 South Main Street\, Romeo\, MI\, 48065\, United States
GEO:42.801722;-83.013685
X-APPLE-STRUCTURED-LOCATION;VALUE=URI;X-ADDRESS=Thee Office Pub 128 South Main Street Romeo MI 48065 United States;X-APPLE-RADIUS=500;X-TITLE=128 South Main Street:geo:-83.013685,42.801722
END:VEVENT
END:VCALENDAR