BEGIN:VCALENDAR
VERSION:2.0
PRODID:-//Thee Office Pub - ECPv6.7.1//NONSGML v1.0//EN
CALSCALE:GREGORIAN
METHOD:PUBLISH
X-ORIGINAL-URL:https://theeofficepub.com
X-WR-CALDESC:Events for Thee Office Pub
REFRESH-INTERVAL;VALUE=DURATION:PT1H
X-Robots-Tag:noindex
X-PUBLISHED-TTL:PT1H
BEGIN:VTIMEZONE
TZID:America/Detroit
BEGIN:DAYLIGHT
TZOFFSETFROM:-0500
TZOFFSETTO:-0400
TZNAME:EDT
DTSTART:20260308T070000
END:DAYLIGHT
BEGIN:STANDARD
TZOFFSETFROM:-0400
TZOFFSETTO:-0500
TZNAME:EST
DTSTART:20261101T060000
END:STANDARD
END:VTIMEZONE
BEGIN:VEVENT
DTSTART;VALUE=DATE:20260503
DTEND;VALUE=DATE:20260504
DTSTAMP:20260421T072951
CREATED:20150419T232802Z
LAST-MODIFIED:20150419T232802Z
UID:9994-1777766400-1777852799@theeofficepub.com
SUMMARY:Sunday Funday
DESCRIPTION:$2 – Pints of Pabst Draft\n1/2 OFF Appetizer with purchase of meal
URL:https://theeofficepub.com/event/sunday-funday/2026-05-03/
LOCATION:Thee Office Pub\, 128 South Main Street\, Romeo\, MI\, 48065\, United States
GEO:42.801722;-83.013685
X-APPLE-STRUCTURED-LOCATION;VALUE=URI;X-ADDRESS=Thee Office Pub 128 South Main Street Romeo MI 48065 United States;X-APPLE-RADIUS=500;X-TITLE=128 South Main Street:geo:-83.013685,42.801722
END:VEVENT
BEGIN:VEVENT
DTSTART;VALUE=DATE:20260504
DTEND;VALUE=DATE:20260505
DTSTAMP:20260421T072951
CREATED:20210225T025407Z
LAST-MODIFIED:20210225T025407Z
UID:10046-1777852800-1777939199@theeofficepub.com
SUMMARY:Kids Eat Free!
DESCRIPTION:Free kids meal with the purchase of an adult meal\, 12 and under.
URL:https://theeofficepub.com/event/kids-eat-free/2026-05-04/
LOCATION:Thee Office Pub\, 128 South Main Street\, Romeo\, MI\, 48065\, United States
GEO:42.801722;-83.013685
X-APPLE-STRUCTURED-LOCATION;VALUE=URI;X-ADDRESS=Thee Office Pub 128 South Main Street Romeo MI 48065 United States;X-APPLE-RADIUS=500;X-TITLE=128 South Main Street:geo:-83.013685,42.801722
END:VEVENT
BEGIN:VEVENT
DTSTART;VALUE=DATE:20260505
DTEND;VALUE=DATE:20260506
DTSTAMP:20260421T072951
CREATED:20150419T232045Z
LAST-MODIFIED:20150419T232045Z
UID:10098-1777939200-1778025599@theeofficepub.com
SUMMARY:Burger & Brew
DESCRIPTION:1/2 lb. Burger\, Fries and Cold Pint or Fountain Pop for $9
URL:https://theeofficepub.com/event/burger-brew/2026-05-05/
LOCATION:Thee Office Pub\, 128 South Main Street\, Romeo\, MI\, 48065\, United States
GEO:42.801722;-83.013685
X-APPLE-STRUCTURED-LOCATION;VALUE=URI;X-ADDRESS=Thee Office Pub 128 South Main Street Romeo MI 48065 United States;X-APPLE-RADIUS=500;X-TITLE=128 South Main Street:geo:-83.013685,42.801722
END:VEVENT
BEGIN:VEVENT
DTSTART;VALUE=DATE:20260506
DTEND;VALUE=DATE:20260507
DTSTAMP:20260421T072951
CREATED:20150419T232204Z
LAST-MODIFIED:20150419T232204Z
UID:10149-1778025600-1778111999@theeofficepub.com
SUMMARY:1/2 Off Pizza
DESCRIPTION:1/2 off any small or large pizza (specialty pizzas not included)
URL:https://theeofficepub.com/event/2-for-1-pizza/2026-05-06/
LOCATION:Thee Office Pub\, 128 South Main Street\, Romeo\, MI\, 48065\, United States
GEO:42.801722;-83.013685
X-APPLE-STRUCTURED-LOCATION;VALUE=URI;X-ADDRESS=Thee Office Pub 128 South Main Street Romeo MI 48065 United States;X-APPLE-RADIUS=500;X-TITLE=128 South Main Street:geo:-83.013685,42.801722
END:VEVENT
BEGIN:VEVENT
DTSTART;VALUE=DATE:20260510
DTEND;VALUE=DATE:20260511
DTSTAMP:20260421T072951
CREATED:20150419T232802Z
LAST-MODIFIED:20150419T232802Z
UID:9995-1778371200-1778457599@theeofficepub.com
SUMMARY:Sunday Funday
DESCRIPTION:$2 – Pints of Pabst Draft\n1/2 OFF Appetizer with purchase of meal
URL:https://theeofficepub.com/event/sunday-funday/2026-05-10/
LOCATION:Thee Office Pub\, 128 South Main Street\, Romeo\, MI\, 48065\, United States
GEO:42.801722;-83.013685
X-APPLE-STRUCTURED-LOCATION;VALUE=URI;X-ADDRESS=Thee Office Pub 128 South Main Street Romeo MI 48065 United States;X-APPLE-RADIUS=500;X-TITLE=128 South Main Street:geo:-83.013685,42.801722
END:VEVENT
BEGIN:VEVENT
DTSTART;VALUE=DATE:20260511
DTEND;VALUE=DATE:20260512
DTSTAMP:20260421T072951
CREATED:20210225T025407Z
LAST-MODIFIED:20210225T025407Z
UID:10047-1778457600-1778543999@theeofficepub.com
SUMMARY:Kids Eat Free!
DESCRIPTION:Free kids meal with the purchase of an adult meal\, 12 and under.
URL:https://theeofficepub.com/event/kids-eat-free/2026-05-11/
LOCATION:Thee Office Pub\, 128 South Main Street\, Romeo\, MI\, 48065\, United States
GEO:42.801722;-83.013685
X-APPLE-STRUCTURED-LOCATION;VALUE=URI;X-ADDRESS=Thee Office Pub 128 South Main Street Romeo MI 48065 United States;X-APPLE-RADIUS=500;X-TITLE=128 South Main Street:geo:-83.013685,42.801722
END:VEVENT
BEGIN:VEVENT
DTSTART;VALUE=DATE:20260512
DTEND;VALUE=DATE:20260513
DTSTAMP:20260421T072951
CREATED:20150419T232045Z
LAST-MODIFIED:20150419T232045Z
UID:10099-1778544000-1778630399@theeofficepub.com
SUMMARY:Burger & Brew
DESCRIPTION:1/2 lb. Burger\, Fries and Cold Pint or Fountain Pop for $9
URL:https://theeofficepub.com/event/burger-brew/2026-05-12/
LOCATION:Thee Office Pub\, 128 South Main Street\, Romeo\, MI\, 48065\, United States
GEO:42.801722;-83.013685
X-APPLE-STRUCTURED-LOCATION;VALUE=URI;X-ADDRESS=Thee Office Pub 128 South Main Street Romeo MI 48065 United States;X-APPLE-RADIUS=500;X-TITLE=128 South Main Street:geo:-83.013685,42.801722
END:VEVENT
BEGIN:VEVENT
DTSTART;VALUE=DATE:20260513
DTEND;VALUE=DATE:20260514
DTSTAMP:20260421T072951
CREATED:20150419T232204Z
LAST-MODIFIED:20150419T232204Z
UID:10150-1778630400-1778716799@theeofficepub.com
SUMMARY:1/2 Off Pizza
DESCRIPTION:1/2 off any small or large pizza (specialty pizzas not included)
URL:https://theeofficepub.com/event/2-for-1-pizza/2026-05-13/
LOCATION:Thee Office Pub\, 128 South Main Street\, Romeo\, MI\, 48065\, United States
GEO:42.801722;-83.013685
X-APPLE-STRUCTURED-LOCATION;VALUE=URI;X-ADDRESS=Thee Office Pub 128 South Main Street Romeo MI 48065 United States;X-APPLE-RADIUS=500;X-TITLE=128 South Main Street:geo:-83.013685,42.801722
END:VEVENT
BEGIN:VEVENT
DTSTART;VALUE=DATE:20260517
DTEND;VALUE=DATE:20260518
DTSTAMP:20260421T072951
CREATED:20150419T232802Z
LAST-MODIFIED:20150419T232802Z
UID:9996-1778976000-1779062399@theeofficepub.com
SUMMARY:Sunday Funday
DESCRIPTION:$2 – Pints of Pabst Draft\n1/2 OFF Appetizer with purchase of meal
URL:https://theeofficepub.com/event/sunday-funday/2026-05-17/
LOCATION:Thee Office Pub\, 128 South Main Street\, Romeo\, MI\, 48065\, United States
GEO:42.801722;-83.013685
X-APPLE-STRUCTURED-LOCATION;VALUE=URI;X-ADDRESS=Thee Office Pub 128 South Main Street Romeo MI 48065 United States;X-APPLE-RADIUS=500;X-TITLE=128 South Main Street:geo:-83.013685,42.801722
END:VEVENT
BEGIN:VEVENT
DTSTART;VALUE=DATE:20260518
DTEND;VALUE=DATE:20260519
DTSTAMP:20260421T072951
CREATED:20210225T025407Z
LAST-MODIFIED:20210225T025407Z
UID:10048-1779062400-1779148799@theeofficepub.com
SUMMARY:Kids Eat Free!
DESCRIPTION:Free kids meal with the purchase of an adult meal\, 12 and under.
URL:https://theeofficepub.com/event/kids-eat-free/2026-05-18/
LOCATION:Thee Office Pub\, 128 South Main Street\, Romeo\, MI\, 48065\, United States
GEO:42.801722;-83.013685
X-APPLE-STRUCTURED-LOCATION;VALUE=URI;X-ADDRESS=Thee Office Pub 128 South Main Street Romeo MI 48065 United States;X-APPLE-RADIUS=500;X-TITLE=128 South Main Street:geo:-83.013685,42.801722
END:VEVENT
BEGIN:VEVENT
DTSTART;VALUE=DATE:20260519
DTEND;VALUE=DATE:20260520
DTSTAMP:20260421T072951
CREATED:20150419T232045Z
LAST-MODIFIED:20150419T232045Z
UID:10100-1779148800-1779235199@theeofficepub.com
SUMMARY:Burger & Brew
DESCRIPTION:1/2 lb. Burger\, Fries and Cold Pint or Fountain Pop for $9
URL:https://theeofficepub.com/event/burger-brew/2026-05-19/
LOCATION:Thee Office Pub\, 128 South Main Street\, Romeo\, MI\, 48065\, United States
GEO:42.801722;-83.013685
X-APPLE-STRUCTURED-LOCATION;VALUE=URI;X-ADDRESS=Thee Office Pub 128 South Main Street Romeo MI 48065 United States;X-APPLE-RADIUS=500;X-TITLE=128 South Main Street:geo:-83.013685,42.801722
END:VEVENT
BEGIN:VEVENT
DTSTART;VALUE=DATE:20260520
DTEND;VALUE=DATE:20260521
DTSTAMP:20260421T072951
CREATED:20150419T232204Z
LAST-MODIFIED:20150419T232204Z
UID:10151-1779235200-1779321599@theeofficepub.com
SUMMARY:1/2 Off Pizza
DESCRIPTION:1/2 off any small or large pizza (specialty pizzas not included)
URL:https://theeofficepub.com/event/2-for-1-pizza/2026-05-20/
LOCATION:Thee Office Pub\, 128 South Main Street\, Romeo\, MI\, 48065\, United States
GEO:42.801722;-83.013685
X-APPLE-STRUCTURED-LOCATION;VALUE=URI;X-ADDRESS=Thee Office Pub 128 South Main Street Romeo MI 48065 United States;X-APPLE-RADIUS=500;X-TITLE=128 South Main Street:geo:-83.013685,42.801722
END:VEVENT
BEGIN:VEVENT
DTSTART;VALUE=DATE:20260524
DTEND;VALUE=DATE:20260525
DTSTAMP:20260421T072951
CREATED:20150419T232802Z
LAST-MODIFIED:20150419T232802Z
UID:9997-1779580800-1779667199@theeofficepub.com
SUMMARY:Sunday Funday
DESCRIPTION:$2 – Pints of Pabst Draft\n1/2 OFF Appetizer with purchase of meal
URL:https://theeofficepub.com/event/sunday-funday/2026-05-24/
LOCATION:Thee Office Pub\, 128 South Main Street\, Romeo\, MI\, 48065\, United States
GEO:42.801722;-83.013685
X-APPLE-STRUCTURED-LOCATION;VALUE=URI;X-ADDRESS=Thee Office Pub 128 South Main Street Romeo MI 48065 United States;X-APPLE-RADIUS=500;X-TITLE=128 South Main Street:geo:-83.013685,42.801722
END:VEVENT
BEGIN:VEVENT
DTSTART;VALUE=DATE:20260525
DTEND;VALUE=DATE:20260526
DTSTAMP:20260421T072951
CREATED:20210225T025407Z
LAST-MODIFIED:20210225T025407Z
UID:10049-1779667200-1779753599@theeofficepub.com
SUMMARY:Kids Eat Free!
DESCRIPTION:Free kids meal with the purchase of an adult meal\, 12 and under.
URL:https://theeofficepub.com/event/kids-eat-free/2026-05-25/
LOCATION:Thee Office Pub\, 128 South Main Street\, Romeo\, MI\, 48065\, United States
GEO:42.801722;-83.013685
X-APPLE-STRUCTURED-LOCATION;VALUE=URI;X-ADDRESS=Thee Office Pub 128 South Main Street Romeo MI 48065 United States;X-APPLE-RADIUS=500;X-TITLE=128 South Main Street:geo:-83.013685,42.801722
END:VEVENT
BEGIN:VEVENT
DTSTART;VALUE=DATE:20260526
DTEND;VALUE=DATE:20260527
DTSTAMP:20260421T072951
CREATED:20150419T232045Z
LAST-MODIFIED:20150419T232045Z
UID:10101-1779753600-1779839999@theeofficepub.com
SUMMARY:Burger & Brew
DESCRIPTION:1/2 lb. Burger\, Fries and Cold Pint or Fountain Pop for $9
URL:https://theeofficepub.com/event/burger-brew/2026-05-26/
LOCATION:Thee Office Pub\, 128 South Main Street\, Romeo\, MI\, 48065\, United States
GEO:42.801722;-83.013685
X-APPLE-STRUCTURED-LOCATION;VALUE=URI;X-ADDRESS=Thee Office Pub 128 South Main Street Romeo MI 48065 United States;X-APPLE-RADIUS=500;X-TITLE=128 South Main Street:geo:-83.013685,42.801722
END:VEVENT
BEGIN:VEVENT
DTSTART;VALUE=DATE:20260527
DTEND;VALUE=DATE:20260528
DTSTAMP:20260421T072951
CREATED:20150419T232204Z
LAST-MODIFIED:20150419T232204Z
UID:10152-1779840000-1779926399@theeofficepub.com
SUMMARY:1/2 Off Pizza
DESCRIPTION:1/2 off any small or large pizza (specialty pizzas not included)
URL:https://theeofficepub.com/event/2-for-1-pizza/2026-05-27/
LOCATION:Thee Office Pub\, 128 South Main Street\, Romeo\, MI\, 48065\, United States
GEO:42.801722;-83.013685
X-APPLE-STRUCTURED-LOCATION;VALUE=URI;X-ADDRESS=Thee Office Pub 128 South Main Street Romeo MI 48065 United States;X-APPLE-RADIUS=500;X-TITLE=128 South Main Street:geo:-83.013685,42.801722
END:VEVENT
BEGIN:VEVENT
DTSTART;VALUE=DATE:20260531
DTEND;VALUE=DATE:20260601
DTSTAMP:20260421T072951
CREATED:20150419T232802Z
LAST-MODIFIED:20150419T232802Z
UID:9998-1780185600-1780271999@theeofficepub.com
SUMMARY:Sunday Funday
DESCRIPTION:$2 – Pints of Pabst Draft\n1/2 OFF Appetizer with purchase of meal
URL:https://theeofficepub.com/event/sunday-funday/2026-05-31/
LOCATION:Thee Office Pub\, 128 South Main Street\, Romeo\, MI\, 48065\, United States
GEO:42.801722;-83.013685
X-APPLE-STRUCTURED-LOCATION;VALUE=URI;X-ADDRESS=Thee Office Pub 128 South Main Street Romeo MI 48065 United States;X-APPLE-RADIUS=500;X-TITLE=128 South Main Street:geo:-83.013685,42.801722
END:VEVENT
END:VCALENDAR