BEGIN:VCALENDAR
VERSION:2.0
PRODID:-//Thee Office Pub - ECPv6.7.1//NONSGML v1.0//EN
CALSCALE:GREGORIAN
METHOD:PUBLISH
X-WR-CALNAME:Thee Office Pub
X-ORIGINAL-URL:https://theeofficepub.com
X-WR-CALDESC:Events for Thee Office Pub
REFRESH-INTERVAL;VALUE=DURATION:PT1H
X-Robots-Tag:noindex
X-PUBLISHED-TTL:PT1H
BEGIN:VTIMEZONE
TZID:America/Detroit
BEGIN:DAYLIGHT
TZOFFSETFROM:-0500
TZOFFSETTO:-0400
TZNAME:EDT
DTSTART:20260308T070000
END:DAYLIGHT
BEGIN:STANDARD
TZOFFSETFROM:-0400
TZOFFSETTO:-0500
TZNAME:EST
DTSTART:20261101T060000
END:STANDARD
END:VTIMEZONE
BEGIN:VEVENT
DTSTART;VALUE=DATE:20260802
DTEND;VALUE=DATE:20260803
DTSTAMP:20260424T034932
CREATED:20150419T232802Z
LAST-MODIFIED:20150419T232802Z
UID:10007-1785628800-1785715199@theeofficepub.com
SUMMARY:Sunday Funday
DESCRIPTION:$2 – Pints of Pabst Draft\n1/2 OFF Appetizer with purchase of meal
URL:https://theeofficepub.com/event/sunday-funday/2026-08-02/
LOCATION:Thee Office Pub\, 128 South Main Street\, Romeo\, MI\, 48065\, United States
GEO:42.801722;-83.013685
X-APPLE-STRUCTURED-LOCATION;VALUE=URI;X-ADDRESS=Thee Office Pub 128 South Main Street Romeo MI 48065 United States;X-APPLE-RADIUS=500;X-TITLE=128 South Main Street:geo:-83.013685,42.801722
END:VEVENT
BEGIN:VEVENT
DTSTART;VALUE=DATE:20260803
DTEND;VALUE=DATE:20260804
DTSTAMP:20260424T034932
CREATED:20210225T025407Z
LAST-MODIFIED:20210225T025407Z
UID:10059-1785715200-1785801599@theeofficepub.com
SUMMARY:Kids Eat Free!
DESCRIPTION:Free kids meal with the purchase of an adult meal\, 12 and under.
URL:https://theeofficepub.com/event/kids-eat-free/2026-08-03/
LOCATION:Thee Office Pub\, 128 South Main Street\, Romeo\, MI\, 48065\, United States
GEO:42.801722;-83.013685
X-APPLE-STRUCTURED-LOCATION;VALUE=URI;X-ADDRESS=Thee Office Pub 128 South Main Street Romeo MI 48065 United States;X-APPLE-RADIUS=500;X-TITLE=128 South Main Street:geo:-83.013685,42.801722
END:VEVENT
BEGIN:VEVENT
DTSTART;VALUE=DATE:20260804
DTEND;VALUE=DATE:20260805
DTSTAMP:20260424T034932
CREATED:20150419T232045Z
LAST-MODIFIED:20150419T232045Z
UID:10111-1785801600-1785887999@theeofficepub.com
SUMMARY:Burger & Brew
DESCRIPTION:1/2 lb. Burger\, Fries and Cold Pint or Fountain Pop for $9
URL:https://theeofficepub.com/event/burger-brew/2026-08-04/
LOCATION:Thee Office Pub\, 128 South Main Street\, Romeo\, MI\, 48065\, United States
GEO:42.801722;-83.013685
X-APPLE-STRUCTURED-LOCATION;VALUE=URI;X-ADDRESS=Thee Office Pub 128 South Main Street Romeo MI 48065 United States;X-APPLE-RADIUS=500;X-TITLE=128 South Main Street:geo:-83.013685,42.801722
END:VEVENT
BEGIN:VEVENT
DTSTART;VALUE=DATE:20260805
DTEND;VALUE=DATE:20260806
DTSTAMP:20260424T034932
CREATED:20150419T232204Z
LAST-MODIFIED:20150419T232204Z
UID:10162-1785888000-1785974399@theeofficepub.com
SUMMARY:1/2 Off Pizza
DESCRIPTION:1/2 off any small or large pizza (specialty pizzas not included)
URL:https://theeofficepub.com/event/2-for-1-pizza/2026-08-05/
LOCATION:Thee Office Pub\, 128 South Main Street\, Romeo\, MI\, 48065\, United States
GEO:42.801722;-83.013685
X-APPLE-STRUCTURED-LOCATION;VALUE=URI;X-ADDRESS=Thee Office Pub 128 South Main Street Romeo MI 48065 United States;X-APPLE-RADIUS=500;X-TITLE=128 South Main Street:geo:-83.013685,42.801722
END:VEVENT
BEGIN:VEVENT
DTSTART;VALUE=DATE:20260809
DTEND;VALUE=DATE:20260810
DTSTAMP:20260424T034932
CREATED:20150419T232802Z
LAST-MODIFIED:20150419T232802Z
UID:10008-1786233600-1786319999@theeofficepub.com
SUMMARY:Sunday Funday
DESCRIPTION:$2 – Pints of Pabst Draft\n1/2 OFF Appetizer with purchase of meal
URL:https://theeofficepub.com/event/sunday-funday/2026-08-09/
LOCATION:Thee Office Pub\, 128 South Main Street\, Romeo\, MI\, 48065\, United States
GEO:42.801722;-83.013685
X-APPLE-STRUCTURED-LOCATION;VALUE=URI;X-ADDRESS=Thee Office Pub 128 South Main Street Romeo MI 48065 United States;X-APPLE-RADIUS=500;X-TITLE=128 South Main Street:geo:-83.013685,42.801722
END:VEVENT
BEGIN:VEVENT
DTSTART;VALUE=DATE:20260810
DTEND;VALUE=DATE:20260811
DTSTAMP:20260424T034932
CREATED:20210225T025407Z
LAST-MODIFIED:20210225T025407Z
UID:10060-1786320000-1786406399@theeofficepub.com
SUMMARY:Kids Eat Free!
DESCRIPTION:Free kids meal with the purchase of an adult meal\, 12 and under.
URL:https://theeofficepub.com/event/kids-eat-free/2026-08-10/
LOCATION:Thee Office Pub\, 128 South Main Street\, Romeo\, MI\, 48065\, United States
GEO:42.801722;-83.013685
X-APPLE-STRUCTURED-LOCATION;VALUE=URI;X-ADDRESS=Thee Office Pub 128 South Main Street Romeo MI 48065 United States;X-APPLE-RADIUS=500;X-TITLE=128 South Main Street:geo:-83.013685,42.801722
END:VEVENT
BEGIN:VEVENT
DTSTART;VALUE=DATE:20260811
DTEND;VALUE=DATE:20260812
DTSTAMP:20260424T034932
CREATED:20150419T232045Z
LAST-MODIFIED:20150419T232045Z
UID:10112-1786406400-1786492799@theeofficepub.com
SUMMARY:Burger & Brew
DESCRIPTION:1/2 lb. Burger\, Fries and Cold Pint or Fountain Pop for $9
URL:https://theeofficepub.com/event/burger-brew/2026-08-11/
LOCATION:Thee Office Pub\, 128 South Main Street\, Romeo\, MI\, 48065\, United States
GEO:42.801722;-83.013685
X-APPLE-STRUCTURED-LOCATION;VALUE=URI;X-ADDRESS=Thee Office Pub 128 South Main Street Romeo MI 48065 United States;X-APPLE-RADIUS=500;X-TITLE=128 South Main Street:geo:-83.013685,42.801722
END:VEVENT
BEGIN:VEVENT
DTSTART;VALUE=DATE:20260812
DTEND;VALUE=DATE:20260813
DTSTAMP:20260424T034932
CREATED:20150419T232204Z
LAST-MODIFIED:20150419T232204Z
UID:10163-1786492800-1786579199@theeofficepub.com
SUMMARY:1/2 Off Pizza
DESCRIPTION:1/2 off any small or large pizza (specialty pizzas not included)
URL:https://theeofficepub.com/event/2-for-1-pizza/2026-08-12/
LOCATION:Thee Office Pub\, 128 South Main Street\, Romeo\, MI\, 48065\, United States
GEO:42.801722;-83.013685
X-APPLE-STRUCTURED-LOCATION;VALUE=URI;X-ADDRESS=Thee Office Pub 128 South Main Street Romeo MI 48065 United States;X-APPLE-RADIUS=500;X-TITLE=128 South Main Street:geo:-83.013685,42.801722
END:VEVENT
BEGIN:VEVENT
DTSTART;VALUE=DATE:20260816
DTEND;VALUE=DATE:20260817
DTSTAMP:20260424T034932
CREATED:20150419T232802Z
LAST-MODIFIED:20150419T232802Z
UID:10009-1786838400-1786924799@theeofficepub.com
SUMMARY:Sunday Funday
DESCRIPTION:$2 – Pints of Pabst Draft\n1/2 OFF Appetizer with purchase of meal
URL:https://theeofficepub.com/event/sunday-funday/2026-08-16/
LOCATION:Thee Office Pub\, 128 South Main Street\, Romeo\, MI\, 48065\, United States
GEO:42.801722;-83.013685
X-APPLE-STRUCTURED-LOCATION;VALUE=URI;X-ADDRESS=Thee Office Pub 128 South Main Street Romeo MI 48065 United States;X-APPLE-RADIUS=500;X-TITLE=128 South Main Street:geo:-83.013685,42.801722
END:VEVENT
BEGIN:VEVENT
DTSTART;VALUE=DATE:20260817
DTEND;VALUE=DATE:20260818
DTSTAMP:20260424T034932
CREATED:20210225T025407Z
LAST-MODIFIED:20210225T025407Z
UID:10061-1786924800-1787011199@theeofficepub.com
SUMMARY:Kids Eat Free!
DESCRIPTION:Free kids meal with the purchase of an adult meal\, 12 and under.
URL:https://theeofficepub.com/event/kids-eat-free/2026-08-17/
LOCATION:Thee Office Pub\, 128 South Main Street\, Romeo\, MI\, 48065\, United States
GEO:42.801722;-83.013685
X-APPLE-STRUCTURED-LOCATION;VALUE=URI;X-ADDRESS=Thee Office Pub 128 South Main Street Romeo MI 48065 United States;X-APPLE-RADIUS=500;X-TITLE=128 South Main Street:geo:-83.013685,42.801722
END:VEVENT
BEGIN:VEVENT
DTSTART;VALUE=DATE:20260818
DTEND;VALUE=DATE:20260819
DTSTAMP:20260424T034932
CREATED:20150419T232045Z
LAST-MODIFIED:20150419T232045Z
UID:10113-1787011200-1787097599@theeofficepub.com
SUMMARY:Burger & Brew
DESCRIPTION:1/2 lb. Burger\, Fries and Cold Pint or Fountain Pop for $9
URL:https://theeofficepub.com/event/burger-brew/2026-08-18/
LOCATION:Thee Office Pub\, 128 South Main Street\, Romeo\, MI\, 48065\, United States
GEO:42.801722;-83.013685
X-APPLE-STRUCTURED-LOCATION;VALUE=URI;X-ADDRESS=Thee Office Pub 128 South Main Street Romeo MI 48065 United States;X-APPLE-RADIUS=500;X-TITLE=128 South Main Street:geo:-83.013685,42.801722
END:VEVENT
BEGIN:VEVENT
DTSTART;VALUE=DATE:20260819
DTEND;VALUE=DATE:20260820
DTSTAMP:20260424T034932
CREATED:20150419T232204Z
LAST-MODIFIED:20150419T232204Z
UID:10164-1787097600-1787183999@theeofficepub.com
SUMMARY:1/2 Off Pizza
DESCRIPTION:1/2 off any small or large pizza (specialty pizzas not included)
URL:https://theeofficepub.com/event/2-for-1-pizza/2026-08-19/
LOCATION:Thee Office Pub\, 128 South Main Street\, Romeo\, MI\, 48065\, United States
GEO:42.801722;-83.013685
X-APPLE-STRUCTURED-LOCATION;VALUE=URI;X-ADDRESS=Thee Office Pub 128 South Main Street Romeo MI 48065 United States;X-APPLE-RADIUS=500;X-TITLE=128 South Main Street:geo:-83.013685,42.801722
END:VEVENT
BEGIN:VEVENT
DTSTART;VALUE=DATE:20260823
DTEND;VALUE=DATE:20260824
DTSTAMP:20260424T034932
CREATED:20150419T232802Z
LAST-MODIFIED:20150419T232802Z
UID:10010-1787443200-1787529599@theeofficepub.com
SUMMARY:Sunday Funday
DESCRIPTION:$2 – Pints of Pabst Draft\n1/2 OFF Appetizer with purchase of meal
URL:https://theeofficepub.com/event/sunday-funday/2026-08-23/
LOCATION:Thee Office Pub\, 128 South Main Street\, Romeo\, MI\, 48065\, United States
GEO:42.801722;-83.013685
X-APPLE-STRUCTURED-LOCATION;VALUE=URI;X-ADDRESS=Thee Office Pub 128 South Main Street Romeo MI 48065 United States;X-APPLE-RADIUS=500;X-TITLE=128 South Main Street:geo:-83.013685,42.801722
END:VEVENT
BEGIN:VEVENT
DTSTART;VALUE=DATE:20260824
DTEND;VALUE=DATE:20260825
DTSTAMP:20260424T034932
CREATED:20210225T025407Z
LAST-MODIFIED:20210225T025407Z
UID:10062-1787529600-1787615999@theeofficepub.com
SUMMARY:Kids Eat Free!
DESCRIPTION:Free kids meal with the purchase of an adult meal\, 12 and under.
URL:https://theeofficepub.com/event/kids-eat-free/2026-08-24/
LOCATION:Thee Office Pub\, 128 South Main Street\, Romeo\, MI\, 48065\, United States
GEO:42.801722;-83.013685
X-APPLE-STRUCTURED-LOCATION;VALUE=URI;X-ADDRESS=Thee Office Pub 128 South Main Street Romeo MI 48065 United States;X-APPLE-RADIUS=500;X-TITLE=128 South Main Street:geo:-83.013685,42.801722
END:VEVENT
BEGIN:VEVENT
DTSTART;VALUE=DATE:20260825
DTEND;VALUE=DATE:20260826
DTSTAMP:20260424T034932
CREATED:20150419T232045Z
LAST-MODIFIED:20150419T232045Z
UID:10114-1787616000-1787702399@theeofficepub.com
SUMMARY:Burger & Brew
DESCRIPTION:1/2 lb. Burger\, Fries and Cold Pint or Fountain Pop for $9
URL:https://theeofficepub.com/event/burger-brew/2026-08-25/
LOCATION:Thee Office Pub\, 128 South Main Street\, Romeo\, MI\, 48065\, United States
GEO:42.801722;-83.013685
X-APPLE-STRUCTURED-LOCATION;VALUE=URI;X-ADDRESS=Thee Office Pub 128 South Main Street Romeo MI 48065 United States;X-APPLE-RADIUS=500;X-TITLE=128 South Main Street:geo:-83.013685,42.801722
END:VEVENT
BEGIN:VEVENT
DTSTART;VALUE=DATE:20260826
DTEND;VALUE=DATE:20260827
DTSTAMP:20260424T034932
CREATED:20150419T232204Z
LAST-MODIFIED:20150419T232204Z
UID:10165-1787702400-1787788799@theeofficepub.com
SUMMARY:1/2 Off Pizza
DESCRIPTION:1/2 off any small or large pizza (specialty pizzas not included)
URL:https://theeofficepub.com/event/2-for-1-pizza/2026-08-26/
LOCATION:Thee Office Pub\, 128 South Main Street\, Romeo\, MI\, 48065\, United States
GEO:42.801722;-83.013685
X-APPLE-STRUCTURED-LOCATION;VALUE=URI;X-ADDRESS=Thee Office Pub 128 South Main Street Romeo MI 48065 United States;X-APPLE-RADIUS=500;X-TITLE=128 South Main Street:geo:-83.013685,42.801722
END:VEVENT
BEGIN:VEVENT
DTSTART;VALUE=DATE:20260830
DTEND;VALUE=DATE:20260831
DTSTAMP:20260424T034932
CREATED:20150419T232802Z
LAST-MODIFIED:20150419T232802Z
UID:10011-1788048000-1788134399@theeofficepub.com
SUMMARY:Sunday Funday
DESCRIPTION:$2 – Pints of Pabst Draft\n1/2 OFF Appetizer with purchase of meal
URL:https://theeofficepub.com/event/sunday-funday/2026-08-30/
LOCATION:Thee Office Pub\, 128 South Main Street\, Romeo\, MI\, 48065\, United States
GEO:42.801722;-83.013685
X-APPLE-STRUCTURED-LOCATION;VALUE=URI;X-ADDRESS=Thee Office Pub 128 South Main Street Romeo MI 48065 United States;X-APPLE-RADIUS=500;X-TITLE=128 South Main Street:geo:-83.013685,42.801722
END:VEVENT
BEGIN:VEVENT
DTSTART;VALUE=DATE:20260831
DTEND;VALUE=DATE:20260901
DTSTAMP:20260424T034932
CREATED:20210225T025407Z
LAST-MODIFIED:20210225T025407Z
UID:10063-1788134400-1788220799@theeofficepub.com
SUMMARY:Kids Eat Free!
DESCRIPTION:Free kids meal with the purchase of an adult meal\, 12 and under.
URL:https://theeofficepub.com/event/kids-eat-free/2026-08-31/
LOCATION:Thee Office Pub\, 128 South Main Street\, Romeo\, MI\, 48065\, United States
GEO:42.801722;-83.013685
X-APPLE-STRUCTURED-LOCATION;VALUE=URI;X-ADDRESS=Thee Office Pub 128 South Main Street Romeo MI 48065 United States;X-APPLE-RADIUS=500;X-TITLE=128 South Main Street:geo:-83.013685,42.801722
END:VEVENT
END:VCALENDAR